Workbook

Sheet Titulní strana
A6: Název projektu: Zajištění redesignu agendy zaměstnanosti s ohledem na digitalizaci procesů a snížení administrativní zátěže
A7: Registrační číslo projektu: CZ.31.2.0/0.0/0.0/23_090/0010634
A8: Verze dokumentu k API: 1.4.1.2.3
A9: MPSV poskytuje dodavatelům za účelem analýzy dopadů zákona o JMHZ popis datových položek, které budou zaměstnavatelé uvádět v povinných hlášeních podle připravovaného zákona o JMHZ. Popis je poskytován s výhradou případných změn, protože u zákona o JMHZ ani u nařízení vlády, které bude zákonné povinnosti předávat povinná hlášení konkretizovat, ještě nebyl ukončen legislativní proces a v jeho průběhu nejsou vyloučeny změny vyvolané průběhem zbývající části legislativního procesu. Změny mohou být nutné, pokud dojde k uplatnění pozměňovacích návrhů v Senátu a jejich schválení Poslaneckou sněmovnou. Rovněž nelze vyloučit změny v případě zásadních připomínek uplatněných při projednávání nařízení vlády k JMHZ Legislativní radou vlády ČR.

Sheet MH
A1: ID Kontroly kód chyby DIS = ID Kontroly + 20000 kód chyby cJMHZ = ID kontroly + 40000 | B1: Název kontroly | C1: Seznam ID atributů, kterých se kontrola týká | D1: Oblast atributu z DS (dat. slovník) | E1: Typ formuláře (v závorce identifikátor oblasti chyby na systému DIS) | F1: Systém realizující prevalidační kontrolu pro ePortál / „n/a“ – not available | G1: Propustnost / Nepropustnost kontroly pro prevalidační kontrolu na ePortálu | H1: Systém realizující kontrolu [DIS / cJMHZ / „n/a“ – not available] | I1: Propustnost / Nepropustnost kontrol na DIS nebo cJMHZ | J1: Kategorie kontroly | K1: Detailní popis prováděné kontroly | L1: Chybová hláška | M1: Zdroj kontroly z as-is stavu anebo "nová" | N1: Poznámka
A2: 1 | B2: Počet zaměstnanců se slevou | C2: 10030 10372 | D2: Přehled o výši pojistného | E2: Formulář PVPOJ a zaměstnance | F2: ePortál | G2: propustná | H2: cJMHZ | I2: propustná | J2: F5 | K2: Počet zaměstnanců, za které zaměstnavatel uplatňuje slevu na pojistném s vyplněnými údaji jednotlivých zaměstnanců (10372) = "ANO" musí být = Počet zaměstnanců (10030). --- 10030 Počet zaměstnanců 10372 Sleva na pojistném | L2: Nesouhlasí počet zaměstnanců, za které zaměstnavatel uplatňuje slevu na pojistném. | M2: nová
A3: 3 | B3: Sleva na pojistném | C3: 10032 10031 | D3: Přehled o výši pojistného | E3: Formulář PVPOJ (pvpoj) | F3: ePortál | G3: nepropustná | H3: DIS | I3: nepropustná | J3: F4 | K3: ="Sleva na pojistném (10032) (zaokrouhlená na celé koruny nahoru) = "& 'Parametrické konstanty'!D6 &" % úhrnu vyměřovacích základů zaměstnanců (10031). --- 10031 Úhrn vyměřovacích základů zaměstnanců 10032 Sleva na pojistném zaměstnavatele " -> Sleva na pojistném (10032) (zaokrouhlená na celé koruny nahoru) = 5 % úhrnu vyměřovacích základů zaměstnanců (10031). --- 10031 Úhrn vyměřovacích základů zaměstnanců 10032 Sleva na pojistném zaměstnavatele | L3: Sleva na pojistném neodpovídá úhrnu vyměřovacích základů zaměstnanců, za které je uplatňována. | M3: PVPOJ 2023 1.1 | N3: OŘ3: ČSSZ-215
A4: 4 | B4: Vypočítané pojistné k úhradě | C4: 10033 10029 10032 10487 10545 | D4: Přehled o výši pojistného | E4: Formulář PVPOJ (pvpoj) | F4: ePortál | G4: nepropustná | H4: DIS | I4: nepropustná | J4: F4 | K4: (10033) = (10029 - 10032 - 10487 - 10545) --- 10033 Vypočítané pojistné 10029 Pojistné celkem 10032 Sleva na pojistném zaměstnavatele 10487 Úhrn slev na pojistném zaměstnanců (pracující důchodci) 10545 Úhrn slev na pojistném zaměstnanců (ovocnáři) | L4: Pojistné k úhradě neodpovídá vykázánému pojistnému celkem a případně odečítané slevě na pojistném zaměstnavatele či odečítaným úhrnům slev na pojistném zaměstnanců (pracujících důchodců a ovocnářů včetně). | M4: PVPOJ 2023 1.1 | N4: OŘ3: ČSSZ-215
A5: 7 | B5: Úhrn vyměřovacích základů zaměstnanců zaměstnavatele, kteří nevykonávají činnost v rizikovém zaměstnání nebo činnost zdravotnického záchranáře nebo člena jednotky HZS podniku je roven vyměřovacím základům všech příslušných zaměstnanců | C5: 10023 10477 10478 10239 10502 | D5: Přehled o výši pojistného | E5: Formulář PVPOJ a zaměstnance | F5: ePortál | G5: propustná | H5: cJMHZ | I5: propustná | J5: F5 | K5: Úhrn vyměřovacích základů zaměstnanců zaměstnavatele, kteří nevykonávají činnost v rizikovém zaměstnání nebo činnost zdravotnického záchranáře nebo člena jednotky HZS podniku (10023) se pro datové scénáře je vypočten: 1) činnosti K až S: (10239) = "K" až "S" nebo, (10239) = "1" až "9" s příznakem (10502) = "Pracovní vztah specifické skupiny" 2) pěstoun: (10239) = "M", (10023) = ∑ (n) vyměřovacích základů dotčených zaměstnanců (10477) pro ostatní dat. scénáře: (10023) = ∑ (n) vyměřovacích základů dotčených zaměstnanců (10478). --- 10023 Úhrn vyměřovacích základů zaměstnanců, kteří nevykonávají činnost v rizikovém zaměstnání nebo nejsou zdravotnickými záchranáři nebo členy HZS podniku 10477 Částka vyměřovacího základu zaměstnance, ze které je odváděno pojistné 10478 Částka vyměřovacího základu zaměstnance, která vstupuje do částky vyměřovacího základu zaměstnavatele podle § 5a odst. 1 písm. a) ZPSZ 10239 Druh činnosti 10502 Bližší určení pracovněprávního vztahu | L5: Úhrn nesouhlasí se součtem vyměřovacích základů dotčených zaměstnanců, kteří nevykonávají činnost v rizikovém zaměstnání nebo činnost zdravotnického záchranáře nebo člena jednotky HZS podniku. | M5: nová | N5: OŘ3: ČSSZ-216
A6: 8 | B6: Pojistné za zaměstnavatele u zaměstnanců, kteří nevykonávají činnost v rizikovém zaměstnání nebo činnost zdravotnického záchranáře nebo člena jednotky HZS podniku | C6: 10024 10023 | D6: Přehled o výši pojistného | E6: Formulář PVPOJ (pvpoj) | F6: ePortál | G6: nepropustná | H6: DIS | I6: nepropustná | J6: F4 | K6: ="Pojistné za zaměstnavatele (10024) = " & 'Parametrické konstanty'!D3 & " * Úhrn vyměřovacích základů zaměstnanců (10023), kteří nevykonávají činnost v rizikovém zaměstnání nebo činnost zdravotnického záchranáře nebo člena jednotky HZS podniku a nevykonávají rizikové zaměstnání. Zaokrohluje se na celé koruny nahoru." & CHAR(10) & "---" & CHAR(10) & "10023 Úhrn vyměřovacích základů zaměstnanců, kteří nevykonávají činnost v rizikovém zaměstnání nebo nejsou zdravotnickými záchranáři nebo členy HZS podniku" & CHAR(10) & "10024 Pojistné za zaměstnavatele u zaměstnanců, kteří nevykonávají činnost v rizikovém zaměstnání nebo nejsou zdravotnickými záchranáři nebo členy HZS podniku" -> Pojistné za zaměstnavatele (10024) = 0.248 * Úhrn vyměřovacích základů zaměstnanců (10023), kteří nevykonávají činnost v rizikovém zaměstnání nebo činnost zdravotnického záchranáře nebo člena jednotky HZS podniku a nevykonávají rizikové zaměstnání. Zaokrohluje se na celé koruny nahoru. --- 10023 Úhrn vyměřovacích základů zaměstnanců, kteří nevykonávají činnost v rizikovém zaměstnání nebo nejsou zdravotnickými záchranáři nebo členy HZS podniku 10024 Pojistné za zaměstnavatele u zaměstnanců, kteří nevykonávají činnost v rizikovém zaměstnání nebo nejsou zdravotnickými záchranáři nebo členy HZS podniku | L6: Vykázané pojistné neodpovídá vykázánému úhrnu vyměřovacích základů zaměstnanců, kteří nevykonávají činnost v rizikovém zaměstnání nebo činnost zdravotnického záchranáře nebo člena jednotky HZS podniku. | M6: nová | N6: OŘ3: ČSSZ-215
A7: 9 | B7: Úhrn vyměřovacích základů zaměstnanců, kteří jsou zdravotnickými záchranáři nebo členy HZS podniku | C7: 10025 10479 | D7: Přehled o výši pojistného | E7: Formulář PVPOJ a zaměstnance | F7: ePortál | G7: propustná | H7: cJMHZ | I7: propustná | J7: F5 | K7: Úhrn vyměřovacích základů zaměstnanců, kteří jsou zdravotnickými záchranáři nebo členy HZS podniku (10025) se = ∑ (n) vyměřovacích základů dotčených zaměstnanců (10479). --- 10025 Úhrn vyměřovacích základů zaměstnanců, kteří jsou zdravotnickými záchranáři nebo členy HZS podniku 10479 Částka vyměřovacího základu zaměstnance, která vstupuje do částky vyměřovacího základu zaměstnavatele podle § 5a odst. 1 písm. b) ZPSZ | L7: Úhrn nesouhlasí se součtem vyměřovacích základů dotčených zaměstnanců, kteří jsou zdravotnickými záchranáři nebo členy HZS podniku. | M7: nová | N7: OŘ3: ČSSZ-216
A8: 10 | B8: Pojistné za zaměstnavatele u zaměstnanců, kteří jsou zdravotnickými záchranáři nebo členy HZS podniku | C8: 10026 10025 | D8: Přehled o výši pojistného | E8: Formulář PVPOJ (pvpoj) | F8: ePortál | G8: nepropustná | H8: DIS | I8: nepropustná | J8: F4 | K8: ="Pojistné za zaměstnavatele (10026) = " & 'Parametrické konstanty'!D4 & " * Úhrn vyměřovacích základů zaměstnanců (10025), kteří jsou zdr. Záchranáři nebo členy HZS. Zaokrohluje se na celé koruny nahoru."& CHAR(10) & "---" & CHAR(10) & "10025 Úhrn vyměřovacích základů zaměstnanců, kteří jsou zdravotnickými záchranáři nebo členy HZS podniku" & CHAR(10) & "10026 Pojistné za zaměstnavatele u zaměstnanců, kteří jsou zdravotnickými záchranáři nebo členy HZS podniku" -> Pojistné za zaměstnavatele (10026) = 0.298 * Úhrn vyměřovacích základů zaměstnanců (10025), kteří jsou zdr. Záchranáři nebo členy HZS. Zaokrohluje se na celé koruny nahoru. --- 10025 Úhrn vyměřovacích základů zaměstnanců, kteří jsou zdravotnickými záchranáři nebo členy HZS podniku 10026 Pojistné za zaměstnavatele u zaměstnanců, kteří jsou zdravotnickými záchranáři nebo členy HZS podniku | L8: Vykázané pojistné neodpovídá vykázanému úhrnu vyměřovacích základů zaměstnanců, kteří jsou zdravotnickými záchranáři nebo členy HZS podniku. | M8: nová | N8: OŘ3: ČSSZ-215
A9: 11 | B9: Pojistné za zaměstnavatele celkem | C9: 10027 10024 10026 10484 | D9: Přehled o výši pojistného | E9: Formulář PVPOJ (pvpoj) | F9: ePortál | G9: nepropustná | H9: DIS | I9: nepropustná | J9: F4 | K9: Pojistné za zaměstnavatele celkem (10027) = (10024 + 10026 + 10484) --- 10024 Pojistné za zaměstnavatele u zaměstnanců, kteří nevykonávají činnost v rizikovém zaměstnání nebo nejsou zdravotnickými záchranáři nebo členy HZS podniku 10026 Pojistné za zaměstnavatele u zaměstnanců, kteří jsou zdravotnickými záchranáři nebo členy HZS podniku 10484 Pojistné za zaměstnavatele u zaměstnanců, kteří vykonávají rizikové zaměstnání 10027 Pojistné za zaměstnavatele celkem (součet úhrnů) | L9: Vykázané pojistné za zaměstnavatele neodpovídá vykázaným dílčím hodnotám. | M9: nová | N9: OŘ3: ČSSZ-215
A10: 12 | B10: Pojistné za zaměstnance | C10: 10028 10370 10502 | D10: Přehled o výši pojistného | E10: Formulář PVPOJ a zaměstnance | F10: ePortál | G10: propustná | H10: cJMHZ | I10: propustná | J10: F5 | K10: Pojistné za zaměstnance (10028) = ∑ (n) pojistného všech zaměstnanců (10370), v rámci kontroly se nevyhodnocují datové scénáře, které podle definice neobsahují atribut (10370). --- 10028 Pojistné za zaměstnance 10370 Sociální pojištění 10502 Bližší určení pracovněprávního vztahu | L10: Pojistné za zaměstnance nesouhlasí se součtem pojistného za všechny jednotlivé zaměstnance. | M10: nová
A11: 13 | B11: Pojistné celkem | C11: 10029 10028 10027 | D11: Přehled o výši pojistného | E11: Formulář PVPOJ (pvpoj) | F11: ePortál | G11: nepropustná | H11: DIS | I11: nepropustná | J11: F4 | K11: Pojistné celkem (10029) = Pojistné za zaměstnavatele celkem (10027) + Pojistné za zaměstnance (10028). --- 10027 Pojistné za zaměstnavatele celkem (součet úhrnů) 10028 Pojistné za zaměstnance 10029 Pojistné celkem | L11: Vykázané pojistné celkem neodpovídá vykázanému pojistnému za zaměstnance a pojistnému za zaměstnavatele. | M11: nová | N11: OŘ3: ČSSZ-215
A12: 15 | B12: Maximální možný odpracovaný počet hodin v měsíci pro pracovní/služební poměry (kromě zdravotníků, tam bude muset být nastaven limit v závislosti na platné legislativě v době spuštění pilotu/ostrého provozu) S ohledem na max. možný počet týdnů v měsíci (5) je limit nastaven na: 5*48 (tj. 40 + 8 hodin přesčasů) =240 | C12: 10268 10239 10249 | D12: Průběh zaměstnání v daném měsíci | E12: Formulář zaměstnance (form) | F12: ePortál | G12: nepropustná | H12: cJMHZ | I12: propustná | J12: F5 | K12: ="Platí jen pro pracovní nebo služební poměr tedy: pro pracovní poměr (10239) je 1 až 9 nebo pro služební poměr (10249) kód začíná 13, pak platí že, počet odpracovaných hodin (10268) musí být <= " & 'Parametrické konstanty'!D11 & ". --- 10239 Druh činnosti 10268 Počet odpracovaných hodin 10249 Postavení v zaměstnání " -> Platí jen pro pracovní nebo služební poměr tedy: pro pracovní poměr (10239) je 1 až 9 nebo pro služební poměr (10249) kód začíná 13, pak platí že, počet odpracovaných hodin (10268) musí být <= 240. --- 10239 Druh činnosti 10268 Počet odpracovaných hodin 10249 Postavení v zaměstnání | L12: Překročen maximální možný počet odpracovaných hodin, zkontrolujte položku. Uvedená chyba nebrání podání. | M12: nová | N12: PŘ3: ČSSZ-180
A13: 20 | B13: Odpracované hodiny | C13: 10268 10269 | D13: Průběh zaměstnání v daném měsíci | E13: Formulář zaměstnance (form) | F13: ePortál | G13: nepropustná | H13: DIS | I13: nepropustná | J13: F4 | K13: Počet odpracovaných hodin (10268) >= počet přesčasových hodin (10269). --- 10268 Počet odpracovaných hodin 10269 Přesčasové hodiny (z odpracovaných) | L13: Přesčasové hodiny převyšují odpracované hodiny. | M13: nová
A14: 23 | B14: Složení počtu neodpracovaných hodin s náhradou či nekrácením mzdy | C14: 10276 10279 | D14: Průběh zaměstnání v daném měsíci | E14: Formulář zaměstnance (form) | F14: ePortál | G14: nepropustná | H14: DIS | I14: nepropustná | J14: F4 | K14: Počet neodpracovaných hodin s náhradou či nekrácením mzdy (10276) >= Počet neodpracovaných hodin v důsledku čerpání dovolené na zotavenou (10279). --- 10276 Počet neodpracovaných hodin s náhradou či nekrácením mzdy 10279 Počet neodpracovaných hodin v důsledku čerpání dovolené na zotavenou | L14: Chybný počet neodpracovaných hodin s náhradou či nekrácením mzdy. | M14: nová
A15: 28 | B15: Mzda zúčtovaná | C15: 10328 10329 10330 10331 10332 10333 | D15: Mzda | E15: Formulář zaměstnance (form) | F15: ePortál | G15: nepropustná | H15: DIS | I15: nepropustná | J15: F4 | K15: Mzda zúčtovaná (10328) >= Tarifní mzdy (10329) + Prémie a odměny pravidelné (10330) + Prémie a odměny nepravidelné (10331) + Příplatky celkem (10332) + Příplatky za práci přesčas (10333) --- 10328 Mzda za práci zúčtovaná 10329 Tarifní mzdy 10330 Prémie a odměny pravidelné 10331 Prémie a odměny nepravidelné 10332 Příplatky celkem 10333 Příplatky za práci přesčas | L15: Mzda zúčtovaná je menší než součet jejích složek. | M15: nová | N15: OŘ3: ČSÚ-11
A16: 29 | B16: Příplatky | C16: 10332 10334 10335 10336 | D16: Mzda | E16: Formulář zaměstnance (form) | F16: ePortál | G16: nepropustná | H16: DIS | I16: nepropustná | J16: F4 | K16: Příplatky celkem (10332) >= Příplatky za práci v noci (10334) + Příplatky za práci o sobotách a nedělích (10335) + Příplatky za práci ve svátek (10336) --- 10332 Příplatky celkem 10334 Příplatky za práci v noci 10335 Příplatky za práci o sobotách a nedělích 10336 Příplatky za práci ve svátek | L16: Příplatky jsou nižší než součet jednotlivých příplatků. | M16: nová | N16: OŘ3: ČSÚ-11
A17: 34 | B17: Počet neodpracovaných hodin z důvodu dočasné pracovní neschopnosti x náhrady mzdy za dočasnou pracovní neschopnost | C17: 10342 10278 | D17: Mzda | E17: Formulář zaměstnance (form) | F17: ePortál | G17: nepropustná | H17: DIS | I17: nepropustná | J17: F4 | K17: Pakliže je počet neodpracovaných hodin z důvodu dočasné pracovní neschopnosti, za které je ze strany zaměstnavatele poskytována náhrada mzdy (10278) > 0, pak Náhrady při dočasné pracovní neschopnosti (10342) > 0. --- 10278 Počet neodpracovaných hodin z důvodu dočasné pracovní neschopnosti, za které je ze strany zaměstnavatele poskytována náhrada mzdy 10342 Náhrady při dočasné pracovní neschopnosti (bez srážek nad rámec §192/3 zákoníku práce) | L17: Pokud je vyplněn počet neodpracovaných hodin z důvodu dočasné pracovní neschopnosti, musí být zároveň vyplněna náhrada při dočasné pracovní neschopnosti. | M17: nová
A18: 35 | B18: Počet neodpracovaných hodin z důvodu čerpání dovolené na zotavenou x náhrady mzdy za dovolenou | C18: 10338 10279 | D18: Mzda | E18: Formulář zaměstnance (form) | F18: ePortál | G18: nepropustná | H18: DIS | I18: nepropustná | J18: F4 | K18: Pokud Počet neodpracovaných hodin v důsledku čerpání dovolené na zotavenou (10279) > 0 pak, Náhrady za dovolenou (10338) > 0. --- 10279 Počet neodpracovaných hodin v důsledku čerpání dovolené na zotavenou 10338 Náhrady za dovolenou | L18: Chybí údaj k náhradě za dovolenou. | M18: nová | N18: OŘ3: ČSÚ-11
A19: 36 | B19: Počet přesčasových hodin x příplatky za práci přesčas | C19: 10333 10269 | D19: Mzda | E19: Formulář zaměstnance (form) | F19: ePortál | G19: nepropustná | H19: DIS | I19: nepropustná | J19: F4 | K19: Pokud Počet přesčasových hodin (10269) > 0 pak, Příplatky za práci přesčas (10333) >= 0. --- 10269 Přesčasové hodiny (z odpracovaných) 10333 Příplatky za práci přesčas | L19: Chybí údaj k příplatkům za přesčas. | M19: nová
A20: 37 | B20: Formát IK MPSV | C20: 10051 | D20: Zaměstnanec / Žák / Student | E20: Formulář zaměstnance (form) | F20: ePortál | G20: nepropustná | H20: DIS | I20: nepropustná | J20: F4 | K20: Regulární výraz pro IKMPSV (10051): délka 10 číslic, z toho na prvních 9 se aplikuje modulo 11, 10. číslice je kontrolní a odpovídá zbytku z dělení prvních 9 číslic číslem 11 --- 10051 IK MPSV (Osobní identifikační číslo - OIČ) | L20: IK MPSV neodpovídá formátu. | M20: nová
A21: 42 | B21: Kontrola atributů v rámci slev na pojistném jsou vázany k druhu činnosti v rozsahu 1 až 9 | C21: 10372 10239 10502 | D21: Vykonávaná pozice zaměstnance | E21: Formulář zaměstnance (form) | F21: ePortál | G21: nepropustná | H21: cJMHZ | I21: nepropustná | J21: F5 | K21: Když je (10239) v rozmezí "1" až "9" a (10502) není "výkon trestu odnětí svobody" nebo není "pracovní vztah specifické skupiny", pak (10372) může nabývat "ANO" nebo "NE" --- 10372 Sleva na pojistném zaměstnavatele 10239 Druh činnosti 10502 Bližší určení pracovněprávního vztahu | L21: Slevu na pojistném zaměstnavatele lze uplatnit (uvést "ANO" v atributu 10372) pouze za zaměstnance s druhem činnosti 1 až 9. | M21: nová | N21: V ostatních případech nesplňujících vstupní podmínku se 10372 neposílá.
A22: 43 | B22: Pojištění od | C22: 10354 10355 10005 | D22: Průběh pojištění v daném měsíci | E22: Formulář zaměstnance (form) | F22: ePortál | G22: nepropustná | H22: DIS | I22: nepropustná | J22: F4 | K22: 1) datum od (10354) <= datum do (10355) 2) datum od (10354) <= datum vyplnění formuláře (10005) --- 10005 Datum a čas vyplnění podání 10354 Pojištění od 10355 Pojištění do | L22: Chybné datum od. | M22: nová
A23: 44 | B23: Pojištění do | C23: 10355 10354 10005 | D23: Průběh pojištění v daném měsíci | E23: Formulář zaměstnance (form) | F23: ePortál | G23: nepropustná | H23: DIS | I23: nepropustná | J23: F4 | K23: 1) datum do (10355) > = datum od (10354) 2) datum do (10355) <= datum vyplnění formuláře (10005) --- 10005 Datum a čas vyplnění podání 10354 Pojištění od 10355 Pojištění do | L23: Chybné datum do. | M23: nová
A24: 45 | B24: Rozsah kratší pracovní/služební doby | C24: 10373 | D24: Průběh pojištění v daném měsíci | E24: Formulář zaměstnance (form) | F24: ePortál | G24: nepropustná | H24: DIS | I24: nepropustná | J24: F4 | K24: ="(10373) musí být nejvýše "& ('Parametrické konstanty'!D12) &" hodin --- 10373 Rozsah kratší pracovní/služební doby " -> (10373) musí být nejvýše 30 hodin --- 10373 Rozsah kratší pracovní/služební doby | L24: Uvedený počet hodin překračuje limit stanovený právní úpravou (30 hodin). | M24: PVPOJ 2023 1.1
A25: 50 | B25: Vyměřovací základ není vyplněn | C25: 10245 | D25: Průběh pojištění v daném měsíci | E25: Formulář zaměstnance (form) | F25: ePortál | G25: nepropustná | H25: DIS | I25: nepropustná | J25: F4 | K25: Je-li Vyměřovací základ uveden, musí být (10245) >= 0 --- 10245 Vyměřovací základ | L25: Vyměřovací základ nesmí být záporný. | M25: nová | N25: PŘ3: ČSSZ-202
A26: 56 | B26: Datum dosažení expozice NPE | C26: 10272 10005 | D26: Průběh zaměstnání v daném měsíci | E26: Formulář zaměstnance (form) | F26: ePortál | G26: nepropustná | H26: DIS | I26: nepropustná | J26: F4 | K26: Datum dosažení expozice NPE (10272) není větší než datum vyplnění podání (10005). --- 10005 Datum a čas vyplnění podání 10272 Datum dosažení expozice NPE | L26: Datum musí být nižší než datum vyplnění podání. | M26: nová
A27: 57 | B27: Počet odpracovaných hodin v rámci rizikové práce (§ 37d odst. 2 ZDP), práce zdravotnického záchranáře (§ 37d odst. 3) a práce člena jednotky HZS podniku (§ 37d odst. 3) není větší než počet odpracovaných hodin | C27: 10273 10268 | D27: Průběh zaměstnání v daném měsíci | E27: Formulář zaměstnance (form) | F27: ePortál | G27: nepropustná | H27: DIS | I27: nepropustná | J27: F4 | K27: Počet odpracovaných hodin v rámci rizikové práce je (10273) < = Počtu odpracovaných hodin (10268). --- 10268 Počet odpracovaných hodin 10273 Počet odpracovaných hodin v rámci rizikové práce (§ 37d odst. 2 ZDP), práce zdravotnického záchranáře (§ 37d odst. 3) a práce člena jednotky HZS podniku (§ 37d odst. 3) | L27: Počet odpracovaných hodin rizikové práce je větší než počet odpracovaných hodin. | M27: nová
A28: 58 | B28: Počet kalendářních dnů trvání pojištění v daném kalendářním měsíci | C28: 10356 10010 10011 10537 10538 | D28: Průběh pojištění v daném měsíci | E28: Formulář zaměstnance (form) | F28: ePortál | G28: nepropustná | H28: DIS | I28: nepropustná | J28: F4 | K28: Uvedený počet dnů (10356) <= počet dnů v daném měsíci (10010), v roce (10011 - pro přestupné roky), pouze datový scénář odložený příjem (formOdlozenyPrijem.xsd) se vyhodnocuje jinak: uvedený počet dnů (10356) <= počet dnů v daném měsíci (10537), v roce (10538 - pro přestupné roky). --- 10356 Počet kalendářních dnů trvání doby důchodového pojištění v daném kalendářním měsíci 10010 Měsíc 10011 Rok 10537 Měsíc, za který je hlášeno 10538 Rok, za který je hlášeno | L28: Neodpovídá možnému počtu dnů v kalendářním měsíci. | M28: nová
A29: 59 | B29: Vyměřovací základ s podmínkami | C29: 10240 10245 10356 10357 10375 10241 10242 | D29: Průběh pojištění v daném měsíci | E29: Formulář zaměstnance (form) | F29: ePortál | G29: nepropustná | H29: DIS | I29: nepropustná | J29: F4 | K29: 1.: je-li druhá pozice údaje Kód ELDP = P pak údaj Vyměřovací základ (10245) musí být uveden 2.: je-li údaj Započtené dny (10356) = údaji Vyloučené doby (10357) a současně je-li druhá pozice údaje Kód ELDP ≠ D, pak údaj Vyměřovací základ (10245) = 0. 3.: je-li v ELDP záznamech zachycena skutečnost, že zaměstnanec dovršil důchodový věk a zároveň jsou splněny následují podmínky: a) v ELDP záznamu pro důchod je činnost (druhá pozice údaje) Kód ELDP = D a zároveň údaj Započtené dny (10356) je neprázdný, b) a v obou ELDP záznamech jsou totožné druhy činností na prvních pozicích v obou kódech ELDP (10245), c) a na obou ELDP záznamech se musí jednat o zaměstnání stejného rozsahu, d) a doby platnosti kódu ELDP (10241, 10242) v těchto záznamech na sebe bezprostředně navazují, pak se údaj Vyměřovací základ v řádku doby pojištění před dovršením důchodového věku se uvádí jako (10245) = 0. 4.: je-li druhá pozice údaje Kód ELDP = D a údaj Započtené dny (10356) = 0 a údaj Odečtené doby (10375) = údaji Vyloučené doby (10357), pak se údaj Vyměřovacího základu uvádí jako (10245) = 0. 5.: je-li druhá pozice údaje Kód ELDP (10240) ≠ D nebo (10240) ≠ P a údaj Započtené dny (10356) = 0, pak se údaj Vyměřovací základ uvádí jako (10245) = 0. --- 10240 Kód ELDP 10245 Vyměřovací základ 10356 Počet kalendářních dnů trvání doby důchodového pojištění v daném kalendářním měsíci (Započtené dny) 10357 Vyloučené doby 10375 Odečtené doby 10241 Platnost kódu od 10242 Platnost kódu do | L29: Chybně uvedený vyměřovací základ. | M29: nová | N29: OŘ3: ČSSZ-206 OŘ3: ČSSZ-205
A30: 60 | B30: Datum nastání specifické právní skutečnosti | C30: 10409 10005 | D30: Souhrnná vrstva | E30: Souhrnná vrstva (souhrn) | F30: ePortál | G30: nepropustná | H30: DIS | I30: nepropustná | J30: F4 | K30: Datum nastání specifické právní skutečnosti (10409) musí být menší než datum podání (10005). --- 10005 Datum a čas vyplnění podání 10409 Datum nastání specifické právní skutečnosti | L30: Datum nastání specifické právní skutečnosti musí být menší než datum podání. | M30: nová
A31: 61 | B31: Globální kontrola XSD schématu | D31: JMHZ obecně | E31: Měsíční podání JMHZ (global) | F31: ePortál | G31: nepropustná | H31: DIS | I31: nepropustná | J31: T4 | K31: Kontrola XML proti XSD (kontrola čitelnosti) - zjednodušené XSD | L31: Vaše e-Podání neprošlo validací proti XML schématu. Detail chyby: | M31: nová
A32: 72 | B32: Vyplnění položky Zúčtovaný příjem - celkem | C32: 10286 | D32: Souhrnná data zaměstnance | E32: Formulář zaměstnance (form) | F32: ePortál | G32: nepropustná | H32: DIS | I32: nepropustná | J32: F4 | K32: (10286) nesmí být záporné číslo --- 10286 Zúčtovaný příjem - celkem | L32: Musí být uvedena hodnota větší nebo rovna nule. | M32: nová | N32: OŘ3: ČSSZ-174, DIS řešeno na úrovni XSD
A33: 74 | B33: Výše vyplaceného měsíčního daňového bonusu | C33: 10306 | D33: Souhrnná data zaměstnance | E33: Formulář zaměstnance (form) | F33: ePortál | G33: nepropustná | H33: cJMHZ | I33: propustná | J33: F5 | K33: ="(10306) může nabývat jen hodnoty větší nebo rovné nule (nemůže mít zápornou hodnotu), v případě kladné hodnoty nemůže být nižší než "& ('Parametrické konstanty'!D15) &" Kč. --- 10306 Výše vyplaceného měsíčního daňového bonusu" -> (10306) může nabývat jen hodnoty větší nebo rovné nule (nemůže mít zápornou hodnotu), v případě kladné hodnoty nemůže být nižší než 50 Kč. --- 10306 Výše vyplaceného měsíčního daňového bonusu | L33: Hodnota musí být rovna nule nebo větší rovno než 50 Kč. | M33: nová
A34: 78 | B34: Přeplatek nebo nedoplatek z ročního zúčtování je roven součtu příslušných položek | C34: 10321 10322 10323 10239 | D34: Souhrnná data zaměstnance | E34: Formulář zaměstnance (form) | F34: ePortál | G34: nepropustná | H34: DIS | I34: nepropustná | J34: F4 | K34: Přeplatek nebo nedoplatek z ročního zúčtování (10321), musí být roven (10322) + (10323). Kontrola nepostihuje dat. scénář pronájem mezinárodní síly, (10239) = "12". --- 10321 Přeplatek nebo nedoplatek z ročního zúčtování 10322 Přeplatek nebo nedoplatek z ročního zúčtování - z toho přeplatek na dani nebo nedoplatek daně 10323 Přeplatek nebo nedoplatek z ročního zúčtování - z toho doplatek na daňovém bonusu nebo přeplacená částka daňového bonusu zaměstnanci | L34: Hodnota neodpovídá součtu dílčích položek. | M34: nová
A35: 79 | B35: Roční zúčtování záloh - Přeplatek nebo nedoplatek z ročního zúčtování | C35: 10321 10322 10323 10420 10454 10320 10239 | D35: Souhrnná data zaměstnance | E35: Formulář zaměstnance (form) | F35: ePortál | G35: nepropustná | H35: DIS | I35: nepropustná | J35: F4 | K35: Pokud je uvedeno, že proběhlo roční zúčtování záloh (10320) = "ANO", pak musí být vyplněny položky: 10321, 10322, 10323, 10420, 10454. Kontrola nepostihuje dat. scénář pronájem mezinárodní síly, (10239) = "12". --- 10321 Přeplatek nebo nedoplatek z ročního zúčtování 10322 Přeplatek nebo nedoplatek z ročního zúčtování - z toho přeplatek na dani nebo nedoplatek daně 10323 Přeplatek nebo nedoplatek z ročního zúčtování - z toho doplatek na daňovém bonusu nebo přeplacená částka daňového bonusu zaměstnanci 10420 Uplatněna sleva na manželku / manžela 10454 Uplatněno daňové zvýhodnění na děti 10320 Roční zúčtování záloh bylo provedeno 10239 Druh činnosti | L35: Není uvedena hodnota pro roční zúčtování záloh. | M35: nová
A36: 81 | B36: Rodné číslo splňuje modulo | C36: 10457 | D36: Souhrnná data zaměstnance | E36: Formulář zaměstnance (form) | F36: ePortál | G36: nepropustná | H36: DIS | I36: nepropustná | J36: F4 | K36: Rodné číslo (10457) nesplňuje modulo pro RČ. --- 10457 Rodné číslo uživatele | L36: Chybně uvedené rodné číslo. | M36: nová
A37: 82 | B37: Vyplnění položky Výplatní termín při nastání specifické právní skutečnosti | C37: 10410 10408 | D37: Příjem v daném měsíci | E37: Formulář zaměstnance (form) | F37: ePortál | G37: nepropustná | H37: cJMHZ | I37: nepropustná | J37: F5 | K37: Pokud je uvedena specifická právní skutečnost (10408), pak musí být uveden výplatní termín (10410) u všech součástí podání. --- 10408 Specifická právní skutečnost 10410 Výplatní termín při nastání specifické právní skutečnosti | L37: Výplatní termín musí být uveden. | M37: nová
A38: 84 | B38: Pořadí balíku dat | C38: 10002 10003 | D38: Meta atributy | E38: Měsíční podání JMHZ | F38: ePortál | G38: nepropustná | H38: DIS | I38: nepropustná | J38: T5 | K38: Pořadí balíku (10002) nesmí být vyšší, než počet balíků (10003). --- 10002 Pořadí balíku dat 10003 Počet balíků dat | L38: Pořadí balíku nesmí být vyšší než počet balíků. | M38: nová
A39: 87 | B39: Správnost kódu ELDP | C39: 10240 10239 | D39: Průběh pojištění v daném měsíci | E39: Formulář zaměstnance (form) | F39: ePortál | G39: nepropustná | H39: cJMHZ | I39: nepropustná | J39: F5 | K39: První pozice kódu ELDP (10240) musí odpovídat kódu položky v číselníku Druh činnosti (10239). --- 10239 Druh činnosti 10240 Kód ELDP | L39: Kód ELDP neodpovídá číselníku Druh činnosti. | M39: nová | N39: atribut (10239) Druh činnosti výchází z dat v registrace zaměstnance
A40: 88 | B40: Datum a čas vyplnění podání | C40: 10005 | D40: Meta atributy | E40: Měsíční podání JMHZ | F40: ePortál | G40: nepropustná | H40: DIS | I40: nepropustná | J40: T6 | K40: (10005) <= aktuálnímu datu. --- 10005 Datum a čas vyplnění podání | L40: Datum vyplnění podání musí být nižší nebo rovno aktuálnímu datu. | M40: nová
...

Sheet Parametrické konstanty
A1: ID kontroly | B1: Název konstanty
C2: 2025-01 | D2: 2026-01 | E2: 2027-01 | F2: 2028-01
A3: 8, 315 | B3: pojistné za zaměstnavatele (10024, 10478) | C3: 0.248 | D3: 0.248 | E3: 0.248 | F3: 0.248
A4: 10, 315 | B4: Pojistné za zaměstnavatele (10026, 10479) | C4: 0.288 | D4: 0.298 | E4: 0.298 | F4: 0.298
A5: 167, 315 | B5: Pojistné za zaměstnavatele (10484, 10480) | C5: 0.268 | D5: 0.278 | E5: 0.288 | F5: 0.298
A6: 3 | B6: Sleva na pojistném(uváděno v procentech) | C6: 5 | D6: 5
A7: 118270 | B7: Pojistné za zaměstnance - sazbu pojistného na důchodové pojištění placenou zaměstnancem | C7: 0.071 | D7: 0.071
A8: 168270 | B8: Pojistné za zaměstnance - sazbu pojistného na důchodové pojištění placenou zaměstnancem (delta) | C8: 0.07171 | D8: 0.07171
A9: 170 | B9: Úhrn slev na pojistném zaměstnanců - Sazbu slevy na pojistném na sociální zabezpečení podle § 7a zákona č. 589/1992 Sb | C9: 0.065 | D9: 0.065
A10: 170 | B10: Úhrn slev na pojistném zaměstnanců - Sazbu slevy na pojistném na sociální zabezpečení podle § 7a zákona č. 589/1992 Sb (delta) | C10: 0.06565 | D10: 0.06565
A11: 15 | B11: Maximální možný počet odpracovaných hodin | C11: 240 | D11: 240
A12: 45 | B12: Rozsah kratší pracovní/služební doby | C12: 30 | D12: 30
A13: 245, 325 | B13: Rozhodná hranice příjmu pro účast na pojištění u ZMR (zaměstnání malého rozsahu) | C13: 4500 | D13: 4500
A14: 245, 325 | B14: Rozhodná hranice pro vznik účasti na pojištění u DPP | C14: 11500 | D14: 12000
A15: 74 | B15: Výše vyplaceného měsíčního daňového bonusu | C15: 50 | D15: 50
A16: 271 | B16: Průměrná mzda dle § 23b odst. 4 ZPSZ zaokrouhlená na celou pětisetkorunu dolů | C16: 46500 | D16: 48500

Sheet Changelog
A1: DATUM ZMĚNY | B1: VERZE | C1: ZMĚNOVÝ POŽADAVEK | D1: ID KONTROLY | E1: NÁZEV KONROLY | F1: DOTČENÝ SYSTÉM | G1: TYP ZMĚNY [změna kontroly | odstranění kontroly | přidání kontroly | změna] | H1: POPIS ZMĚNY
A2: 45728 | B2: 1.3 | C2: n/a | D2: 1 | E2: =_xlfn.IFNA(VLOOKUP(D2,MH!A$2:N$477,2,TRUE),"") -> Počet zaměstnanců se slevou | F2: =_xlfn.IFNA(VLOOKUP(D2,MH!A$2:N$477,7,TRUE),"") -> propustná | G2: změna kontroly | H2: 10030 Počet zaměstnanců 10371 Zdravotní pojištění 10372 Sleva na pojistném změna těla funkce, kontrola počtu zam. s příznakem 10372 = ANO, že je menší rovno 10030 zam. Celkem
A3: 45728 | B3: 1.3 | C3: n/a | D3: 174 | E3: Kontrola úhrnu vyměřovacích základů zaměstnanců, které vstupují do částky vyměřovacího základu zaměstnavatele podle § 5a odst. 1 písm. a) ZPSZ | F3: cJMHZ | G3: odstranění kontroly | H3: duplicita s id 7
A4: 45728 | B4: 1.3 | C4: n/a | D4: 175 | E4: Kontrola úhrnu vyměřovacího základu zaměstnance, která vstupuje do částky vyměřovacího základu zaměstnavatele podle § 5a odst. 1 písm. b) ZPSZ | F4: cJMHZ | G4: odstranění kontroly | H4: duplicita s id 9
A5: 45728 | B5: 1.3 | C5: n/a | D5: 176 | E5: Kontrola úhrnu vyměřovacího základu zaměstnance, která vstupuje do částky vyměřovacího základu zaměstnavatele podle § 5a odst. 1 písm. c) ZPSZ | F5: cJMHZ | G5: odstranění kontroly | H5: duplicita s id 142
A6: 45728 | B6: 1.3 | C6: n/a | D6: 177 | E6: Kontrola úhrnu pojistného za zaměstnance | F6: cJMHZ | G6: odstranění kontroly | H6: duplicita s id 12
A7: 45728 | B7: 1.3 | C7: n/a | D7: 181 | E7: Počet zaměstnanců, za které zaměstnavatel uplatňuje slevu na pojistném zaměstnavatele | F7: cJMHZ | G7: odstranění kontroly | H7: duplicita s id 1
A8: 45728 | B8: 1.3 | C8: n/a | D8: 193 | E8: =_xlfn.IFNA(VLOOKUP(D8,MH!A$2:N$477,2,TRUE),"") -> Kontrola na atributy uváděné jen v lednovém podání | F8: =_xlfn.IFNA(VLOOKUP(D8,MH!A$2:N$477,7,TRUE),"") -> nepropustná | G8: změna kontroly | H8: změna chyb. hlášky "Atribut [XY] může být uveden jen v prosincovémlednovém podání."
A9: 45733 | B9: 1.3 | C9: n/a | D9: 95 | E9: =_xlfn.IFNA(VLOOKUP(D9,MH!A$2:N$477,2,TRUE),"") -> Sjednaný fond pracovní doby (v hodinách měsíčně) | F9: =_xlfn.IFNA(VLOOKUP(D9,MH!A$2:N$477,7,TRUE),"") -> nepropustná | G9: změna kontroly | H9: změna chyb. hlášky - Sjednaný místo Stanovený
A10: 45733 | B10: 1.3 | C10: n/a | D10: 98 | E10: =_xlfn.IFNA(VLOOKUP(D10,MH!A$2:N$477,2,TRUE),"") -> Počet dní nesmí být vyšší než počet kalendářních dní v daném měsíci | F10: =_xlfn.IFNA(VLOOKUP(D10,MH!A$2:N$477,7,TRUE),"") -> nepropustná | G10: změna kontroly | H10: přidán rok (10011) kvůli vyhodnocení přestupných roků
A11: 45733 | B11: 1.3 | C11: n/a | E11: =_xlfn.IFNA(VLOOKUP(D11,MH!A$2:N$477,2,TRUE),"") | F11: =_xlfn.IFNA(VLOOKUP(D11,MH!A$2:N$477,6,TRUE),"") | G11: změna kontroly | H11: přidání sloupce pro identifikaci prevalidace na straně e-portálu
A12: 45735 | B12: 1.3 | C12: n/a | D12: 84 | E12: =_xlfn.IFNA(VLOOKUP(D12,MH!A$2:N$477,2,TRUE),"") -> Pořadí balíku dat | F12: =_xlfn.IFNA(VLOOKUP(D12,MH!A$2:N$477,7,TRUE),"") -> nepropustná | G12: změna kontroly | H12: Změna kategorie kontroly z F4 na T5
A13: 45735 | B13: 1.3 | C13: n/a | D13: 88 | E13: =_xlfn.IFNA(VLOOKUP(D13,MH!A$2:N$477,2,TRUE),"") -> Datum a čas vyplnění podání | F13: =_xlfn.IFNA(VLOOKUP(D13,MH!A$2:N$477,7,TRUE),"") -> nepropustná | G13: změna kontroly | H13: Změna kategorie kontroly z F4 na T6
A14: 45735 | B14: 1.3 | C14: n/a | D14: 90 | E14: =_xlfn.IFNA(VLOOKUP(D14,MH!A$2:N$477,2,TRUE),"") -> Měsíc | F14: =_xlfn.IFNA(VLOOKUP(D14,MH!A$2:N$477,7,TRUE),"") -> nepropustná | G14: změna kontroly | H14: Změna kategorie kontroly z F4 na T6
A15: 45735 | B15: 1.3 | C15: n/a | D15: 91 | E15: =_xlfn.IFNA(VLOOKUP(D15,MH!A$2:N$477,2,TRUE),"") -> Měsíc | F15: =_xlfn.IFNA(VLOOKUP(D15,MH!A$2:N$477,7,TRUE),"") -> nepropustná | G15: změna kontroly | H15: Změna kategorie kontroly z F4 na T6
A16: 45735 | B16: 1.3 | C16: n/a | D16: 93 | E16: =_xlfn.IFNA(VLOOKUP(D16,MH!A$2:N$477,2,TRUE),"") -> Počet formulářů v balíků musí být maximálně jako Počet formulářů celkem | F16: =_xlfn.IFNA(VLOOKUP(D16,MH!A$2:N$477,7,TRUE),"") -> nepropustná | G16: změna kontroly | H16: Změna kategorie kontroly z F4 na T5
A17: 45735 | B17: 1.3 | C17: n/a | D17: 129 | E17: =_xlfn.IFNA(VLOOKUP(D17,MH!A$2:N$477,2,TRUE),"") -> Číslo měsíce | F17: =_xlfn.IFNA(VLOOKUP(D17,MH!A$2:N$477,7,TRUE),"") -> nepropustná | G17: změna kontroly | H17: Změna kategorie kontroly z F4 na T6
A18: 45735 | B18: 1.3 | C18: n/a | D18: 131 | E18: =_xlfn.IFNA(VLOOKUP(D18,MH!A$2:N$477,2,TRUE),"") -> Rok | F18: =_xlfn.IFNA(VLOOKUP(D18,MH!A$2:N$477,7,TRUE),"") -> nepropustná | G18: změna kontroly | H18: Změna kategorie kontroly z F4 na T6
A19: 45735 | B19: 1.3 | C19: n/a | D19: 132 | E19: =_xlfn.IFNA(VLOOKUP(D19,MH!A$2:N$477,2,TRUE),"") -> Kontrola roku pro podání opravného hlášení. | F19: =_xlfn.IFNA(VLOOKUP(D19,MH!A$2:N$477,7,TRUE),"") -> nepropustná | G19: změna kontroly | H19: Změna kategorie kontroly z F4 na T6
A20: 45735 | B20: 1.3 | C20: n/a | D20: 143 | E20: =_xlfn.IFNA(VLOOKUP(D20,MH!A$2:N$477,2,TRUE),"") -> Variabilní symbol zaměstnavatele | F20: =_xlfn.IFNA(VLOOKUP(D20,MH!A$2:N$477,7,TRUE),"") -> nepropustná | G20: změna kontroly | H20: Změna kategorie kontroly z F4 na T5, změna chybové hlášky z "Variabilní symbol není vyplněn."
A21: 45735 | B21: 1.3 | C21: n/a | D21: 146 | E21: =_xlfn.IFNA(VLOOKUP(D21,MH!A$2:N$477,2,TRUE),"") -> Překážky na straně zaměstnavatele - počet neodpracovaných hodin | F21: =_xlfn.IFNA(VLOOKUP(D21,MH!A$2:N$477,7,TRUE),"") -> nepropustná | G21: změna kontroly | H21: Změna kategorie kontroly z F4 na T5
A22: 45735 | B22: 1.3 | C22: n/a | D22: 147 | E22: Finanční úřad | F22: =_xlfn.IFNA(VLOOKUP(D22,MH!A$2:N$477,7,TRUE),"") -> nepropustná | G22: změna kontroly | H22: Změna kategorie kontroly z F4 na T5
A23: 45735 | B23: 1.3 | C23: n/a | D23: 232 | E23: =_xlfn.IFNA(VLOOKUP(D23,MH!A$2:N$477,2,TRUE),"") -> Struktura řádného měsíčního hlášení | F23: =_xlfn.IFNA(VLOOKUP(D23,MH!A$2:N$477,7,TRUE),"") -> n/a | G23: přidání kontroly | H23: přidání kontrol struktury
A24: 45735 | B24: 1.3 | C24: n/a | D24: 233 | E24: =_xlfn.IFNA(VLOOKUP(D24,MH!A$2:N$477,2,TRUE),"") -> Struktura opravného hlášení | F24: =_xlfn.IFNA(VLOOKUP(D24,MH!A$2:N$477,7,TRUE),"") -> n/a | G24: přidání kontroly | H24: přidání kontrol struktury
A25: 45735 | B25: 1.3 | C25: n/a | D25: 234 | E25: Struktura storno hlášení | F25: DIS | G25: přidání kontroly | H25: přidání kontrol struktury
A26: 45735 | B26: 1.3 | C26: n/a | D26: 235 | E26: =_xlfn.IFNA(VLOOKUP(D26,MH!A$2:N$477,2,TRUE),"") -> Neodpovídá skutečný počet formulářů | F26: DIS | G26: přidání kontroly | H26: přidání kontrol struktury
A27: 45735 | B27: 1.3 | C27: n/a | D27: 236 | E27: =_xlfn.IFNA(VLOOKUP(D27,MH!A$2:N$477,2,TRUE),"") -> Kontrola formulářů v řádném měsíčním hlášení | F27: =_xlfn.IFNA(VLOOKUP(D27,MH!A$2:N$477,7,TRUE),"") -> n/a | G27: přidání kontroly | H27: přidání kontrol struktury
A28: 45735 | B28: 1.3 | C28: n/a | D28: 237 | E28: =_xlfn.IFNA(VLOOKUP(D28,MH!A$2:N$477,2,TRUE),"") -> Kontrola formulářů v opravném měsíčním hlášení pro indiv. části | F28: =_xlfn.IFNA(VLOOKUP(D28,MH!A$2:N$477,7,TRUE),"") -> n/a | G28: přidání kontroly | H28: přidání kontrol struktury
A29: 45736 | B29: 1.3 | C29: n/a | D29: 213 | E29: Kontrola uplatnění slevy za zaměstnance u jednoho zaměstnavatele je pouze jednou | F29: =_xlfn.IFNA(VLOOKUP(D29,MH!A$2:N$477,7,TRUE),"") -> propustná | G29: změna kontroly | H29: vylepšen detail kontroly (p. MS)
A30: 45736 | B30: 1.3 | C30: n/a | D30: 231 | E30: Kontrola uplatnění slevy za zaměstnance u jednoho zaměstnavatele je pouze jednou | F30: cJMHZ | G30: přidání kontroly | H30: Kontrola uplatnění slevy za zaměstnance u jednoho zaměstnavatele, je pouze jednou.
A31: 45736 | B31: 1.3 | C31: n/a | D31: 238 | E31: =_xlfn.IFNA(VLOOKUP(D31,MH!A$2:N$477,2,TRUE),"") -> Kontrola konzistence klíčů GUID, ikmpsv, idppv v části individualizované součásti při změně dat | F31: =_xlfn.IFNA(VLOOKUP(D31,MH!A$2:N$477,7,TRUE),"") -> n/a | G31: přidání kontroly | H31: Kontrola konzistence klíčů GUID, ikmpsv, idppv v části individualizované části při změně dat
A32: 45736 | B32: 1.3 | C32: n/a | D32: 239 | E32: Kontrola vyplnění atributů ke kolektivním smlouvám, při neexistenci smlouvy | F32: =_xlfn.IFNA(VLOOKUP(D32,MH!A$2:N$477,7,TRUE),"") -> n/a | G32: přidání kontroly | H32: Kontrola vyplnění atributů ke kolektivním smlouvám, při neexistenci smlouvy (podnět M. Hal.) - logická kontrola
A33: 45737 | B33: 1.3 | C33: n/a | D33: 98 | E33: =_xlfn.IFNA(VLOOKUP(D33,MH!A$2:N$477,2,TRUE),"") -> Počet dní nesmí být vyšší než počet kalendářních dní v daném měsíci | F33: =_xlfn.IFNA(VLOOKUP(D33,MH!A$2:N$477,7,TRUE),"") -> nepropustná | G33: změna kontroly | H33: na základě telka s pí. Madarovou a pí Kotíkovou, potvrzeno a odsouhlaseno přídání art.: 10357, 10360, 10362 a nově 10463
A34: 45737 | B34: 1.3 | C34: n/a | D34: 145 | E34: =_xlfn.IFNA(VLOOKUP(D34,MH!A$2:N$477,2,TRUE),"") -> Překážky na straně zaměstnavatele - počet neodpracovaných hodin | F34: =_xlfn.IFNA(VLOOKUP(D34,MH!A$2:N$477,7,TRUE),"") -> nepropustná | G34: změna kontroly | H34: oprava detailu, oprava chyb. Hlášky (M. Hal.)
A35: 45737 | B35: 1.3 | C35: n/a | D35: 208 | E35: =_xlfn.IFNA(VLOOKUP(D35,MH!A$2:N$477,2,TRUE),"") -> Výše slevy na pojistném zaměstnance | F35: =_xlfn.IFNA(VLOOKUP(D35,MH!A$2:N$477,7,TRUE),"") -> nepropustná | G35: přidání kontroly | H35: logická kontrola
A36: 45737 | B36: 1.3 | C36: n/a | D36: 209 | E36: =_xlfn.IFNA(VLOOKUP(D36,MH!A$2:N$477,2,TRUE),"") -> Úhrn slev na pojistném zaměstnanců | F36: =_xlfn.IFNA(VLOOKUP(D36,MH!A$2:N$477,7,TRUE),"") -> nepropustná | G36: změna kontroly | H36: vylepšen detail kontroly (M. Sm.)
A37: 45737 | B37: 1.3 | C37: n/a | D37: 238 | E37: =_xlfn.IFNA(VLOOKUP(D37,MH!A$2:N$477,2,TRUE),"") -> Kontrola konzistence klíčů GUID, ikmpsv, idppv v části individualizované součásti při změně dat | F37: =_xlfn.IFNA(VLOOKUP(D37,MH!A$2:N$477,7,TRUE),"") -> n/a | G37: změna kontroly | H37: po konzultaci s M. Kal. uveden větší detail kontroly
A38: 45739 | B38: 1.3 | C38: n/a | D38: 1 | E38: =_xlfn.IFNA(VLOOKUP(D38,MH!A$2:N$477,2,TRUE),"") -> Počet zaměstnanců se slevou | F38: =_xlfn.IFNA(VLOOKUP(D38,MH!A$2:N$477,7,TRUE),"") -> propustná | G38: změna kontroly | H38: Počet zaměstnanců, za které zaměstnavatel uplatňuje slevu na pojistném s vyplněnými údaji jednotlivých zaměstnanců (1037110372) = "ANO" musí být <= Počet zaměstnanců (10030).
A39: 45740 | B39: 1.3 | C39: n/a | D39: 42 | E39: =_xlfn.IFNA(VLOOKUP(D39,MH!A$2:N$477,2,TRUE),"") -> Kontrola atributů v rámci slev na pojistném jsou vázany k druhu činnosti v rozsahu 1 až 9 | F39: =_xlfn.IFNA(VLOOKUP(D39,MH!A$2:N$477,7,TRUE),"") -> nepropustná | G39: přidání kontroly | H39: přidáno, inicioval TH a JK Atributy (10372), (10373), (10374) mohou nabývat hodnot jen, když (10239) je v rozmezí 1 až 9. --- 10372 Sleva na pojistném zaměstnavatele 10373 Rozsah kratší pracovní/služební doby 10374 Důvod uplatnění slevy 10239 Druh činnosti
A40: 45740 | B40: 1.3 | C40: n/a | D40: 45 | E40: =_xlfn.IFNA(VLOOKUP(D40,MH!A$2:N$477,2,TRUE),"") -> Rozsah kratší pracovní/služební doby | F40: =_xlfn.IFNA(VLOOKUP(D40,MH!A$2:N$477,7,TRUE),"") -> nepropustná | G40: změna kontroly | H40: přidána vstupní podmínka (10239) = 1 až 9 na základě konzultace p. DM a TH
...

Sheet Kategorie kontrol
A1: PODÁNÍ
A2: Typ kontroly | B2: Zákon o JMHZ | C2: Pořadí | D2: Kategorie kontroly | E2: Komponenta realizující kontrolu | F2: Příklady kategorie kontrol | G2: Zdroj kontrol | H2: Předpoklad
A3: technická | B3: § 9 zákona o JMHZ - Technická vada podání | C3: 1 | D3: Zpráva byla předána přes správné rozhraní | E3: IKR | F3: Registrace ZEC není podána rozhraním pro MĚS HLA | G3: Zákon o JMHZ § 8 | H3: Přijetí podání (v případě nesplnění je odmítnuto celé podání - neúčinné podání)
C4: 2 | D4: Kontrola platnosti elektronického podpisu | E4: DIS | F4: Kontrola šifrovacího certifikátu a podpisového certifikátu | G4: Technický popis podání
C5: 3 | D5: Kontrola autentizace + autorizace | E5: DIS, MIP | F5: Kontrola na mandatní registr | G5: Technický popis podání
C6: 4 | D6: Kontrola XML proti XSD (kontrola čitelnosti) - zjednodušené XSD | E6: DIS | F6: Kontrola XML proti XSD - jestli obsahuje všechny tagy a je čitelné XML | G6: XSD
C7: 5 | D7: Strukturální kontroly | E7: DIS, cJMHZ | F7: 1. DP obsahuje povinné části
C8: 6 | D8: Kontrola období podání (metadata) | E8: DIS | F8: Podání může být podáno nejdříve 1. následujícího měsíce, za který je podáváno | G8: Technický popis podání
C9: 7 | D9: Velikost zprávy | E9: DIS | F9: limit 1500 formulářů na dílčí podání | G9: Definice omezení dle IT ČSSZ
C10: 8 | D10: Duplicita zprávy | E10: DIS | F10: Totožné dílčí podání (se stejným obsahem)
C11: 9 | D11: Kontroly (technické) na cJMHZ | E11: cJMHZ | F11: Duplicita GUID, podání obsahuje všechny validní části, vyplněné totožné datum podání
C12: 10 | D12: Posouzení ne/účinnosti podání | E12: cJMHZ | F12: Zamítnutí celého podání (všech dílčích podání) na základě neúčinnosti alespoň 1 dílčího podání
D13: metodický pokyn - technická vada v dílčím podání, cJMHZ pošle protokol o neúčinnosti celého podání (stejný GUID u 1 VS, za 1 období), zavedení message do Kafky o neúčinnosti 1 dílčího podání (platí i pro 1 DP)
A14: formální | B14: § 10 zákona o JMHZ - Formální vada podání | C14: 1 | D14: Kontroly dílčích formulářů dle XSD na povinnosti, formát dat, omezení datového typu, kontrola na použití dle číselníku. | E14: DIS | F14: RČ jen 9 nebo 10 znaků, nejčastěji je používán limit 255 znaků, RČ a IK MPSV - kontrola na modulo 11, datum ve formátu DD/MM/RRRR, kontrola na číselníkové hodnoty - například pohlaví počítáno z RČ proti číselníku pohlaví | G14: datový slovník, excel interakce, implementačně XSD | H14: Parsování na jednotlivé formuláře (v případě nesplnění je odmítnut formulář nebo PVPOJ; je umožněno částečné přijetí); ČSSZ vyhodnocuje jako nepropustnou chybu (pro všechny uživatele), pro FS vyhodnoceno jako propustná chyba - pokud se chyba týká jen údajů, které FS nekonzumuje.
C15: 2 | D15: Kontrola na ne/ztotožněnou osobu. | E15: DIS | F15: Kontrola OIČ na kmenové evidence a konflikty na ztotožnění | G15: definice aplikačních kontrol - excel
C16: 3 | D16: Kontrola na duplicitu formulářů v rámci jednoho podání. | E16: DIS | F16: Duplicitní podání stejného ZEC a ID PPV | G16: definice aplikačních kontrol - excel
C17: 4 | D17: Všechny ostatní aplikační kontroly nad daty formulářů realizované v DIS. | E17: DIS | F17: Např. uhrnVymerovacichZakladu <=uhrnVymerovacichZakladuBezni +uhrnVymerovacichZakladuZachranari. | G17: definice aplikačních kontrol - excel
C18: 5 | D18: Kontroly daného podání proti datům v bázi cJMHZ realizované v cJMHZ. | E18: cJMHZ | F18: Kontrola podání vůči KE ZAM - počet součástí za období | G18: definice aplikačních kontrol - excel
A27: Legenda: | B27: ZEL | C27: zaměstnavatel
B28: ZEC | C28: zaměstnanec
B29: MĚS HLA | C29: jednotné měsíční hlášení

Sheet Popis propustnosti
B2: vstupy dat | C2: webový prohlížeč | D2: APEP, ISDS
C3: e-Portál | D3: DIS | E3: cJHMZ
B4: NEPROPUSTNÁ | C4: ano | D4: ano | E4: ano
B5: PROPUSTNÁ | C5: ano | D5: ne | E5: ano
B7: Pojem | C7: Vysvětlení | E7: Následek | F7: Další postup | G7: Konzumace
B8: Kanál pro vykonávání kontroly | C8: ePortál, DIS, cJMHZ
B9: Typ kontroly | C9: Nepropustná, propustná
B10: Částečné přijetí | C10: Podání je přijato v částech, které jsou bezvadné.
B11: Nepropustná kontrola | C11: Nepropustná kontrola je kontrola na technické nebo formální vady (s výjimkou méně závažných), které způsobí následek v podobě neúčinnosti podání, jeho části nebo součásti. | E11: 1) v případě formální vady, dojde k zamítnutí části nebo součásti podání - částečné přijetí. 2) v případě technické vady nebo v případě vady všech částech podání, dojde k zamítnutí celého podání. | F11: Výzva k podání opravného ohlášení (§13 návrhu zákona o JMHZ). | G11: Tato nevalidní data nebudou standardně zpřístupněna uživatelům údajů. Pokud budou vady v jiných atributech než pro FS, budou po první automatizované výzvě zpřístupněna uživatelům údajů FS (pouze pro uživatele údajů FS).
B12: Propustná kontrola | C12: Propustná kontrola je kontrola na méně závažné vady podání, které nezpůsobí následek v podobě neúčinnosti podání. | E12: Nezpůsobuje neúčinnost části nebo součásti podání. | F12: Bez výzvy na zaměstnavatele. | G12: Tato nevalidní data budou poskytnuta uživatelům údajů bezodkladně po jejich přijetí (s informací, že se jedná o propustnou vadu).

Sheet temp3
A1: verze | G1: ANO | H1: Pozitivní
A2: 1.4.0 | G2: NE | H2: Negativní
A3: 1.4.0.1
A4: 1.4.1
A5: 1.4.1.1
A6: 1.4.1.2
A7: 1.4.1.2.1
A8: 1.4.1.3
A9: 1.4.1.4
A10: 1.4.1.5
A11: draft
A12: smazáno
