Workbook

Sheet Titulní strana
A6: Název projektu: Zajištění redesignu agendy zaměstnanosti s ohledem na digitalizaci procesů a snížení administrativní zátěže
A7: Registrační číslo projektu: CZ.31.2.0/0.0/0.0/23_090/0010634
A8: Verze dokumentu k API: 1.4.1.2.3
A9: MPSV poskytuje dodavatelům za účelem analýzy dopadů zákona o JMHZ popis datových položek, které budou zaměstnavatelé uvádět v povinných hlášeních podle připravovaného zákona o JMHZ. Popis je poskytován s výhradou případných změn, protože u zákona o JMHZ ani u nařízení vlády, které bude zákonné povinnosti předávat povinná hlášení konkretizovat, ještě nebyl ukončen legislativní proces a v jeho průběhu nejsou vyloučeny změny vyvolané průběhem zbývající části legislativního procesu. Změny mohou být nutné, pokud dojde k uplatnění pozměňovacích návrhů v Senátu a jejich schválení Poslaneckou sněmovnou. Rovněž nelze vyloučit změny v případě zásadních připomínek uplatněných při projednávání nařízení vlády k JMHZ Legislativní radou vlády ČR.

Sheet MH
A1: ID Kontroly kód chyby DIS = ID Kontroly + 20000 kód chyby cJMHZ = ID kontroly + 40000 | B1: Název kontroly | C1: Seznam ID atributů, kterých se kontrola týká | D1: Oblast atributu z DS (dat. slovník) | E1: Typ formuláře (v závorce identifikátor oblasti chyby na systému DIS) | F1: Systém realizující prevalidační kontrolu pro ePortál / „n/a“ – not available | G1: Propustnost / Nepropustnost kontroly pro prevalidační kontrolu na ePortálu | H1: Systém realizující kontrolu [DIS / cJMHZ / „n/a“ – not available] | I1: Propustnost / Nepropustnost kontrol na DIS nebo cJMHZ | J1: Kategorie kontroly | K1: Detailní popis prováděné kontroly | L1: Chybová hláška | M1: Zdroj kontroly z as-is stavu anebo "nová" | N1: Poznámka
A2: 1 | B2: Počet zaměstnanců se slevou | C2: 10030 10372 | D2: Přehled o výši pojistného | E2: Formulář PVPOJ a zaměstnance | F2: ePortál | G2: propustná | H2: cJMHZ | I2: propustná | J2: F5 | K2: Počet zaměstnanců, za které zaměstnavatel uplatňuje slevu na pojistném s vyplněnými údaji jednotlivých zaměstnanců (10372) = "ANO" musí být = Počet zaměstnanců (10030). --- 10030 Počet zaměstnanců 10372 Sleva na pojistném | L2: Nesouhlasí počet zaměstnanců, za které zaměstnavatel uplatňuje slevu na pojistném. | M2: nová
A3: 3 | B3: Sleva na pojistném | C3: 10032 10031 | D3: Přehled o výši pojistného | E3: Formulář PVPOJ (pvpoj) | F3: ePortál | G3: nepropustná | H3: DIS | I3: nepropustná | J3: F4 | K3: ="Sleva na pojistném (10032) (zaokrouhlená na celé koruny nahoru) = "& 'Parametrické konstanty'!D6 &" % úhrnu vyměřovacích základů zaměstnanců (10031). --- 10031 Úhrn vyměřovacích základů zaměstnanců 10032 Sleva na pojistném zaměstnavatele " -> Sleva na pojistném (10032) (zaokrouhlená na celé koruny nahoru) = 5 % úhrnu vyměřovacích základů zaměstnanců (10031). --- 10031 Úhrn vyměřovacích základů zaměstnanců 10032 Sleva na pojistném zaměstnavatele | L3: Sleva na pojistném neodpovídá úhrnu vyměřovacích základů zaměstnanců, za které je uplatňována. | M3: PVPOJ 2023 1.1 | N3: OŘ3: ČSSZ-215
A4: 4 | B4: Vypočítané pojistné k úhradě | C4: 10033 10029 10032 10487 10545 | D4: Přehled o výši pojistného | E4: Formulář PVPOJ (pvpoj) | F4: ePortál | G4: nepropustná | H4: DIS | I4: nepropustná | J4: F4 | K4: (10033) = (10029 - 10032 - 10487 - 10545) --- 10033 Vypočítané pojistné 10029 Pojistné celkem 10032 Sleva na pojistném zaměstnavatele 10487 Úhrn slev na pojistném zaměstnanců (pracující důchodci) 10545 Úhrn slev na pojistném zaměstnanců (ovocnáři) | L4: Pojistné k úhradě neodpovídá vykázánému pojistnému celkem a případně odečítané slevě na pojistném zaměstnavatele či odečítaným úhrnům slev na pojistném zaměstnanců (pracujících důchodců a ovocnářů včetně). | M4: PVPOJ 2023 1.1 | N4: OŘ3: ČSSZ-215
A5: 7 | B5: Úhrn vyměřovacích základů zaměstnanců zaměstnavatele, kteří nevykonávají činnost v rizikovém zaměstnání nebo činnost zdravotnického záchranáře nebo člena jednotky HZS podniku je roven vyměřovacím základům všech příslušných zaměstnanců | C5: 10023 10477 10478 10239 10502 | D5: Přehled o výši pojistného | E5: Formulář PVPOJ a zaměstnance | F5: ePortál | G5: propustná | H5: cJMHZ | I5: propustná | J5: F5 | K5: Úhrn vyměřovacích základů zaměstnanců zaměstnavatele, kteří nevykonávají činnost v rizikovém zaměstnání nebo činnost zdravotnického záchranáře nebo člena jednotky HZS podniku (10023) se pro datové scénáře je vypočten: 1) činnosti K až S: (10239) = "K" až "S" nebo, (10239) = "1" až "9" s příznakem (10502) = "Pracovní vztah specifické skupiny" 2) pěstoun: (10239) = "M", (10023) = ∑ (n) vyměřovacích základů dotčených zaměstnanců (10477) pro ostatní dat. scénáře: (10023) = ∑ (n) vyměřovacích základů dotčených zaměstnanců (10478). --- 10023 Úhrn vyměřovacích základů zaměstnanců, kteří nevykonávají činnost v rizikovém zaměstnání nebo nejsou zdravotnickými záchranáři nebo členy HZS podniku 10477 Částka vyměřovacího základu zaměstnance, ze které je odváděno pojistné 10478 Částka vyměřovacího základu zaměstnance, která vstupuje do částky vyměřovacího základu zaměstnavatele podle § 5a odst. 1 písm. a) ZPSZ 10239 Druh činnosti 10502 Bližší určení pracovněprávního vztahu | L5: Úhrn nesouhlasí se součtem vyměřovacích základů dotčených zaměstnanců, kteří nevykonávají činnost v rizikovém zaměstnání nebo činnost zdravotnického záchranáře nebo člena jednotky HZS podniku. | M5: nová | N5: OŘ3: ČSSZ-216
A6: 8 | B6: Pojistné za zaměstnavatele u zaměstnanců, kteří nevykonávají činnost v rizikovém zaměstnání nebo činnost zdravotnického záchranáře nebo člena jednotky HZS podniku | C6: 10024 10023 | D6: Přehled o výši pojistného | E6: Formulář PVPOJ (pvpoj) | F6: ePortál | G6: nepropustná | H6: DIS | I6: nepropustná | J6: F4 | K6: ="Pojistné za zaměstnavatele (10024) = " & 'Parametrické konstanty'!D3 & " * Úhrn vyměřovacích základů zaměstnanců (10023), kteří nevykonávají činnost v rizikovém zaměstnání nebo činnost zdravotnického záchranáře nebo člena jednotky HZS podniku a nevykonávají rizikové zaměstnání. Zaokrohluje se na celé koruny nahoru." & CHAR(10) & "---" & CHAR(10) & "10023 Úhrn vyměřovacích základů zaměstnanců, kteří nevykonávají činnost v rizikovém zaměstnání nebo nejsou zdravotnickými záchranáři nebo členy HZS podniku" & CHAR(10) & "10024 Pojistné za zaměstnavatele u zaměstnanců, kteří nevykonávají činnost v rizikovém zaměstnání nebo nejsou zdravotnickými záchranáři nebo členy HZS podniku" -> Pojistné za zaměstnavatele (10024) = 0.248 * Úhrn vyměřovacích základů zaměstnanců (10023), kteří nevykonávají činnost v rizikovém zaměstnání nebo činnost zdravotnického záchranáře nebo člena jednotky HZS podniku a nevykonávají rizikové zaměstnání. Zaokrohluje se na celé koruny nahoru. --- 10023 Úhrn vyměřovacích základů zaměstnanců, kteří nevykonávají činnost v rizikovém zaměstnání nebo nejsou zdravotnickými záchranáři nebo členy HZS podniku 10024 Pojistné za zaměstnavatele u zaměstnanců, kteří nevykonávají činnost v rizikovém zaměstnání nebo nejsou zdravotnickými záchranáři nebo členy HZS podniku | L6: Vykázané pojistné neodpovídá vykázánému úhrnu vyměřovacích základů zaměstnanců, kteří nevykonávají činnost v rizikovém zaměstnání nebo činnost zdravotnického záchranáře nebo člena jednotky HZS podniku. | M6: nová | N6: OŘ3: ČSSZ-215
A7: 9 | B7: Úhrn vyměřovacích základů zaměstnanců, kteří jsou zdravotnickými záchranáři nebo členy HZS podniku | C7: 10025 10479 | D7: Přehled o výši pojistného | E7: Formulář PVPOJ a zaměstnance | F7: ePortál | G7: propustná | H7: cJMHZ | I7: propustná | J7: F5 | K7: Úhrn vyměřovacích základů zaměstnanců, kteří jsou zdravotnickými záchranáři nebo členy HZS podniku (10025) se = ∑ (n) vyměřovacích základů dotčených zaměstnanců (10479). --- 10025 Úhrn vyměřovacích základů zaměstnanců, kteří jsou zdravotnickými záchranáři nebo členy HZS podniku 10479 Částka vyměřovacího základu zaměstnance, která vstupuje do částky vyměřovacího základu zaměstnavatele podle § 5a odst. 1 písm. b) ZPSZ | L7: Úhrn nesouhlasí se součtem vyměřovacích základů dotčených zaměstnanců, kteří jsou zdravotnickými záchranáři nebo členy HZS podniku. | M7: nová | N7: OŘ3: ČSSZ-216
A8: 10 | B8: Pojistné za zaměstnavatele u zaměstnanců, kteří jsou zdravotnickými záchranáři nebo členy HZS podniku | C8: 10026 10025 | D8: Přehled o výši pojistného | E8: Formulář PVPOJ (pvpoj) | F8: ePortál | G8: nepropustná | H8: DIS | I8: nepropustná | J8: F4 | K8: ="Pojistné za zaměstnavatele (10026) = " & 'Parametrické konstanty'!D4 & " * Úhrn vyměřovacích základů zaměstnanců (10025), kteří jsou zdr. Záchranáři nebo členy HZS. Zaokrohluje se na celé koruny nahoru."& CHAR(10) & "---" & CHAR(10) & "10025 Úhrn vyměřovacích základů zaměstnanců, kteří jsou zdravotnickými záchranáři nebo členy HZS podniku" & CHAR(10) & "10026 Pojistné za zaměstnavatele u zaměstnanců, kteří jsou zdravotnickými záchranáři nebo členy HZS podniku" -> Pojistné za zaměstnavatele (10026) = 0.298 * Úhrn vyměřovacích základů zaměstnanců (10025), kteří jsou zdr. Záchranáři nebo členy HZS. Zaokrohluje se na celé koruny nahoru. --- 10025 Úhrn vyměřovacích základů zaměstnanců, kteří jsou zdravotnickými záchranáři nebo členy HZS podniku 10026 Pojistné za zaměstnavatele u zaměstnanců, kteří jsou zdravotnickými záchranáři nebo členy HZS podniku | L8: Vykázané pojistné neodpovídá vykázanému úhrnu vyměřovacích základů zaměstnanců, kteří jsou zdravotnickými záchranáři nebo členy HZS podniku. | M8: nová | N8: OŘ3: ČSSZ-215
A9: 11 | B9: Pojistné za zaměstnavatele celkem | C9: 10027 10024 10026 10484 | D9: Přehled o výši pojistného | E9: Formulář PVPOJ (pvpoj) | F9: ePortál | G9: nepropustná | H9: DIS | I9: nepropustná | J9: F4 | K9: Pojistné za zaměstnavatele celkem (10027) = (10024 + 10026 + 10484) --- 10024 Pojistné za zaměstnavatele u zaměstnanců, kteří nevykonávají činnost v rizikovém zaměstnání nebo nejsou zdravotnickými záchranáři nebo členy HZS podniku 10026 Pojistné za zaměstnavatele u zaměstnanců, kteří jsou zdravotnickými záchranáři nebo členy HZS podniku 10484 Pojistné za zaměstnavatele u zaměstnanců, kteří vykonávají rizikové zaměstnání 10027 Pojistné za zaměstnavatele celkem (součet úhrnů) | L9: Vykázané pojistné za zaměstnavatele neodpovídá vykázaným dílčím hodnotám. | M9: nová | N9: OŘ3: ČSSZ-215
A10: 12 | B10: Pojistné za zaměstnance | C10: 10028 10370 10502 | D10: Přehled o výši pojistného | E10: Formulář PVPOJ a zaměstnance | F10: ePortál | G10: propustná | H10: cJMHZ | I10: propustná | J10: F5 | K10: Pojistné za zaměstnance (10028) = ∑ (n) pojistného všech zaměstnanců (10370), v rámci kontroly se nevyhodnocují datové scénáře, které podle definice neobsahují atribut (10370). --- 10028 Pojistné za zaměstnance 10370 Sociální pojištění 10502 Bližší určení pracovněprávního vztahu | L10: Pojistné za zaměstnance nesouhlasí se součtem pojistného za všechny jednotlivé zaměstnance. | M10: nová
A11: 13 | B11: Pojistné celkem | C11: 10029 10028 10027 | D11: Přehled o výši pojistného | E11: Formulář PVPOJ (pvpoj) | F11: ePortál | G11: nepropustná | H11: DIS | I11: nepropustná | J11: F4 | K11: Pojistné celkem (10029) = Pojistné za zaměstnavatele celkem (10027) + Pojistné za zaměstnance (10028). --- 10027 Pojistné za zaměstnavatele celkem (součet úhrnů) 10028 Pojistné za zaměstnance 10029 Pojistné celkem | L11: Vykázané pojistné celkem neodpovídá vykázanému pojistnému za zaměstnance a pojistnému za zaměstnavatele. | M11: nová | N11: OŘ3: ČSSZ-215
A12: 15 | B12: Maximální možný odpracovaný počet hodin v měsíci pro pracovní/služební poměry (kromě zdravotníků, tam bude muset být nastaven limit v závislosti na platné legislativě v době spuštění pilotu/ostrého provozu) S ohledem na max. možný počet týdnů v měsíci (5) je limit nastaven na: 5*48 (tj. 40 + 8 hodin přesčasů) =240 | C12: 10268 10239 10249 | D12: Průběh zaměstnání v daném měsíci | E12: Formulář zaměstnance (form) | F12: ePortál | G12: nepropustná | H12: cJMHZ | I12: propustná | J12: F5 | K12: ="Platí jen pro pracovní nebo služební poměr tedy: pro pracovní poměr (10239) je 1 až 9 nebo pro služební poměr (10249) kód začíná 13, pak platí že, počet odpracovaných hodin (10268) musí být <= " & 'Parametrické konstanty'!D11 & ". --- 10239 Druh činnosti 10268 Počet odpracovaných hodin 10249 Postavení v zaměstnání " -> Platí jen pro pracovní nebo služební poměr tedy: pro pracovní poměr (10239) je 1 až 9 nebo pro služební poměr (10249) kód začíná 13, pak platí že, počet odpracovaných hodin (10268) musí být <= 240. --- 10239 Druh činnosti 10268 Počet odpracovaných hodin 10249 Postavení v zaměstnání | L12: Překročen maximální možný počet odpracovaných hodin, zkontrolujte položku. Uvedená chyba nebrání podání. | M12: nová | N12: PŘ3: ČSSZ-180
A13: 20 | B13: Odpracované hodiny | C13: 10268 10269 | D13: Průběh zaměstnání v daném měsíci | E13: Formulář zaměstnance (form) | F13: ePortál | G13: nepropustná | H13: DIS | I13: nepropustná | J13: F4 | K13: Počet odpracovaných hodin (10268) >= počet přesčasových hodin (10269). --- 10268 Počet odpracovaných hodin 10269 Přesčasové hodiny (z odpracovaných) | L13: Přesčasové hodiny převyšují odpracované hodiny. | M13: nová
A14: 23 | B14: Složení počtu neodpracovaných hodin s náhradou či nekrácením mzdy | C14: 10276 10279 | D14: Průběh zaměstnání v daném měsíci | E14: Formulář zaměstnance (form) | F14: ePortál | G14: nepropustná | H14: DIS | I14: nepropustná | J14: F4 | K14: Počet neodpracovaných hodin s náhradou či nekrácením mzdy (10276) >= Počet neodpracovaných hodin v důsledku čerpání dovolené na zotavenou (10279). --- 10276 Počet neodpracovaných hodin s náhradou či nekrácením mzdy 10279 Počet neodpracovaných hodin v důsledku čerpání dovolené na zotavenou | L14: Chybný počet neodpracovaných hodin s náhradou či nekrácením mzdy. | M14: nová
A15: 28 | B15: Mzda zúčtovaná | C15: 10328 10329 10330 10331 10332 10333 | D15: Mzda | E15: Formulář zaměstnance (form) | F15: ePortál | G15: nepropustná | H15: DIS | I15: nepropustná | J15: F4 | K15: Mzda zúčtovaná (10328) >= Tarifní mzdy (10329) + Prémie a odměny pravidelné (10330) + Prémie a odměny nepravidelné (10331) + Příplatky celkem (10332) + Příplatky za práci přesčas (10333) --- 10328 Mzda za práci zúčtovaná 10329 Tarifní mzdy 10330 Prémie a odměny pravidelné 10331 Prémie a odměny nepravidelné 10332 Příplatky celkem 10333 Příplatky za práci přesčas | L15: Mzda zúčtovaná je menší než součet jejích složek. | M15: nová | N15: OŘ3: ČSÚ-11
A16: 29 | B16: Příplatky | C16: 10332 10334 10335 10336 | D16: Mzda | E16: Formulář zaměstnance (form) | F16: ePortál | G16: nepropustná | H16: DIS | I16: nepropustná | J16: F4 | K16: Příplatky celkem (10332) >= Příplatky za práci v noci (10334) + Příplatky za práci o sobotách a nedělích (10335) + Příplatky za práci ve svátek (10336) --- 10332 Příplatky celkem 10334 Příplatky za práci v noci 10335 Příplatky za práci o sobotách a nedělích 10336 Příplatky za práci ve svátek | L16: Příplatky jsou nižší než součet jednotlivých příplatků. | M16: nová | N16: OŘ3: ČSÚ-11
A17: 34 | B17: Počet neodpracovaných hodin z důvodu dočasné pracovní neschopnosti x náhrady mzdy za dočasnou pracovní neschopnost | C17: 10342 10278 | D17: Mzda | E17: Formulář zaměstnance (form) | F17: ePortál | G17: nepropustná | H17: DIS | I17: nepropustná | J17: F4 | K17: Pakliže je počet neodpracovaných hodin z důvodu dočasné pracovní neschopnosti, za které je ze strany zaměstnavatele poskytována náhrada mzdy (10278) > 0, pak Náhrady při dočasné pracovní neschopnosti (10342) > 0. --- 10278 Počet neodpracovaných hodin z důvodu dočasné pracovní neschopnosti, za které je ze strany zaměstnavatele poskytována náhrada mzdy 10342 Náhrady při dočasné pracovní neschopnosti (bez srážek nad rámec §192/3 zákoníku práce) | L17: Pokud je vyplněn počet neodpracovaných hodin z důvodu dočasné pracovní neschopnosti, musí být zároveň vyplněna náhrada při dočasné pracovní neschopnosti. | M17: nová
A18: 35 | B18: Počet neodpracovaných hodin z důvodu čerpání dovolené na zotavenou x náhrady mzdy za dovolenou | C18: 10338 10279 | D18: Mzda | E18: Formulář zaměstnance (form) | F18: ePortál | G18: nepropustná | H18: DIS | I18: nepropustná | J18: F4 | K18: Pokud Počet neodpracovaných hodin v důsledku čerpání dovolené na zotavenou (10279) > 0 pak, Náhrady za dovolenou (10338) > 0. --- 10279 Počet neodpracovaných hodin v důsledku čerpání dovolené na zotavenou 10338 Náhrady za dovolenou | L18: Chybí údaj k náhradě za dovolenou. | M18: nová | N18: OŘ3: ČSÚ-11
A19: 36 | B19: Počet přesčasových hodin x příplatky za práci přesčas | C19: 10333 10269 | D19: Mzda | E19: Formulář zaměstnance (form) | F19: ePortál | G19: nepropustná | H19: DIS | I19: nepropustná | J19: F4 | K19: Pokud Počet přesčasových hodin (10269) > 0 pak, Příplatky za práci přesčas (10333) >= 0. --- 10269 Přesčasové hodiny (z odpracovaných) 10333 Příplatky za práci přesčas | L19: Chybí údaj k příplatkům za přesčas. | M19: nová
A20: 37 | B20: Formát IK MPSV | C20: 10051 | D20: Zaměstnanec / Žák / Student | E20: Formulář zaměstnance (form) | F20: ePortál | G20: nepropustná | H20: DIS | I20: nepropustná | J20: F4 | K20: Regulární výraz pro IKMPSV (10051): délka 10 číslic, z toho na prvních 9 se aplikuje modulo 11, 10. číslice je kontrolní a odpovídá zbytku z dělení prvních 9 číslic číslem 11 --- 10051 IK MPSV (Osobní identifikační číslo - OIČ) | L20: IK MPSV neodpovídá formátu. | M20: nová
A21: 42 | B21: Kontrola atributů v rámci slev na pojistném jsou vázany k druhu činnosti v rozsahu 1 až 9 | C21: 10372 10239 10502 | D21: Vykonávaná pozice zaměstnance | E21: Formulář zaměstnance (form) | F21: ePortál | G21: nepropustná | H21: cJMHZ | I21: nepropustná | J21: F5 | K21: Když je (10239) v rozmezí "1" až "9" a (10502) není "výkon trestu odnětí svobody" nebo není "pracovní vztah specifické skupiny", pak (10372) může nabývat "ANO" nebo "NE" --- 10372 Sleva na pojistném zaměstnavatele 10239 Druh činnosti 10502 Bližší určení pracovněprávního vztahu | L21: Slevu na pojistném zaměstnavatele lze uplatnit (uvést "ANO" v atributu 10372) pouze za zaměstnance s druhem činnosti 1 až 9. | M21: nová | N21: V ostatních případech nesplňujících vstupní podmínku se 10372 neposílá.
A22: 43 | B22: Pojištění od | C22: 10354 10355 10005 | D22: Průběh pojištění v daném měsíci | E22: Formulář zaměstnance (form) | F22: ePortál | G22: nepropustná | H22: DIS | I22: nepropustná | J22: F4 | K22: 1) datum od (10354) <= datum do (10355) 2) datum od (10354) <= datum vyplnění formuláře (10005) --- 10005 Datum a čas vyplnění podání 10354 Pojištění od 10355 Pojištění do | L22: Chybné datum od. | M22: nová
A23: 44 | B23: Pojištění do | C23: 10355 10354 10005 | D23: Průběh pojištění v daném měsíci | E23: Formulář zaměstnance (form) | F23: ePortál | G23: nepropustná | H23: DIS | I23: nepropustná | J23: F4 | K23: 1) datum do (10355) > = datum od (10354) 2) datum do (10355) <= datum vyplnění formuláře (10005) --- 10005 Datum a čas vyplnění podání 10354 Pojištění od 10355 Pojištění do | L23: Chybné datum do. | M23: nová
A24: 45 | B24: Rozsah kratší pracovní/služební doby | C24: 10373 | D24: Průběh pojištění v daném měsíci | E24: Formulář zaměstnance (form) | F24: ePortál | G24: nepropustná | H24: DIS | I24: nepropustná | J24: F4 | K24: ="(10373) musí být nejvýše "& ('Parametrické konstanty'!D12) &" hodin --- 10373 Rozsah kratší pracovní/služební doby " -> (10373) musí být nejvýše 30 hodin --- 10373 Rozsah kratší pracovní/služební doby | L24: Uvedený počet hodin překračuje limit stanovený právní úpravou (30 hodin). | M24: PVPOJ 2023 1.1
A25: 50 | B25: Vyměřovací základ není vyplněn | C25: 10245 | D25: Průběh pojištění v daném měsíci | E25: Formulář zaměstnance (form) | F25: ePortál | G25: nepropustná | H25: DIS | I25: nepropustná | J25: F4 | K25: Je-li Vyměřovací základ uveden, musí být (10245) >= 0 --- 10245 Vyměřovací základ | L25: Vyměřovací základ nesmí být záporný. | M25: nová | N25: PŘ3: ČSSZ-202
A26: 56 | B26: Datum dosažení expozice NPE | C26: 10272 10005 | D26: Průběh zaměstnání v daném měsíci | E26: Formulář zaměstnance (form) | F26: ePortál | G26: nepropustná | H26: DIS | I26: nepropustná | J26: F4 | K26: Datum dosažení expozice NPE (10272) není větší než datum vyplnění podání (10005). --- 10005 Datum a čas vyplnění podání 10272 Datum dosažení expozice NPE | L26: Datum musí být nižší než datum vyplnění podání. | M26: nová
A27: 57 | B27: Počet odpracovaných hodin v rámci rizikové práce (§ 37d odst. 2 ZDP), práce zdravotnického záchranáře (§ 37d odst. 3) a práce člena jednotky HZS podniku (§ 37d odst. 3) není větší než počet odpracovaných hodin | C27: 10273 10268 | D27: Průběh zaměstnání v daném měsíci | E27: Formulář zaměstnance (form) | F27: ePortál | G27: nepropustná | H27: DIS | I27: nepropustná | J27: F4 | K27: Počet odpracovaných hodin v rámci rizikové práce je (10273) < = Počtu odpracovaných hodin (10268). --- 10268 Počet odpracovaných hodin 10273 Počet odpracovaných hodin v rámci rizikové práce (§ 37d odst. 2 ZDP), práce zdravotnického záchranáře (§ 37d odst. 3) a práce člena jednotky HZS podniku (§ 37d odst. 3) | L27: Počet odpracovaných hodin rizikové práce je větší než počet odpracovaných hodin. | M27: nová
A28: 58 | B28: Počet kalendářních dnů trvání pojištění v daném kalendářním měsíci | C28: 10356 10010 10011 10537 10538 | D28: Průběh pojištění v daném měsíci | E28: Formulář zaměstnance (form) | F28: ePortál | G28: nepropustná | H28: DIS | I28: nepropustná | J28: F4 | K28: Uvedený počet dnů (10356) <= počet dnů v daném měsíci (10010), v roce (10011 - pro přestupné roky), pouze datový scénář odložený příjem (formOdlozenyPrijem.xsd) se vyhodnocuje jinak: uvedený počet dnů (10356) <= počet dnů v daném měsíci (10537), v roce (10538 - pro přestupné roky). --- 10356 Počet kalendářních dnů trvání doby důchodového pojištění v daném kalendářním měsíci 10010 Měsíc 10011 Rok 10537 Měsíc, za který je hlášeno 10538 Rok, za který je hlášeno | L28: Neodpovídá možnému počtu dnů v kalendářním měsíci. | M28: nová
A29: 59 | B29: Vyměřovací základ s podmínkami | C29: 10240 10245 10356 10357 10375 10241 10242 | D29: Průběh pojištění v daném měsíci | E29: Formulář zaměstnance (form) | F29: ePortál | G29: nepropustná | H29: DIS | I29: nepropustná | J29: F4 | K29: 1.: je-li druhá pozice údaje Kód ELDP = P pak údaj Vyměřovací základ (10245) musí být uveden 2.: je-li údaj Započtené dny (10356) = údaji Vyloučené doby (10357) a současně je-li druhá pozice údaje Kód ELDP ≠ D, pak údaj Vyměřovací základ (10245) = 0. 3.: je-li v ELDP záznamech zachycena skutečnost, že zaměstnanec dovršil důchodový věk a zároveň jsou splněny následují podmínky: a) v ELDP záznamu pro důchod je činnost (druhá pozice údaje) Kód ELDP = D a zároveň údaj Započtené dny (10356) je neprázdný, b) a v obou ELDP záznamech jsou totožné druhy činností na prvních pozicích v obou kódech ELDP (10245), c) a na obou ELDP záznamech se musí jednat o zaměstnání stejného rozsahu, d) a doby platnosti kódu ELDP (10241, 10242) v těchto záznamech na sebe bezprostředně navazují, pak se údaj Vyměřovací základ v řádku doby pojištění před dovršením důchodového věku se uvádí jako (10245) = 0. 4.: je-li druhá pozice údaje Kód ELDP = D a údaj Započtené dny (10356) = 0 a údaj Odečtené doby (10375) = údaji Vyloučené doby (10357), pak se údaj Vyměřovacího základu uvádí jako (10245) = 0. 5.: je-li druhá pozice údaje Kód ELDP (10240) ≠ D nebo (10240) ≠ P a údaj Započtené dny (10356) = 0, pak se údaj Vyměřovací základ uvádí jako (10245) = 0. --- 10240 Kód ELDP 10245 Vyměřovací základ 10356 Počet kalendářních dnů trvání doby důchodového pojištění v daném kalendářním měsíci (Započtené dny) 10357 Vyloučené doby 10375 Odečtené doby 10241 Platnost kódu od 10242 Platnost kódu do | L29: Chybně uvedený vyměřovací základ. | M29: nová | N29: OŘ3: ČSSZ-206 OŘ3: ČSSZ-205
A30: 60 | B30: Datum nastání specifické právní skutečnosti | C30: 10409 10005 | D30: Souhrnná vrstva | E30: Souhrnná vrstva (souhrn) | F30: ePortál | G30: nepropustná | H30: DIS | I30: nepropustná | J30: F4 | K30: Datum nastání specifické právní skutečnosti (10409) musí být menší než datum podání (10005). --- 10005 Datum a čas vyplnění podání 10409 Datum nastání specifické právní skutečnosti | L30: Datum nastání specifické právní skutečnosti musí být menší než datum podání. | M30: nová
A31: 61 | B31: Globální kontrola XSD schématu | D31: JMHZ obecně | E31: Měsíční podání JMHZ (global) | F31: ePortál | G31: nepropustná | H31: DIS | I31: nepropustná | J31: T4 | K31: Kontrola XML proti XSD (kontrola čitelnosti) - zjednodušené XSD | L31: Vaše e-Podání neprošlo validací proti XML schématu. Detail chyby: | M31: nová
A32: 72 | B32: Vyplnění položky Zúčtovaný příjem - celkem | C32: 10286 | D32: Souhrnná data zaměstnance | E32: Formulář zaměstnance (form) | F32: ePortál | G32: nepropustná | H32: DIS | I32: nepropustná | J32: F4 | K32: (10286) nesmí být záporné číslo --- 10286 Zúčtovaný příjem - celkem | L32: Musí být uvedena hodnota větší nebo rovna nule. | M32: nová | N32: OŘ3: ČSSZ-174, DIS řešeno na úrovni XSD
A33: 74 | B33: Výše vyplaceného měsíčního daňového bonusu | C33: 10306 | D33: Souhrnná data zaměstnance | E33: Formulář zaměstnance (form) | F33: ePortál | G33: nepropustná | H33: cJMHZ | I33: propustná | J33: F5 | K33: ="(10306) může nabývat jen hodnoty větší nebo rovné nule (nemůže mít zápornou hodnotu), v případě kladné hodnoty nemůže být nižší než "& ('Parametrické konstanty'!D15) &" Kč. --- 10306 Výše vyplaceného měsíčního daňového bonusu" -> (10306) může nabývat jen hodnoty větší nebo rovné nule (nemůže mít zápornou hodnotu), v případě kladné hodnoty nemůže být nižší než 50 Kč. --- 10306 Výše vyplaceného měsíčního daňového bonusu | L33: Hodnota musí být rovna nule nebo větší rovno než 50 Kč. | M33: nová
A34: 78 | B34: Přeplatek nebo nedoplatek z ročního zúčtování je roven součtu příslušných položek | C34: 10321 10322 10323 10239 | D34: Souhrnná data zaměstnance | E34: Formulář zaměstnance (form) | F34: ePortál | G34: nepropustná | H34: DIS | I34: nepropustná | J34: F4 | K34: Přeplatek nebo nedoplatek z ročního zúčtování (10321), musí být roven (10322) + (10323). Kontrola nepostihuje dat. scénář pronájem mezinárodní síly, (10239) = "12". --- 10321 Přeplatek nebo nedoplatek z ročního zúčtování 10322 Přeplatek nebo nedoplatek z ročního zúčtování - z toho přeplatek na dani nebo nedoplatek daně 10323 Přeplatek nebo nedoplatek z ročního zúčtování - z toho doplatek na daňovém bonusu nebo přeplacená částka daňového bonusu zaměstnanci | L34: Hodnota neodpovídá součtu dílčích položek. | M34: nová
A35: 79 | B35: Roční zúčtování záloh - Přeplatek nebo nedoplatek z ročního zúčtování | C35: 10321 10322 10323 10420 10454 10320 10239 | D35: Souhrnná data zaměstnance | E35: Formulář zaměstnance (form) | F35: ePortál | G35: nepropustná | H35: DIS | I35: nepropustná | J35: F4 | K35: Pokud je uvedeno, že proběhlo roční zúčtování záloh (10320) = "ANO", pak musí být vyplněny položky: 10321, 10322, 10323, 10420, 10454. Kontrola nepostihuje dat. scénář pronájem mezinárodní síly, (10239) = "12". --- 10321 Přeplatek nebo nedoplatek z ročního zúčtování 10322 Přeplatek nebo nedoplatek z ročního zúčtování - z toho přeplatek na dani nebo nedoplatek daně 10323 Přeplatek nebo nedoplatek z ročního zúčtování - z toho doplatek na daňovém bonusu nebo přeplacená částka daňového bonusu zaměstnanci 10420 Uplatněna sleva na manželku / manžela 10454 Uplatněno daňové zvýhodnění na děti 10320 Roční zúčtování záloh bylo provedeno 10239 Druh činnosti | L35: Není uvedena hodnota pro roční zúčtování záloh. | M35: nová
A36: 81 | B36: Rodné číslo splňuje modulo | C36: 10457 | D36: Souhrnná data zaměstnance | E36: Formulář zaměstnance (form) | F36: ePortál | G36: nepropustná | H36: DIS | I36: nepropustná | J36: F4 | K36: Rodné číslo (10457) nesplňuje modulo pro RČ. --- 10457 Rodné číslo uživatele | L36: Chybně uvedené rodné číslo. | M36: nová
A37: 82 | B37: Vyplnění položky Výplatní termín při nastání specifické právní skutečnosti | C37: 10410 10408 | D37: Příjem v daném měsíci | E37: Formulář zaměstnance (form) | F37: ePortál | G37: nepropustná | H37: cJMHZ | I37: nepropustná | J37: F5 | K37: Pokud je uvedena specifická právní skutečnost (10408), pak musí být uveden výplatní termín (10410) u všech součástí podání. --- 10408 Specifická právní skutečnost 10410 Výplatní termín při nastání specifické právní skutečnosti | L37: Výplatní termín musí být uveden. | M37: nová
A38: 84 | B38: Pořadí balíku dat | C38: 10002 10003 | D38: Meta atributy | E38: Měsíční podání JMHZ | F38: ePortál | G38: nepropustná | H38: DIS | I38: nepropustná | J38: T5 | K38: Pořadí balíku (10002) nesmí být vyšší, než počet balíků (10003). --- 10002 Pořadí balíku dat 10003 Počet balíků dat | L38: Pořadí balíku nesmí být vyšší než počet balíků. | M38: nová
A39: 87 | B39: Správnost kódu ELDP | C39: 10240 10239 | D39: Průběh pojištění v daném měsíci | E39: Formulář zaměstnance (form) | F39: ePortál | G39: nepropustná | H39: cJMHZ | I39: nepropustná | J39: F5 | K39: První pozice kódu ELDP (10240) musí odpovídat kódu položky v číselníku Druh činnosti (10239). --- 10239 Druh činnosti 10240 Kód ELDP | L39: Kód ELDP neodpovídá číselníku Druh činnosti. | M39: nová | N39: atribut (10239) Druh činnosti výchází z dat v registrace zaměstnance
A40: 88 | B40: Datum a čas vyplnění podání | C40: 10005 | D40: Meta atributy | E40: Měsíční podání JMHZ | F40: ePortál | G40: nepropustná | H40: DIS | I40: nepropustná | J40: T6 | K40: (10005) <= aktuálnímu datu. --- 10005 Datum a čas vyplnění podání | L40: Datum vyplnění podání musí být nižší nebo rovno aktuálnímu datu. | M40: nová
A41: 90 | B41: Měsíc | C41: 10010 | D41: Meta atributy | E41: Měsíční podání JMHZ | F41: ePortál | G41: nepropustná | H41: DIS | I41: nepropustná | J41: T6 | K41: (10010, 10011) < aktuální kalendářní datum (měsíc a rok). --- 10010 Měsíc 10011 Rok | L41: Měsíc musí být nižší aktuálnímu měsíci a roku. | M41: nová | N41: opraveno v rámci 3.kola OŘ - ČSSZ 182
A42: 93 | B42: Počet formulářů v balíků musí být maximálně jako Počet formulářů celkem | C42: 10015 10488 | D42: Meta atributy | E42: Měsíční podání JMHZ | F42: ePortál | G42: nepropustná | H42: DIS | I42: nepropustná | J42: T5 | K42: (10015) <= (10488) --- 10015 Počet formulářů v balíku dat 10488 Počet formulářů celkem | L42: Počet formulářů v balíku musí být maximálně jako Počet formulářů celkem. | M42: nová
A43: 94 | B43: Stanovený fond pro danou profesi (v hodinách měsíčně) | C43: 10259 | D43: Vykonávaná pozice zaměstnance | E43: Formulář zaměstnance (form) | F43: ePortál | G43: nepropustná | H43: DIS | I43: nepropustná | J43: F4 | K43: (10259) >= 0 --- 10259 Pracovní doba stanovená pro danou profesi (v hodinách měsíčně) | L43: Stanovený fond pro danou profesi musí být kladná nebo nulová hodnota. | M43: nová
A44: 95 | B44: Sjednaný fond pracovní doby (v hodinách měsíčně) | C44: 10260 | D44: Vykonávaná pozice zaměstnance | E44: Formulář zaměstnance (form) | F44: ePortál | G44: nepropustná | H44: DIS | I44: nepropustná | J44: F4 | K44: (10260) >= 0 --- 10260 Pracovní doba sjednaná (v hodinách měsíčně) | L44: Sjednaný fond pracovní doby musí být kladná nebo nulová hodnota. | M44: nová
A45: 96 | B45: Stanovená týdenní pracovní doba zaměstnance (§ 79 zákoníku práce) | C45: 10261 | D45: Vykonávaná pozice zaměstnance | E45: Formulář zaměstnance (form) | F45: ePortál | G45: nepropustná | H45: DIS | I45: nepropustná | J45: F4 | K45: (10261) > 0 --- 10261 Stanovená týdenní pracovní doba zaměstnance (§79 zákoníku práce) | L45: Stanovená týdenní pracovní doba musí být kladná hodnota. | M45: nová
A46: 97 | B46: Osvobozené příjmy ze zúčtovaných příjmů - celkem | C46: 10289 10286 | D46: Souhrnná data zaměstnance | E46: Formulář zaměstnance (form) | F46: ePortál | G46: nepropustná | H46: DIS | I46: nepropustná | J46: F4 | K46: (10289) =< (10286) --- 10289 Osvobozené příjmy ze zúčtovaných příjmů - celkem 10286 Zúčtovaný příjem - celkem | L46: Hodnota osvobozených příjmů nesmí být vyšší než zúčtovaný příjem - celkem. | M46: nová
A47: 98 | B47: Počet dní nesmí být vyšší než počet kalendářních dní v daném měsíci | C47: 10357 10358 10359 10360 10362 10536 10366 10473 10474 10475 10375 10462 10463 10464 10465 10466 10468 10469 10010 10011 10537 10538 | D47: Průběh pojištění v daném měsíci | E47: Formulář zaměstnance (form) | F47: ePortál | G47: nepropustná | H47: DIS | I47: nepropustná | J47: F4 | K47: Hodnota pro jednotlivé atributy ve výčtu nesmí být vyšší než počet dní v daném měsíci (10010) v roce (10011 - pro přestupné roky), pouze datový scénář odložený příjem (formOdlozenyPrijem.xsd) se vyhodnocuje jinak: hodnota pro jednotlivé atributy ve výčtu nesmí být vyšší než počet dní v daném měsíci (10537) v roce (10538 - pro přestupné roky). platí pro atributy níže: --- 10357 Vyloučené doby - doba trvání omluvných důvodů uvedených v § 16 odst. 4 písm. a) a j) zákona č. 155/1995 Sb. 10358 Počet dnů trvání dočasné pracovní neschopnosti 10359 Počet dnů čerpání peněžité pomoci v mateřství (do dne předcházejícímu porodu) 10360 Počet dnů ošetřování dítěte nebo péče o ně nebo ošetřování jiného člena domácnosti, za které náleží ošetřovné/dlouhodobé ošetřovné 10362 Počet dnů čerpání otcovské 10536 Počet dnů podle § 16 odst. 4 písm. j) zákona č. 155/1995 Sb. 10366 Vyloučené dny podle § 18 odst. 7 zákona č. 187/2006 Sb. 10473 Počet dnů omluvené nepřítomnosti, za které nenáleží náhrada příjmu (neplacené volno, stávka) 10474 Počet dnů dočasné pracovní neschopnosti nebo karantény, za které náleží náhrada příjmu 10475 Počet dnů, za které bylo zaměstnanci vypláceno nemocenské, peněžitá pomoc v mateřství, otcovská, ošetřovné nebo dlouhodobé ošetřovné 10375 Doby odečítané po důchodovém věku - počet dnů 10462 Počet dnů trvání dočasné pracovní neschopnosti (karanténa) 10463 Počet dnů čerpání peněžité pomoci v mateřství (do dne předcházejícímu porodu) 10464 Počet dnů ošetřování dítěte nebo péče o ně nebo ošetřování jiného člena domácnosti, za které náleží ošetřovné/dlouhodobé ošetřovné 10465 Počet dnů ošetřování dítěte nebo péče o ně nebo ošetřování jiného člena domácnosti, za které nenáleží ošetřovné 10466 Počet dnů čerpání otcovské 10468 Počet dnů čerpání neplaceného volna 10469 Počet dnů čerpání neplaceného volna 10010 Měsíc 10011 Rok 10537 Měsíc, za který je hlášeno 10538 Rok, za který je hlášeno | L47: Hodnota nesmí být vyšší než počet dní v daném měsíci. | M47: nová
A48: 99 | B48: "Platnost kódu od/do" se týká aktuálního měsíce | C48: 10241 10242 10537 10538 10010 10011 | D48: Průběh pojištění v daném měsíci | E48: Formulář zaměstnance (form) | F48: ePortál | G48: nepropustná | H48: DIS | I48: nepropustná | J48: F4 | K48: Měsíc z intervalu (10241, 10242) musí být v měsíci, za který se podání podává (10010, 10011), pouze datový scénář odložený příjem (formOdlozenyPrijem.xsd) se vyhodnocuje jinak: datum z intervalu (10241, 10242) musí být v měsíci, za který se Odložený příjem eviduje (10537, 10538). V rámci formuláře může být evidováno více měsíců Odloženého příjmu, kontrolu je potřeba provést u každého z nich. --- 10241 Platnost kódu od 10242 Platnost kódu do 10537 Měsíc, za který je hlášeno 10538 Rok, za který je hlášeno 10010 Měsíc 10011 Rok | L48: Datum je mimo měsíc, za který je podáváno. | M48: nová
A49: 100 | B49: Platnost kódu od je menší než Platnost kódu do | C49: 10241 10242 | D49: Průběh pojištění v daném měsíci | E49: Formulář zaměstnance (form) | F49: ePortál | G49: nepropustná | H49: DIS | I49: nepropustná | J49: F4 | K49: Platnost kódu od (10241) musí být rovna nebo menší, než Platnost kódu do (10242). --- 10241 Platnost kódu od 10242 Platnost kódu do | L49: Datum kódu "od" musí být rovno nebo nižší než datum kódu "do". | M49: nová | N49: OŘ3: ČSSZ-186
A50: 103 | B50: Uvedení identifikace dočasného přidělení | C50: 10251 10252 10457 10492 10493 10494 | D50: Vykonávaná pozice zaměstnance | E50: Formulář zaměstnance (form) | F50: ePortál | G50: nepropustná | H50: DIS | I50: nepropustná | J50: F4 | K50: Pokud (10251) = "ANO", pak musí být vyplněna buď jedna nebo druhá hodnota nebo třetí množina hodnot: 1) (10252) XOR 2) (10457) XOR 3) ((10492) AND (10493) AND (10494)). --- 10251 Zaměstnání za účelem dočasného přidělení u uživatele 10252 IČO uživatele 10457 Rodné číslo uživatele 10492 Kód státu zahraniční právnické osoby nebo zahraniční fyzické osoby 10493 Registrační číslo zahraniční právnické osoby nebo identifikace zahraniční fyzické osoby 10494 Název zahraniční právnické osoby nebo zahraniční fyzické osoby | L50: Není uvedena identifikace dočasného přidělení. | M50: nová
A51: 109 | B51: Kontrola na Zúčtovaný příjem - z toho odměny členů orgánů právnických osob, kteří jsou daňovými nerezidenty ČR | C51: 10416 10286 | D51: Souhrnná data zaměstnance | E51: Formulář zaměstnance (form) | F51: ePortál | G51: nepropustná | H51: DIS | I51: nepropustná | J51: F4 | K51: (10416) <= (10286) --- 10286 Zúčtovaný příjem - celkem 10416 Zúčtovaný příjem - z toho odměny členů orgánů právnických osob, kteří jsou daňovými nerezidenty ČR | L51: Odměna člena orgánu právnických osob je vyšší než zúčtovaný příjem. | M51: nová
A52: 110 | B52: Pořadí pro určení výše daňového zvýhodnění tvoří řadu | C52: 10440 | D52: Souhrnná data zaměstnance | E52: Formulář zaměstnance (form) | F52: ePortál | G52: nepropustná | H52: DIS | I52: nepropustná | J52: F4 | K52: Při vyplňování (10440) nelze uplatnit dítě s vyšším pořadím pokud v daném měsící nejsou uvedeny děti, které jsou uvedeny s nižším pořadím nebo s "N". --- 10440 Pořadí pro určení výše daňového zvýhodnění | L52: Nelze uplatnit dítě s vyšším pořadím, pokud v daném měsíci nejsou uvedeny děti s nižším pořadím nebo s "N". | M52: nová | N52: Pro 3 děti a více je přiřazováno pořadí 1, 2, 3 a pro další dítě (4té atd.) platí, že pořadí pro určení výše daňového zvýhodnění (10440) je 3. Za dítě, na které není uplatňováno daňové zvýhodnění, je vyplněna hodnota N.
A53: 111 | B53: Počet měsíců uplatnění slevy souhlasí s možným počtem uplatnění | C53: 10430 10425 | D53: Souhrnná data zaměstnance | E53: Formulář zaměstnance (form) | F53: ePortál | G53: nepropustná | H53: DIS | I53: nepropustná | J53: F4 | K53: Pokud je sleva uplatněna (10425) = "ANO" pak, počet měsíců uplatnění slevy nabývá hodnoty 1 až 12, (10430) = <1;12>. --- 10425 Držitelka / držitel karty ZTP/P 10430 Počet měsíců uplatnění slevy - z toho počet měsíců ZTP/P | L53: Chybná hodnota v počtu měsíců uplatnění slevy ve dvojnásobné výši (ZTP/P). | M53: nová
A54: 112 | B54: Při uplatnění daňového zvýhodnění na děti je vyplněno alespoň 1 dítě (roční zúčtování) | C54: 10446 10447 10448 10451 10454 | D54: Souhrnná data zaměstnance | E54: Formulář zaměstnance (form) | F54: ePortál | G54: nepropustná | H54: DIS | I54: nepropustná | J54: F4 | K54: Pokud je (10454) = "ANO", pak jsou vyplněny všechny povinné atr. z podtřídy "Vyživované děti". --- 10446 Jméno 10447 Příjmení 10448 Datum narození nebo 10449 Rodné číslo 10451 Pořadí pro určení výše daňového zvýhodnění v jednotlivých měsících 10454 Uplatněno daňové zvýhodnění na děti | L54: Nejsou vyplněny údaje za dítě. | M54: nová
A55: 113 | B55: Povinné RČ nebo datum narození jiné vyživující osoby ve společně hospodařící domácnosti | C55: 10433 10434 | D55: Souhrnná data zaměstnance | E55: Formulář zaměstnance (form) | F55: ePortál | G55: nepropustná | H55: DIS | I55: nepropustná | J55: F4 | K55: Musí být vyplněno buď RČ (10434) nebo datum narození (10433) vyživující osoby. --- 10433 Datum narození 10434 Rodné číslo | L55: Chybí rodné číslo nebo datum narození jiné vyživující osoby ve společně hospodařící domácnosti. | M55: nová
A56: 114 | B56: Povinné RČ nebo datum narození vyživovaného dítěte | C56: 10437 10438 | D56: Souhrnná data zaměstnance | E56: Formulář zaměstnance (form) | F56: ePortál | G56: nepropustná | H56: DIS | I56: nepropustná | J56: F4 | K56: Musí být vyplněno buď RČ (10438) nebo datum narození (10437) vyživovaného dítěte. --- 10437 Datum narození 10438 Rodné číslo | L56: Chybí rodné číslo nebo datum narození vyživovaného dítěte. | M56: nová
A57: 115 | B57: Povinné RČ nebo datum narození manžela/manželky | C57: 10424 10423 | D57: Souhrnná data zaměstnance | E57: Formulář zaměstnance (form) | F57: ePortál | G57: nepropustná | H57: DIS | I57: nepropustná | J57: F4 | K57: Musí být vyplněno buď RČ (10423) nebo datum narození (10424) manžela/manželky --- 10423 Rodné číslo manželky / manžela 10424 Datum narození manželky / manžela | L57: Chybí rodné číslo nebo datum narození manžela/manželky. | M57: nová
A58: 118 | B58: Pojistné za zaměstnance | C58: 10370 10477 | D58: Průběh pojištění v daném měsíci | E58: Formulář zaměstnance (form) | F58: ePortál | G58: nepropustná | H58: DIS | I58: nepropustná | J58: F4 | K58: ="Pojistné na sociální zabezpečení za zaměstnance (10370) = " & 'Parametrické konstanty'!D7 & " z vyměřovacvího základu zaměstnance (10477), výsledná hodnota se zaokrouhluje na celé koruny směrem nahoru."& CHAR(10) & "---" & CHAR(10) & "10477 Částka vyměřovacího základu zaměstnance, ze které je odváděno pojistné" & CHAR(10) & "10370 Sociální pojištění" -> Pojistné na sociální zabezpečení za zaměstnance (10370) = 0.071 z vyměřovacvího základu zaměstnance (10477), výsledná hodnota se zaokrouhluje na celé koruny směrem nahoru. --- 10477 Částka vyměřovacího základu zaměstnance, ze které je odváděno pojistné 10370 Sociální pojištění | L58: Pojistné za zaměstnance neodpovídá vyměřovacímu základu zaměstnance. | M58: nová | N58: OŘ: ČSSZ-220
A59: 121 | B59: Kontrola vyplnění vyloučených dob dle § 16 odst. 4 písm | C59: 10357 10358 10359 10360 10362 10536 | D59: Průběh pojištění v daném měsíci | E59: Formulář zaměstnance (form) | F59: ePortál | G59: nepropustná | H59: DIS | I59: nepropustná | J59: F4 | K59: Pokud (10357) > 0, pak platí že, 10357 = (10358 + 10359 + 10360 + 10362 + 10536) --- 10357 Vyloučené doby - doba trvání omluvných důvodů uvedených v § 16 odst. 4 písm. a) zákona č. 155/1995 Sb. 10358 Počet dnů trvání dočasné pracovní neschopnosti 10359 Počet dnů čerpání peněžité pomoci v mateřství (do dne předcházejícímu porodu) 10360 Počet dnů ošetřování dítěte nebo péče o ně nebo ošetřování jiného člena domácnosti, za které náleží ošetřovné/dlouhodobé ošetřovné 10362 Počet dnů čerpání otcovské 10536 Počet dnů podle § 16 odst. 4 písm. j) zákona č. 155/1995 Sb. | L59: Vyloučené doby - doba trvání omluvných důvodů uvedených v § 16 odst. 4 písm. a) zákona č. 155/1995 Sb. musí být rovna sumě atributů: Počet dnů trvání dočasné pracovní neschopnosti, Počet dnů čerpání peněžité pomoci v mateřství (do dne předcházejícímu porodu), Počet dnů ošetřování dítěte nebo péče o ně nebo ošetřování jiného člena domácnosti, za které náleží ošetřovné/dlouhodobé ošetřovné, Počet dnů čerpání otcovské, Počet dnů podle § 16 odst. 4 písm. j) zákona č. 155/1995 Sb. | M59: nová
A60: 123 | B60: Kontrola vyplnění data nastání specifické právní skutečnosti | C60: 10408 10409 | D60: Souhrnná vrstva | E60: Souhrnná vrstva (souhrn) | F60: ePortál | G60: nepropustná | H60: DIS | I60: nepropustná | J60: F4 | K60: Pokud je uvedena Typ specifické právní skutečnsti (10408), pak musí být vyplněna položka Datum nastání specifické právní skutečnosti (10409). --- 10408 Specifická právní skutečnost 10409 Datum nastání specifické právní skutečnosti | L60: Není vyplněno datum nastání specifické právní skutečnosti. | M60: nová
A61: 124 | B61: Kontrola vyplnění údaje za manžela / manželku (roční zúčtování) | C61: 10420 10421 10422 10423 10424 10425 10426 | D61: Souhrnná data zaměstnance | E61: Formulář zaměstnance (form) | F61: ePortál | G61: nepropustná | H61: DIS | I61: nepropustná | J61: F4 | K61: Pokud je (10420) = "ANO", pak musí být vyplněny položky (10421), (10422), (10423) nebo (10424), (10425), (10426). --- 10421 Jméno manželky / manžela 10422 Příjmení manželky / manžela 10423 Rodné číslo manželky / manžela nebo 10424 Datum narození manželky / manžela 10425 Držitelka / držitel karty ZTP/P 10426 Počet měsíců uplatnění slevy 10420 Uplatněna sleva na manželku / manžela | L61: Nejsou uvedena všechna povinná pole pro uplatnění slevy za manžela / -ku. | M61: nová
A62: 125 | B62: Kontrola vyplnění počet měsíců uplatnění slevy ZTP/P (roční zúčtování) | C62: 10430 10420 10425 | D62: Souhrnná data zaměstnance | E62: Formulář zaměstnance (form) | F62: ePortál | G62: nepropustná | H62: DIS | I62: nepropustná | J62: F4 | K62: Pokud je (10420) = "ANO" a zároveň (10425) = "ANO", pak musí být (10430) z intervalu <1;12>. --- 10430 Počet měsíců uplatnění slevy - z toho počet měsíců ZTP/P 10420 Uplatněna sleva na manželku / manžela 10425 Držitelka / držitel karty ZTP/P | L62: Počet měsíců musí být roven nebo nižší než počet měsíců uplatnění slevy na ZTP/P. | M62: nová
A63: 126 | B63: Kontrola na vyplnění údajů další vyživující osoby (roční zúčtování) | C63: 10441 10442 10443 10444 10445 10455 | D63: Souhrnná data zaměstnance | E63: Formulář zaměstnance (form) | F63: ePortál | G63: nepropustná | H63: DIS | I63: nepropustná | J63: F4 | K63: Pokud je (10455) = "ANO", musí být vyplněny položky (10441), (10442), (10443) nebo (10444), (10445). --- 10441 Jméno 10442 Příjmení 10443 Datum narození nebo 10444 Rodné číslo 10445 Měsíce vyživování 10455 Vyživuje tytéž děti v téže společně hospodařící domácnosti i jiná osoba | L63: Nejsou vyplněny údaje za další vyživující osobu. | M63: nová
A64: 127 | B64: Kontrola na vyplnění údajů další vyživující osoby | C64: 10453 10431 10432 10433 10434 | D64: Souhrnná data zaměstnance | E64: Formulář zaměstnance (form) | F64: ePortál | G64: nepropustná | H64: DIS | I64: nepropustná | J64: F4 | K64: Pokud je (10453) = "ANO", musí být vyplněny položky (10431), (10432), (10433) nebo (10434). --- 10431 Jméno 10432 Příjmení 10433 Datum narození nebo 10434 Rodné číslo 10453 Vyživuje tytéž děti v téže společně hospodařící domácnosti i jiná osoba | L64: Nejsou vyplněny údaje za další vyživující osobu. | M64: nová
A65: 128 | B65: Při uplatnění daňového zvýhodnění na děti je vyplněno alespoň 1 dítě | C65: 10303 10435 10436 10437 10438 10440 10439 | D65: Souhrnná data zaměstnance | E65: Formulář zaměstnance (form) | F65: ePortál | G65: nepropustná | H65: DIS | I65: nepropustná | J65: F4 | K65: Pokud (10303) > 0, pak musí být vyplněny všechny povinné atr. z třídy "Výpočet zálohy na daň" a podtřídy "Vyživované děti" --- 10435 Jméno 10436 Příjmení 10437 Datum narození nebo 10438 Rodné číslo 10440 Pořadí pro určení výše daňového zvýhodnění 10303 Měsíční daňové zvýhodnění na děti 10439 Průkaz ZTP/P | L65: Nejsou vyplněny údaje za děti. | M65: nová
A66: 129 | B66: Číslo měsíce | C66: 10010 | D66: Meta atributy | E66: Měsíční podání JMHZ | F66: ePortál | G66: nepropustná | H66: DIS | I66: nepropustná | J66: T6 | K66: Uvedené číslo měsíce (10010) = <1,12>. --- 10010 Měsíc | L66: Číslo měsíce musí být v rozsahu 1-12 včetně. | M66: nová
A67: 130 | B67: Kontrola, že datum od je nižší nebo roven než datum do (průběh studia) | C67: 10263 10264 | D67: Průběh teoretické a praktické přípravy | E67: Formulář zaměstnance (form) | F67: ePortál | G67: nepropustná | H67: DIS | I67: nepropustná | J67: F4 | K67: Datum od (10263) musí být nižší nebo roven než Datum do (10264). --- 10263 Datum od 10264 Datum do | L67: Datum od musí být nižší než Datum do. | M67: nová | N67: OŘ3: ČSSZ-203
A68: 131 | B68: Rok | C68: 10011 10010 | D68: Meta atributy | E68: Měsíční podání JMHZ | F68: ePortál | G68: nepropustná | H68: DIS | I68: nepropustná | J68: T6 | K68: Měsíc (10010) a rok (10011), za které je podávno, musí být vyšší nebo rovno "leden 2026". --- 10010 Měsíc 10011 Rok | L68: JMHZ neslouží pro hlášení za zvolené období. | M68: nová | N68: OŘ3: ČSSZ-210
A69: 132 | B69: Kontrola roku pro podání opravného hlášení. | C69: 10011 | D69: Meta atributy | E69: Měsíční podání JMHZ | F69: ePortál | G69: nepropustná | H69: DIS | I69: nepropustná | J69: T6 | K69: Opravné hlášení lze podat nejpozději do 10 let (10006) od konce kalendářního roku (10011), ve kterém byl zaměstnavatel povinen podat jednotné měsíční hlášení, které je opravováno (10007). --- 10011 Rok 10006 Datum a čas přijetí podání 10007 Typ podání | L69: Zvolený rok přesahuje období pro hlášení do JMHZ. | M69: nová | N69: OŘ3: ČSSZ-210
A70: 133 | B70: Kontrola správnosti Kódu ELDP při zaměstnání malého rozsahu | C70: 10240 10243 | D70: Průběh pojištění v daném měsíci | E70: Měsíční podání JMHZ | F70: ePortál | G70: nepropustná | H70: cJMHZ | I70: nepropustná | J70: F5 | K70: 1.: je-li první pozice údaje Kód ELDP (10240) = "T", "U", "V", "W", "X", "Y", "Z", "ZA", "ZB", "ZC" pak hodnota Malý rozsah (10243) nesmí být = "A" 2.: je-li třetí pozice údaje Kód (10240)= "B", "F", "J", "V", "T", pak hodnota Malý rozsah (10243) nesmí být = "A" 3.: je-li druhý pozice údaje Kód (10240) = "P", pak hodnota údaje Malý rozsah (10243) nesmí být = "A" --- 10240 Kód ELDP 10243 Zaměstnání malého rozsahu | L70: U daného kódu ELDP není možné zaměstnání malého rozsahu. | M70: AS-IS | N70: OŘ3: ČSSZ-213
A71: 134 | B71: Počet kalendářních dnů trvání pojištění v daném kalendářním měsíci - interval | C71: 10356 10355 10354 | D71: Průběh pojištění v daném měsíci | E71: Formulář zaměstnance (form) | F71: ePortál | G71: nepropustná | H71: DIS | I71: nepropustná | J71: F4 | K71: Uvedený počet dnů (10356) <= (10355) - (10354) --- 10356 Počet kalendářních dnů doby důchodového pojištění v daném kalendářním měsíci 10354 Pojištění od 10355 Pojištění do | L71: Počet kalendářních dnů neodpovídá uvedeným datům trvání pojištění v daném měsíci. | M71: nová | N71: OŘ: 204-ČSSZ
A72: 135 | B72: Uvedení trvání pojištění v daném měsíci | C72: 10356 10375 10240 10354 10355 | D72: Průběh pojištění v daném měsíci | E72: Formulář zaměstnance (form) | F72: ePortál | G72: nepropustná | H72: DIS | I72: nepropustná | J72: F4 | K72: 1.: Je-li v údaji Kód ELDP na druhé pozici "V", pak údaj Započtené dny (10356) < nebo = Σ dnů z intervalu od (10354) – do (10355). 2.: Je-li druhá pozice údaje Kód ELDP = "P", pak údaj Započtené dny (10356) = 0. 3.: Je-li druhá pozice údaje Kód ELDP různý od "P" a "V" a zároveň třetí pozice údaje Kód ELDP roven "T" a zároveň jsou uvedeny Odečtené doby (10375), pak hodnota údaje Započtené dny (10356) se musí rovnat součtu dnů z intervalu (od (10354) – do (10355)) - Odečtené doby (10375). --- 10356 Počet kalendářních dnů trvání doby důchodového pojištění v daném kalendářním měsíci (Započtené dny) 10375 Odečtené doby 10240 Kód ELDP 10354 Pojištění od 10355 Pojištění do | L72: Uvedená doba trvání pojištění neodpovídá kódu ELDP. | M72: nová | N72: OŘ: ČSSZ-214
A73: 137 | B73: Vyplnění důvodu uplatnění slevy | C73: 10374 10372 | D73: Průběh pojištění v daném měsíci | E73: Formulář zaměstnance (form) | F73: ePortál | G73: nepropustná | H73: DIS | I73: nepropustná | J73: F4 | K73: Pokud je (10372) = "ANO" pak, Důvod uplatnění slevy (10374) musí být vyplněn --- 10372 Sleva na pojistném 10374 Důvod uplatnění slevy | L73: Důvod uplatnění slevy musí být vyplněn, pokud je za zaměstnance uplatněna sleva na pojistném zaměstnavatele. | M73: nová | N73: OŘ3: ČSSZ-51
A74: 138 | B74: Kratší rozsah pracovní/služební doby musí být vyplněn | C74: 10373 10372 10374 | D74: Průběh pojištění v daném měsíci | E74: Formulář zaměstnance (form) | F74: ePortál | G74: nepropustná | H74: DIS | I74: nepropustná | J74: F4 | K74: Pakliže je (10372) = "ANO" a zároveň Důvod uplatnění slevy (10374) = "A" až "F" pak, kratší rozsah pracovní/služební doby (10373) musí být vyplněn. --- 10372 Sleva na pojistném zaměstnavatele 10373 Rozsah kratší pracovní/služební doby 10374 Důvod uplatnění slevy" | L74: Kratší rozsah služební doby musí být vyplněn. | M74: nová | N74: OŘ3: ČSSZ-51
A75: 140 | B75: Neuvedení požadavku na příspěvek APZ v aktuálním měsíci, když v předchozím měsíci byl uveden | C75: 10232 10010 | D75: Vykonávaná pozice zaměstnance | E75: Formulář zaměstnance (form) | F75: ePortál | G75: nepropustná | H75: cJMHZ | I75: propustná | J75: F5 | K75: Pokud zaměstnavatel v měsíčním hlášení nevyplní atribut APZ (10232 = "ANO"), ačkoliv ho v předchozím měsíci(10010) uvedl, bude na tuto skutečnost upozorněn. --- 10010 Měsíc 10232 Mzdový příspěvek v rámci nástrojů APZ | L75: V minulém měsíci byl uveden požadavek na příspěvek APZ. | M75: nová
A76: 142 | B76: Úhrn vyměřovacích základů zaměstnanců zaměstnavatele, kteří vykonávají činnost v rizikovém zaměstnání | C76: 10483 10480 | D76: Přehled o výši pojistného | E76: Formulář PVPOJ a zaměstnance | F76: ePortál | G76: propustná | H76: cJMHZ | I76: propustná | J76: F5 | K76: Úhrn vyměřovacích základů zaměstnanců zaměstnavatele, kteří vykonávají činnost v rizikovém zaměstnání (10483) se = ∑ (n) vyměřovacích základů dotčených zaměstnanců (10480). --- 10480 Částka vyměřovacího základu zaměstnance, která vstupuje do částky vyměřovacího základu zaměstnavatele podle § 5a odst. 1 písm. c) ZPSZ 10483 Úhrn vyměřovacích základů zaměstnanců, kteří vykonávají rizikové zaměstnání | L76: Úhrn nesouhlasí se součtem vyměřovacích základů dotčených zaměstnanců, kteří vykonávají činnost v rizikovém zaměstnání. | M76: nová
A77: 143 | B77: Variabilní symbol zaměstnavatele | C77: 10221 | D77: Zaměstnavatel / Škola / Vzdělávací zařízení | E77: Souhrnná vrstva (souhrn) | F77: ePortál | G77: nepropustná | H77: DIS | I77: nepropustná | J77: T5 | K77: Standardní kontrola tvaru VS a Kontrola vůči registru zaměstnavatelů. --- 10221 Variabilní symbol | L77: Variabilní symbol není platný. | M77: nová
A78: 144 | B78: Překážky na straně zaměstnance s náhradou mzdy/platu - počet neodpracovaných hodin | C78: 10471 10260 | D78: Průběh zaměstnání v daném měsíci | E78: Formulář zaměstnance (form) | F78: ePortál | G78: nepropustná | H78: DIS | I78: nepropustná | J78: F4 | K78: Hodnota Překážky na straně zaměstnance s náhradou mzdy/platu - počet neodpracovaných hodin (10471) nesmí být vyšší než Pracovní doba sjednaná (v hodinách měsíčně) (10260). --- 10260 Pracovní doba sjednaná (v hodinách měsíčně) 10471 Překážky na straně zaměstnance s náhradou mzdy/platu - počet neodpracovaných hodin | L78: Hodnota Překážky na straně zaměstnance s náhradou mzdy/platu - počet neodpracovaných hodin nesmí být vyšší než Pracovní doba sjednaná (v hodinách měsíčně). | M78: nová
A79: 145 | B79: Překážky na straně zaměstnavatele - počet neodpracovaných hodin | C79: 10472 10260 | D79: Průběh zaměstnání v daném měsíci | E79: Formulář zaměstnance (form) | F79: ePortál | G79: nepropustná | H79: DIS | I79: nepropustná | J79: F4 | K79: Hodnota Překážky na straně zaměstnavatele - počet neodpracovaných hodin (10472) nesmí být vyšší než Sjednaný fond pracovní doby (v hodinách měsíčně) (10260). --- 10260 Sjednaný fond pracovní doby (v hodinách měsíčně) 10472 Překážky na straně zaměstnavatele - počet neodpracovaných hodin | L79: Hodnota Překážky na straně zaměstnavatele - počet neodpracovaných hodin nesmí být vyšší než Sjednaný fond pracovní doby (v hodinách měsíčně). | M79: nová
A80: 148 | B80: Specifická právní skutečnost | C80: 10408 | D80: Souhrnná vrstva | E80: Souhrnná vrstva (souhrn) | F80: ePortál | G80: nepropustná | H80: DIS | I80: nepropustná | J80: F4 | K80: Hodnota musí být z číselníku. --- 10408 Specifická právní skutečnost | L80: ="Hodnota " & B80 & " neodpovídá číselníku." -> Hodnota Specifická právní skutečnost neodpovídá číselníku. | M80: nová
A81: 150 | B81: Typ kolektivní smlouvy/dohody | C81: 10214 | D81: Souhrnná vrstva | E81: Souhrnná vrstva (souhrn) | F81: n/a | G81: n/a | H81: DIS | I81: nepropustná | J81: F4 | K81: Hodnota musí být z číselníku --- 10214 Kolektivní smlouva/dohoda | L81: ="Hodnota " & B81 & " neodpovídá číselníku." -> Hodnota Typ kolektivní smlouvy/dohody neodpovídá číselníku. | M81: nová
A82: 151 | B82: Forma vlastnictví | C82: 10220 | D82: Souhrnná vrstva | E82: Souhrnná vrstva (souhrn) | F82: n/a | G82: n/a | H82: DIS | I82: nepropustná | J82: F4 | K82: Hodnota musí být z číselníku --- 10220 Forma | L82: ="Hodnota " & B82 & " neodpovídá číselníku." -> Hodnota Forma vlastnictví neodpovídá číselníku. | M82: nová
A83: 152 | B83: Kód obce | C83: 10230 | D83: Vykonávaná pozice zaměstnance | E83: Formulář zaměstnance (form) | F83: n/a | G83: n/a | H83: DIS | I83: nepropustná | J83: F4 | K83: Hodnota musí být z číselníku --- 10230 Kód obce | L83: ="Hodnota " & B83 & " neodpovídá číselníku." -> Hodnota Kód obce neodpovídá číselníku. | M83: nová
A84: 153 | B84: Kód státu | C84: 10231 | D84: Vykonávaná pozice zaměstnance | E84: Formulář zaměstnance (form) | F84: n/a | G84: n/a | H84: DIS | I84: nepropustná | J84: F4 | K84: Hodnota musí být z číselníku --- 10231 Stát | L84: ="Hodnota " & B84 & " neodpovídá číselníku." -> Hodnota Kód státu neodpovídá číselníku. | M84: nová
A85: 154 | B85: Nástroj opatření - APZ | C85: 10233 | D85: Vykonávaná pozice zaměstnance | E85: Formulář zaměstnance (form) | F85: n/a | G85: n/a | H85: DIS | I85: nepropustná | J85: F4 | K85: Hodnota musí být z číselníku --- 10233 Nástroj (opatření) | L85: ="Hodnota " & B85 & " neodpovídá číselníku." -> Hodnota Nástroj opatření - APZ neodpovídá číselníku. | M85: nová
A86: 155 | B86: Druh činnosti | C86: 10239 | D86: Vykonávaná pozice zaměstnance | E86: Formulář zaměstnance (form) | F86: n/a | G86: n/a | H86: DIS | I86: nepropustná | J86: F4 | K86: Hodnota musí být z číselníku --- 10239 Druh činnosti | L86: ="Hodnota " & B86 & " neodpovídá číselníku." -> Hodnota Druh činnosti neodpovídá číselníku. | M86: nová
A87: 156 | B87: Kategorizace rizika | C87: 10274 | D87: Průběh zaměstnání v daném měsíci | E87: Formulář zaměstnance (form) | F87: n/a | G87: n/a | H87: DIS | I87: nepropustná | J87: F4 | K87: Hodnota musí být z číselníku --- 10274 Kategorizace rizika | L87: ="Hodnota " & B87 & " neodpovídá číselníku." -> Hodnota Kategorizace rizika neodpovídá číselníku. | M87: nová
A88: 157 | B88: Kód ELDP | C88: 10240 | D88: Průběh pojištění v daném měsíci | E88: Formulář zaměstnance (form) | F88: n/a | G88: n/a | H88: DIS | I88: nepropustná | J88: F4 | K88: Hodnota musí být z číselníku --- 10240 Kód ELDP | L88: ="Hodnota " & B88 & " neodpovídá číselníku." -> Hodnota Kód ELDP neodpovídá číselníku. | M88: nová
A89: 158 | B89: Důvod uplatnění slevy | C89: 10374 | D89: Průběh pojištění v daném měsíci | E89: Formulář zaměstnance (form) | F89: n/a | G89: n/a | H89: DIS | I89: nepropustná | J89: F4 | K89: Hodnota musí být z číselníku --- 10374 Důvod uplatnění slevy | L89: ="Hodnota " & B89 & " neodpovídá číselníku." -> Hodnota Důvod uplatnění slevy neodpovídá číselníku. | M89: nová
A90: 159 | B90: Mzdový příspěvek v rámci nástrojů APZ | C90: 10232 10233 | D90: Vykonávaná pozice zaměstnance | E90: Formulář zaměstnance (form) | F90: n/a | G90: n/a | H90: DIS | I90: nepropustná | J90: F4 | K90: Pokud je (10232) = "ANO", potom musí být vyplněn (10233). --- 10232 Mzdový příspěvek v rámci nástrojů APZ 10233 Nástroj (opatření) | L90: Chybí nástroj v rámci APZ. | M90: nová
A91: 162 | B91: Pokud vznikla účast na pojistném, je třeba vyplnit alespoň jeden typ vyměřovacího základu zaměstnavatele podle § 5a odst. 1 písm. a, b nebo c | C91: 10023 10025 10483 | D91: Přehled o výši pojistného | E91: Formulář PVPOJ (pvpoj) | F91: ePortál | G91: nepropustná | H91: DIS | I91: nepropustná | J91: F4 | K91: Atributy musí být vyplněny: 1) (10023, 10025, 10483) = 0 2) nebo v jedné z položek (10023, 10025, 10483) musí být nenulová kladná hodnota. --- 10023 Úhrn vyměřovacích základů zaměstnanců, kteří nevykonávají činnost v rizikovém zaměstnání nebo nejsou zdravotnickými záchranáři nebo členy HZS podniku 10025 Úhrn vyměřovacích základů zaměstnanců, kteří jsou zdravotnickými záchranáři nebo členy HZS podniku 10483 Úhrn vyměřovacích základů zaměstnanců, kteří vykonávají rizikové zaměstnání | L91: Je potřeba vyplnit alespoň jednu částku vyměřovacího základu zaměstnavatele nebo nuly. | M91: nová
A92: 164 | B92: Kontrola na uplatnění slevy na pojistném zaměstnavatele v rámci splatnosti pojistného | C92: 10032 10006 10010 10011 10016 | D92: Přehled o výši pojistného | E92: Formulář PVPOJ (pvpoj) | F92: ePortál | G92: nepropustná | H92: DIS | I92: nepropustná | J92: F4 | K92: Pokud je (10016) = "R" a současně (10032) > 0 a (10006) je po lhůtě splatnosti pojistného (lhůta se určuje podle atributů (10010), (10011) na DIS pomocí kalendáře splatnosti), pak slevu na pojistném zaměstnavatele (10032) nelze uplatnit. --- 10032 Sleva na pojistném zaměstnavatele 10006 Datum a čas přijetí podání 10010 Měsíc 10011 Rok 10016 Typ formuláře | L92: Slevu na pojistném zaměstnavatele nelze uplatnit po lhůtě splatnosti pojistného. | M92: nová | N92: DŮLEŽITÉ: tato kontrola 164 bude pro podání za měsíce 1,2,3/2026 vypnuta, tento bypass platí do 30. 06. 2026 vysvětlení lhůta splatnosti: pojistné je splatné od 1. do 20. dne následujícího kalendářního měsíce. Připadne-li 20. den na sobotu, neděli nebo státní svátek, považuje se za den splatnosti nejbližší následující pracovní den.
A93: 165 | B93: Kontrola vyplnění vyloučených dob dle § 18 odst. 7 | C93: 10366 10473 10474 10475 | D93: Průběh pojištění v daném měsíci | E93: Formulář zaměstnance (form) | F93: ePortál | G93: nepropustná | H93: DIS | I93: nepropustná | J93: F4 | K93: Pro datové scénáře: 1) druh činnosti: 1 až 9 s příznakem (10502) = "žádné"; A až J; T až ZC, formBezPriznaku.xsd 2) druh činnosti: M, formPestoun.xsd 3) druh činnosti: K, N, O, P, Q, R, S nebo 1 až 9 s příznakem (10502) = "Pracovní vztah specifické skupiny", formCinnostKS.xsd 4) druh činnosti: odložený příjem, formOdlozenyPrijem.xsd platí následující kontrola: pokud je (10366) > 0, pak musí být (10366) = (10473 + 10474 + 10475) --- 10473 Počet dnů omluvené nepřítomnosti, za které nenáleží náhrada příjmu (neplacené volno, stávka) 10474 Počet dnů dočasné pracovní neschopnosti nebo karantény, za které náleží náhrada příjmu 10475 Počet dnů, za které bylo zaměstnanci vypláceno nemocenské, peněžitá pomoc v mateřství, otcovská, ošetřovné nebo dlouhodobé ošetřovné 10366 Vyloučené dny podle § 18 odst. 7 zákona č. 187/2006 Sb. | L93: Vyloučené dny celkem musí být součtem jednotlivých typů vyloučených dnů. | M93: nová
A94: 166 | B94: Kontrola vyplnění odečítaných dnů | C94: 10462 10463 10464 10465 10466 10468 10469 10375 | D94: Průběh pojištění v daném měsíci | E94: Formulář zaměstnance (form) | F94: ePortál | G94: nepropustná | H94: DIS | I94: nepropustná | J94: F4 | K94: Pokud (10375) > 0, pak platí že, 10375 = (10462 + 10463 + 10464 + 10465 + 10466 + 10468 + 10469). --- 10462 Počet dnů trvání dočasné pracovní neschopnosti (karanténa) 10463 Počet dnů čerpání peněžité pomoci v mateřství (do dne předcházejícímu porodu) 10464 Počet dnů ošetřování dítěte nebo péče o ně nebo ošetřování jiného člena domácnosti, za které náleží ošetřovné/dlouhodobé ošetřovné 10465 Počet dnů ošetřování dítěte nebo péče o ně nebo ošetřování jiného člena domácnosti, za které nenáleží ošetřovné 10466 Počet dnů čerpání otcovské 10468 Počet dnů čerpání neplaceného volna 10469 Počet dnů neomluvené absence 10375 Doby odečítané po důchodovém věku - počet dnů | L94: Doby odečítané po důchodovém věku - počet dnů musí být roven sumě atributů: Doby odečítané po důchodovém věku - počet dnů, Počet dnů trvání dočasné pracovní neschopnosti (karanténa), Počet dnů čerpání peněžité pomoci v mateřství (do dne předcházejícímu porodu), Počet dnů ošetřování dítěte nebo péče o ně nebo ošetřování jiného člena domácnosti, za které náleží ošetřovné/dlouhodobé ošetřovné, Počet dnů ošetřování dítěte nebo péče o ně nebo ošetřování jiného člena domácnosti, za které nenáleží ošetřovné, Počet dnů čerpání otcovské, Počet dnů čerpání neplaceného volna, Počet dnů neomluvené absence. | M94: nová
A95: 167 | B95: Pojistné za zaměstnavatele u zaměstnanců, kteří vykonávají rizikové zaměstnání | C95: 10484 10483 | D95: Přehled o výši pojistného | E95: Formulář PVPOJ (pvpoj) | F95: ePortál | G95: nepropustná | H95: DIS | I95: nepropustná | J95: F4 | K95: ="Pojistné za zaměstnavatele u zaměstnanců, kteří vykonávají rizikové zaměstnání (10484) = " & 'Parametrické konstanty'!D5 & " * Úhrn vyměřovacích základů zaměstnanců, kteří vykonávají rizikové zaměstnání (10483). Zaokrohluje se na celé koruny nahoru." & CHAR(10) & "---" & CHAR(10) & "10483 Úhrn vyměřovacích základů zaměstnanců, kteří vykonávají rizikové zaměstnání" & CHAR(10) & "10484 Pojistné za zaměstnavatele u zaměstnanců, kteří vykonávají rizikové zaměstnání" -> Pojistné za zaměstnavatele u zaměstnanců, kteří vykonávají rizikové zaměstnání (10484) = 0.278 * Úhrn vyměřovacích základů zaměstnanců, kteří vykonávají rizikové zaměstnání (10483). Zaokrohluje se na celé koruny nahoru. --- 10483 Úhrn vyměřovacích základů zaměstnanců, kteří vykonávají rizikové zaměstnání 10484 Pojistné za zaměstnavatele u zaměstnanců, kteří vykonávají rizikové zaměstnání | L95: Vykázané pojistné neodpovídá vykázanému úhrnu vyměřovacích základů zaměstnanců, kteří vykonávají rizikové zaměstnání. | M95: nová
A96: 168 | B96: Pojistné za zaměstnance | C96: 10028 10023 10025 10483 | D96: Přehled o výši pojistného | E96: Formulář PVPOJ (pvpoj) | F96: ePortál | G96: nepropustná | H96: DIS | I96: nepropustná | J96: F4 | K96: ="Pro (10028) platí:" & CHAR(10) & "hodnota údaje je dána výrazem v absolutní hodnotě: |1 – ("& ('Parametrické konstanty'!D7*100) &" % úhrnu vyměřovacích základů pojistného (10023 + 10025 + 10483) / Úhrn pojistného za zaměstnance (10028))| <= 0.01 nebo |" & ('Parametrické konstanty'!D7*100) & " % úhrnu vyměřovacích základů pojistného (10023 + 10025 + 10483) – Úhrn pojistného za zaměstnance (10028)| <= 100; tzn. akceptovány budou hodnoty, kdy Úhrn pojistného za zaměstnance (10028) je větší než " & ('Parametrické konstanty'!D7*100) & " % úhrnu vyměřovacích základů pojistného (10023 + 10025 + 10483), ale rozdíl částek je <= 100 (obě podmínky musejí být porušeny současně, aby nebyl údaj akceptován), " & CHAR(10) & "a zároveň musí platit (10028) >= " & ('Parametrické konstanty'!D8*100) & " % z (10023 + 10025 + 10483)" & CHAR(10) & "---" & CHAR(10) & "10023 Úhrn vyměřovacích základů zaměstnanců, kteří nevykonávají činnost v rizikovém zaměstnání nebo nejsou zdravotnickými záchranáři nebo členy HZS podniku" & CHAR(10) & "10025 Úhrn vyměřovacích základů zaměstnanců, kteří jsou zdravotnickými záchranáři nebo členy HZS podniku" & CHAR(10) & "10028 Pojistné za zaměstnance" & CHAR(10) & "10483 Úhrn vyměřovacích základů zaměstnanců, kteří vykonávají rizikové zaměstnání" -> Pro (10028) platí: hodnota údaje je dána výrazem v absolutní hodnotě: |1 – (7.1 % úhrnu vyměřovacích základů pojistného (10023 + 10025 + 10483) / Úhrn pojistného za zaměstnance (10028))| <= 0.01 nebo |7.1 % úhrnu vyměřovacích základů pojistného (10023 + 10025 + 10483) – Úhrn pojistného za zaměstnance (10028)| <= 100; tzn. akceptovány budou hodnoty, kdy Úhrn pojistného za zaměstnance (10028) je větší než 7.1 % úhrnu vyměřovacích základů pojistného (10023 + 10025 + 10483), ale rozdíl částek je <= 100 (obě podmínky musejí být porušeny současně, aby nebyl údaj akceptován), a zároveň musí platit (10028) >= 7.171 % z (10023 + 10025 + 10483) --- 10023 Úhrn vyměřovacích základů zaměstnanců, kteří nevykonávají činnost v rizikovém zaměstnání nebo nejsou zdravotnickými záchranáři nebo členy HZS podniku 10025 Úhrn vyměřovacích základů zaměstnanců, kteří jsou zdravotnickými záchranáři nebo členy HZS podniku 10028 Pojistné za zaměstnance 10483 Úhrn vyměřovacích základů zaměstnanců, kteří vykonávají rizikové zaměstnání | L96: Vykázané pojistné za zaměstnance neodpovídá celkové částce vykázaných úhrnů vyměřovacích základů zaměstnanců. | M96: nová
A97: 170 | B97: Úhrn slev na pojistném zaměstnanců | C97: 10487 10486 | D97: Přehled o výši pojistného | E97: Formulář PVPOJ (pvpoj) | F97: ePortál | G97: nepropustná | H97: DIS | I97: nepropustná | J97: F4 | K97: ="Pro (10487) platí:" & CHAR(10) & "hodnota údaje je dána výrazem v absolutní hodnotě: |1 – ("& ('Parametrické konstanty'!D9*100) &" % údaje (10486) / údaj 10487)| <= 0.01 nebo |"& ('Parametrické konstanty'!D9*100) &" % údaje (10486) – údaj 10487| <= 100;" & CHAR(10) & CHAR(10) & "tzn. akceptovány budou hodnoty, kdy úhrn slev na pojistném zaměstnanců (10487) je větší než "& ('Parametrické konstanty'!D9*100) &" % úhrnu vyměřovacích základů pojistného (10486)," & CHAR(10) & "ale rozdíl částek je <= 100 (obě podmínky musejí být porušeny současně, aby nebyl údaj akceptován)," & CHAR(10) & "a zároveň musí platit (10487) ≥ "& ('Parametrické konstanty'!D10*100) &" % z (10486)" & CHAR(10) & "---" & CHAR(10) & "10486 Úhrn vyměřovacích základů zaměstnanců" & CHAR(10) & "10487 Úhrn slev na pojistném zaměstnanců" -> Pro (10487) platí: hodnota údaje je dána výrazem v absolutní hodnotě: |1 – (6.5 % údaje (10486) / údaj 10487)| <= 0.01 nebo |6.5 % údaje (10486) – údaj 10487| <= 100; tzn. akceptovány budou hodnoty, kdy úhrn slev na pojistném zaměstnanců (10487) je větší než 6.5 % úhrnu vyměřovacích základů pojistného (10486), ale rozdíl částek je <= 100 (obě podmínky musejí být porušeny současně, aby nebyl údaj akceptován), a zároveň musí platit (10487) ≥ 6.565 % z (10486) --- 10486 Úhrn vyměřovacích základů zaměstnanců 10487 Úhrn slev na pojistném zaměstnanců | L97: Úhrn slev na pojistném zaměstnanců neodpovídá vykázanému úhrnu vyměřovacích základů těchto zaměstnanců. | M97: nová
A98: 188 | B98: Sleva na pojistném zaměstnavatele jen z jednoho zaměstnání zaměstnance | C98: 10372 | D98: Průběh pojištění v daném měsíci | E98: Formulář zaměstnance (form) | F98: ePortál | G98: nepropustná | H98: cJMHZ | I98: propustná | J98: F5 | K98: Vykonává-li zaměstnanec u téhož zaměstnavatele více zaměstnání v pracovním nebo služebním poměru, náleží sleva jen z jednoho zaměstnání (tj. nelze uvést v údaji (10372) = "ANO" za příslušný kalendářní měsíc u více než jednoho zaměstnání zaměstnance). --- 10372 Sleva na pojistném | L98: Slevu na pojistném zaměstnavatele může zaměstnavatel uplatnit za zaměstnance pouze z jednoho zaměstnání tohoto zaměstnance. | M98: nová | N98: propustná kontrola - cJHMZ nedokáže rozlišit, na kterém PPV má být sleva správně umístěna
A99: 190 | B99: Stornování celého řádného podání | C99: 10007 10010 10011 | D99: Meta atributy | E99: Měsíční podání JMHZ (global) | F99: ePortál | G99: nepropustná | H99: DIS | I99: nepropustná | J99: F4 | K99: Zaměstnavatel nesmí stornovat (10007) řádné podání jindy, než v intervalu od 1. až 20. dne v měsíci, který bezprostředně následuje po měsici (10010, 10011), za které bylo učiněno podání. Pokud konec lhůty (tj. 20 den v kalendářním měsíci) připadá na víkend nebo státní svátek, pak je posledním dnem lhůty nejbližší příští pracovní den. --- 10006 Datum a čas přijetí podání 10007 Typ podání ("S") - storno 10010 Měsíc 10011 Rok | L99: Zaměstnavatel nesmí stornovat řádné podání jindy, než v intervalu od 1. až 20. dne v měsíci, který bezprostředně následuje po měsíci, za které bylo učiněno podání. | M99: nová
A100: 191 | B100: Kontrola na atributy uváděné jen v lednovém, únorovém nebo březnovém podání | C100: 10036 10037 10320 10321 10322 10323 10420 10421 10422 10423 10424 10425 10426 10430 10454 10455 10441 10442 10443 10444 10445 10446 10447 10448 10449 10450 10451 | D100: JMHZ obecně | E100: Formulář zaměstnance (form) | F100: ePortál | G100: nepropustná | H100: DIS | I100: nepropustná | J100: F4 | K100: Atributy ve výčtu mohou být uvedeny jen v lednovém, únorové nebo březnovém podání. | L100: Atribut [XY] může být uveden jen v lednovém, únorovém nebo březnovém podání. | M100: nová | N100: M01-02-03
...

Sheet Parametrické konstanty
A1: ID kontroly | B1: Název konstanty
C2: 2025-01 | D2: 2026-01 | E2: 2027-01 | F2: 2028-01
A3: 8, 315 | B3: pojistné za zaměstnavatele (10024, 10478) | C3: 0.248 | D3: 0.248 | E3: 0.248 | F3: 0.248
A4: 10, 315 | B4: Pojistné za zaměstnavatele (10026, 10479) | C4: 0.288 | D4: 0.298 | E4: 0.298 | F4: 0.298
A5: 167, 315 | B5: Pojistné za zaměstnavatele (10484, 10480) | C5: 0.268 | D5: 0.278 | E5: 0.288 | F5: 0.298
A6: 3 | B6: Sleva na pojistném(uváděno v procentech) | C6: 5 | D6: 5
A7: 118270 | B7: Pojistné za zaměstnance - sazbu pojistného na důchodové pojištění placenou zaměstnancem | C7: 0.071 | D7: 0.071
A8: 168270 | B8: Pojistné za zaměstnance - sazbu pojistného na důchodové pojištění placenou zaměstnancem (delta) | C8: 0.07171 | D8: 0.07171
A9: 170 | B9: Úhrn slev na pojistném zaměstnanců - Sazbu slevy na pojistném na sociální zabezpečení podle § 7a zákona č. 589/1992 Sb | C9: 0.065 | D9: 0.065
A10: 170 | B10: Úhrn slev na pojistném zaměstnanců - Sazbu slevy na pojistném na sociální zabezpečení podle § 7a zákona č. 589/1992 Sb (delta) | C10: 0.06565 | D10: 0.06565
A11: 15 | B11: Maximální možný počet odpracovaných hodin | C11: 240 | D11: 240
A12: 45 | B12: Rozsah kratší pracovní/služební doby | C12: 30 | D12: 30
A13: 245, 325 | B13: Rozhodná hranice příjmu pro účast na pojištění u ZMR (zaměstnání malého rozsahu) | C13: 4500 | D13: 4500
A14: 245, 325 | B14: Rozhodná hranice pro vznik účasti na pojištění u DPP | C14: 11500 | D14: 12000
A15: 74 | B15: Výše vyplaceného měsíčního daňového bonusu | C15: 50 | D15: 50
A16: 271 | B16: Průměrná mzda dle § 23b odst. 4 ZPSZ zaokrouhlená na celou pětisetkorunu dolů | C16: 46500 | D16: 48500

Sheet Changelog
A1: DATUM ZMĚNY | B1: VERZE | C1: ZMĚNOVÝ POŽADAVEK | D1: ID KONTROLY | E1: NÁZEV KONROLY | F1: DOTČENÝ SYSTÉM | G1: TYP ZMĚNY [změna kontroly | odstranění kontroly | přidání kontroly | změna] | H1: POPIS ZMĚNY
A2: 45728 | B2: 1.3 | C2: n/a | D2: 1 | E2: =_xlfn.IFNA(VLOOKUP(D2,MH!A$2:N$477,2,TRUE),"") -> Počet zaměstnanců se slevou | F2: =_xlfn.IFNA(VLOOKUP(D2,MH!A$2:N$477,7,TRUE),"") -> propustná | G2: změna kontroly | H2: 10030 Počet zaměstnanců 10371 Zdravotní pojištění 10372 Sleva na pojistném změna těla funkce, kontrola počtu zam. s příznakem 10372 = ANO, že je menší rovno 10030 zam. Celkem
A3: 45728 | B3: 1.3 | C3: n/a | D3: 174 | E3: Kontrola úhrnu vyměřovacích základů zaměstnanců, které vstupují do částky vyměřovacího základu zaměstnavatele podle § 5a odst. 1 písm. a) ZPSZ | F3: cJMHZ | G3: odstranění kontroly | H3: duplicita s id 7
A4: 45728 | B4: 1.3 | C4: n/a | D4: 175 | E4: Kontrola úhrnu vyměřovacího základu zaměstnance, která vstupuje do částky vyměřovacího základu zaměstnavatele podle § 5a odst. 1 písm. b) ZPSZ | F4: cJMHZ | G4: odstranění kontroly | H4: duplicita s id 9
A5: 45728 | B5: 1.3 | C5: n/a | D5: 176 | E5: Kontrola úhrnu vyměřovacího základu zaměstnance, která vstupuje do částky vyměřovacího základu zaměstnavatele podle § 5a odst. 1 písm. c) ZPSZ | F5: cJMHZ | G5: odstranění kontroly | H5: duplicita s id 142
A6: 45728 | B6: 1.3 | C6: n/a | D6: 177 | E6: Kontrola úhrnu pojistného za zaměstnance | F6: cJMHZ | G6: odstranění kontroly | H6: duplicita s id 12
A7: 45728 | B7: 1.3 | C7: n/a | D7: 181 | E7: Počet zaměstnanců, za které zaměstnavatel uplatňuje slevu na pojistném zaměstnavatele | F7: cJMHZ | G7: odstranění kontroly | H7: duplicita s id 1
A8: 45728 | B8: 1.3 | C8: n/a | D8: 193 | E8: =_xlfn.IFNA(VLOOKUP(D8,MH!A$2:N$477,2,TRUE),"") -> Kontrola na atributy uváděné jen v lednovém podání | F8: =_xlfn.IFNA(VLOOKUP(D8,MH!A$2:N$477,7,TRUE),"") -> nepropustná | G8: změna kontroly | H8: změna chyb. hlášky "Atribut [XY] může být uveden jen v prosincovémlednovém podání."
A9: 45733 | B9: 1.3 | C9: n/a | D9: 95 | E9: =_xlfn.IFNA(VLOOKUP(D9,MH!A$2:N$477,2,TRUE),"") -> Sjednaný fond pracovní doby (v hodinách měsíčně) | F9: =_xlfn.IFNA(VLOOKUP(D9,MH!A$2:N$477,7,TRUE),"") -> nepropustná | G9: změna kontroly | H9: změna chyb. hlášky - Sjednaný místo Stanovený
A10: 45733 | B10: 1.3 | C10: n/a | D10: 98 | E10: =_xlfn.IFNA(VLOOKUP(D10,MH!A$2:N$477,2,TRUE),"") -> Počet dní nesmí být vyšší než počet kalendářních dní v daném měsíci | F10: =_xlfn.IFNA(VLOOKUP(D10,MH!A$2:N$477,7,TRUE),"") -> nepropustná | G10: změna kontroly | H10: přidán rok (10011) kvůli vyhodnocení přestupných roků
A11: 45733 | B11: 1.3 | C11: n/a | E11: =_xlfn.IFNA(VLOOKUP(D11,MH!A$2:N$477,2,TRUE),"") | F11: =_xlfn.IFNA(VLOOKUP(D11,MH!A$2:N$477,6,TRUE),"") | G11: změna kontroly | H11: přidání sloupce pro identifikaci prevalidace na straně e-portálu
A12: 45735 | B12: 1.3 | C12: n/a | D12: 84 | E12: =_xlfn.IFNA(VLOOKUP(D12,MH!A$2:N$477,2,TRUE),"") -> Pořadí balíku dat | F12: =_xlfn.IFNA(VLOOKUP(D12,MH!A$2:N$477,7,TRUE),"") -> nepropustná | G12: změna kontroly | H12: Změna kategorie kontroly z F4 na T5
A13: 45735 | B13: 1.3 | C13: n/a | D13: 88 | E13: =_xlfn.IFNA(VLOOKUP(D13,MH!A$2:N$477,2,TRUE),"") -> Datum a čas vyplnění podání | F13: =_xlfn.IFNA(VLOOKUP(D13,MH!A$2:N$477,7,TRUE),"") -> nepropustná | G13: změna kontroly | H13: Změna kategorie kontroly z F4 na T6
A14: 45735 | B14: 1.3 | C14: n/a | D14: 90 | E14: =_xlfn.IFNA(VLOOKUP(D14,MH!A$2:N$477,2,TRUE),"") -> Měsíc | F14: =_xlfn.IFNA(VLOOKUP(D14,MH!A$2:N$477,7,TRUE),"") -> nepropustná | G14: změna kontroly | H14: Změna kategorie kontroly z F4 na T6
A15: 45735 | B15: 1.3 | C15: n/a | D15: 91 | E15: =_xlfn.IFNA(VLOOKUP(D15,MH!A$2:N$477,2,TRUE),"") -> Měsíc | F15: =_xlfn.IFNA(VLOOKUP(D15,MH!A$2:N$477,7,TRUE),"") -> nepropustná | G15: změna kontroly | H15: Změna kategorie kontroly z F4 na T6
A16: 45735 | B16: 1.3 | C16: n/a | D16: 93 | E16: =_xlfn.IFNA(VLOOKUP(D16,MH!A$2:N$477,2,TRUE),"") -> Počet formulářů v balíků musí být maximálně jako Počet formulářů celkem | F16: =_xlfn.IFNA(VLOOKUP(D16,MH!A$2:N$477,7,TRUE),"") -> nepropustná | G16: změna kontroly | H16: Změna kategorie kontroly z F4 na T5
A17: 45735 | B17: 1.3 | C17: n/a | D17: 129 | E17: =_xlfn.IFNA(VLOOKUP(D17,MH!A$2:N$477,2,TRUE),"") -> Číslo měsíce | F17: =_xlfn.IFNA(VLOOKUP(D17,MH!A$2:N$477,7,TRUE),"") -> nepropustná | G17: změna kontroly | H17: Změna kategorie kontroly z F4 na T6
A18: 45735 | B18: 1.3 | C18: n/a | D18: 131 | E18: =_xlfn.IFNA(VLOOKUP(D18,MH!A$2:N$477,2,TRUE),"") -> Rok | F18: =_xlfn.IFNA(VLOOKUP(D18,MH!A$2:N$477,7,TRUE),"") -> nepropustná | G18: změna kontroly | H18: Změna kategorie kontroly z F4 na T6
A19: 45735 | B19: 1.3 | C19: n/a | D19: 132 | E19: =_xlfn.IFNA(VLOOKUP(D19,MH!A$2:N$477,2,TRUE),"") -> Kontrola roku pro podání opravného hlášení. | F19: =_xlfn.IFNA(VLOOKUP(D19,MH!A$2:N$477,7,TRUE),"") -> nepropustná | G19: změna kontroly | H19: Změna kategorie kontroly z F4 na T6
A20: 45735 | B20: 1.3 | C20: n/a | D20: 143 | E20: =_xlfn.IFNA(VLOOKUP(D20,MH!A$2:N$477,2,TRUE),"") -> Variabilní symbol zaměstnavatele | F20: =_xlfn.IFNA(VLOOKUP(D20,MH!A$2:N$477,7,TRUE),"") -> nepropustná | G20: změna kontroly | H20: Změna kategorie kontroly z F4 na T5, změna chybové hlášky z "Variabilní symbol není vyplněn."
A21: 45735 | B21: 1.3 | C21: n/a | D21: 146 | E21: =_xlfn.IFNA(VLOOKUP(D21,MH!A$2:N$477,2,TRUE),"") -> Překážky na straně zaměstnavatele - počet neodpracovaných hodin | F21: =_xlfn.IFNA(VLOOKUP(D21,MH!A$2:N$477,7,TRUE),"") -> nepropustná | G21: změna kontroly | H21: Změna kategorie kontroly z F4 na T5
A22: 45735 | B22: 1.3 | C22: n/a | D22: 147 | E22: Finanční úřad | F22: =_xlfn.IFNA(VLOOKUP(D22,MH!A$2:N$477,7,TRUE),"") -> nepropustná | G22: změna kontroly | H22: Změna kategorie kontroly z F4 na T5
A23: 45735 | B23: 1.3 | C23: n/a | D23: 232 | E23: =_xlfn.IFNA(VLOOKUP(D23,MH!A$2:N$477,2,TRUE),"") -> Struktura řádného měsíčního hlášení | F23: =_xlfn.IFNA(VLOOKUP(D23,MH!A$2:N$477,7,TRUE),"") -> n/a | G23: přidání kontroly | H23: přidání kontrol struktury
A24: 45735 | B24: 1.3 | C24: n/a | D24: 233 | E24: =_xlfn.IFNA(VLOOKUP(D24,MH!A$2:N$477,2,TRUE),"") -> Struktura opravného hlášení | F24: =_xlfn.IFNA(VLOOKUP(D24,MH!A$2:N$477,7,TRUE),"") -> n/a | G24: přidání kontroly | H24: přidání kontrol struktury
A25: 45735 | B25: 1.3 | C25: n/a | D25: 234 | E25: Struktura storno hlášení | F25: DIS | G25: přidání kontroly | H25: přidání kontrol struktury
A26: 45735 | B26: 1.3 | C26: n/a | D26: 235 | E26: =_xlfn.IFNA(VLOOKUP(D26,MH!A$2:N$477,2,TRUE),"") -> Neodpovídá skutečný počet formulářů | F26: DIS | G26: přidání kontroly | H26: přidání kontrol struktury
A27: 45735 | B27: 1.3 | C27: n/a | D27: 236 | E27: =_xlfn.IFNA(VLOOKUP(D27,MH!A$2:N$477,2,TRUE),"") -> Kontrola formulářů v řádném měsíčním hlášení | F27: =_xlfn.IFNA(VLOOKUP(D27,MH!A$2:N$477,7,TRUE),"") -> n/a | G27: přidání kontroly | H27: přidání kontrol struktury
A28: 45735 | B28: 1.3 | C28: n/a | D28: 237 | E28: =_xlfn.IFNA(VLOOKUP(D28,MH!A$2:N$477,2,TRUE),"") -> Kontrola formulářů v opravném měsíčním hlášení pro indiv. části | F28: =_xlfn.IFNA(VLOOKUP(D28,MH!A$2:N$477,7,TRUE),"") -> n/a | G28: přidání kontroly | H28: přidání kontrol struktury
A29: 45736 | B29: 1.3 | C29: n/a | D29: 213 | E29: Kontrola uplatnění slevy za zaměstnance u jednoho zaměstnavatele je pouze jednou | F29: =_xlfn.IFNA(VLOOKUP(D29,MH!A$2:N$477,7,TRUE),"") -> propustná | G29: změna kontroly | H29: vylepšen detail kontroly (p. MS)
A30: 45736 | B30: 1.3 | C30: n/a | D30: 231 | E30: Kontrola uplatnění slevy za zaměstnance u jednoho zaměstnavatele je pouze jednou | F30: cJMHZ | G30: přidání kontroly | H30: Kontrola uplatnění slevy za zaměstnance u jednoho zaměstnavatele, je pouze jednou.
A31: 45736 | B31: 1.3 | C31: n/a | D31: 238 | E31: =_xlfn.IFNA(VLOOKUP(D31,MH!A$2:N$477,2,TRUE),"") -> Kontrola konzistence klíčů GUID, ikmpsv, idppv v části individualizované součásti při změně dat | F31: =_xlfn.IFNA(VLOOKUP(D31,MH!A$2:N$477,7,TRUE),"") -> n/a | G31: přidání kontroly | H31: Kontrola konzistence klíčů GUID, ikmpsv, idppv v části individualizované části při změně dat
A32: 45736 | B32: 1.3 | C32: n/a | D32: 239 | E32: Kontrola vyplnění atributů ke kolektivním smlouvám, při neexistenci smlouvy | F32: =_xlfn.IFNA(VLOOKUP(D32,MH!A$2:N$477,7,TRUE),"") -> n/a | G32: přidání kontroly | H32: Kontrola vyplnění atributů ke kolektivním smlouvám, při neexistenci smlouvy (podnět M. Hal.) - logická kontrola
A33: 45737 | B33: 1.3 | C33: n/a | D33: 98 | E33: =_xlfn.IFNA(VLOOKUP(D33,MH!A$2:N$477,2,TRUE),"") -> Počet dní nesmí být vyšší než počet kalendářních dní v daném měsíci | F33: =_xlfn.IFNA(VLOOKUP(D33,MH!A$2:N$477,7,TRUE),"") -> nepropustná | G33: změna kontroly | H33: na základě telka s pí. Madarovou a pí Kotíkovou, potvrzeno a odsouhlaseno přídání art.: 10357, 10360, 10362 a nově 10463
A34: 45737 | B34: 1.3 | C34: n/a | D34: 145 | E34: =_xlfn.IFNA(VLOOKUP(D34,MH!A$2:N$477,2,TRUE),"") -> Překážky na straně zaměstnavatele - počet neodpracovaných hodin | F34: =_xlfn.IFNA(VLOOKUP(D34,MH!A$2:N$477,7,TRUE),"") -> nepropustná | G34: změna kontroly | H34: oprava detailu, oprava chyb. Hlášky (M. Hal.)
A35: 45737 | B35: 1.3 | C35: n/a | D35: 208 | E35: =_xlfn.IFNA(VLOOKUP(D35,MH!A$2:N$477,2,TRUE),"") -> Výše slevy na pojistném zaměstnance | F35: =_xlfn.IFNA(VLOOKUP(D35,MH!A$2:N$477,7,TRUE),"") -> nepropustná | G35: přidání kontroly | H35: logická kontrola
A36: 45737 | B36: 1.3 | C36: n/a | D36: 209 | E36: =_xlfn.IFNA(VLOOKUP(D36,MH!A$2:N$477,2,TRUE),"") -> Úhrn slev na pojistném zaměstnanců | F36: =_xlfn.IFNA(VLOOKUP(D36,MH!A$2:N$477,7,TRUE),"") -> nepropustná | G36: změna kontroly | H36: vylepšen detail kontroly (M. Sm.)
A37: 45737 | B37: 1.3 | C37: n/a | D37: 238 | E37: =_xlfn.IFNA(VLOOKUP(D37,MH!A$2:N$477,2,TRUE),"") -> Kontrola konzistence klíčů GUID, ikmpsv, idppv v části individualizované součásti při změně dat | F37: =_xlfn.IFNA(VLOOKUP(D37,MH!A$2:N$477,7,TRUE),"") -> n/a | G37: změna kontroly | H37: po konzultaci s M. Kal. uveden větší detail kontroly
A38: 45739 | B38: 1.3 | C38: n/a | D38: 1 | E38: =_xlfn.IFNA(VLOOKUP(D38,MH!A$2:N$477,2,TRUE),"") -> Počet zaměstnanců se slevou | F38: =_xlfn.IFNA(VLOOKUP(D38,MH!A$2:N$477,7,TRUE),"") -> propustná | G38: změna kontroly | H38: Počet zaměstnanců, za které zaměstnavatel uplatňuje slevu na pojistném s vyplněnými údaji jednotlivých zaměstnanců (1037110372) = "ANO" musí být <= Počet zaměstnanců (10030).
A39: 45740 | B39: 1.3 | C39: n/a | D39: 42 | E39: =_xlfn.IFNA(VLOOKUP(D39,MH!A$2:N$477,2,TRUE),"") -> Kontrola atributů v rámci slev na pojistném jsou vázany k druhu činnosti v rozsahu 1 až 9 | F39: =_xlfn.IFNA(VLOOKUP(D39,MH!A$2:N$477,7,TRUE),"") -> nepropustná | G39: přidání kontroly | H39: přidáno, inicioval TH a JK Atributy (10372), (10373), (10374) mohou nabývat hodnot jen, když (10239) je v rozmezí 1 až 9. --- 10372 Sleva na pojistném zaměstnavatele 10373 Rozsah kratší pracovní/služební doby 10374 Důvod uplatnění slevy 10239 Druh činnosti
A40: 45740 | B40: 1.3 | C40: n/a | D40: 45 | E40: =_xlfn.IFNA(VLOOKUP(D40,MH!A$2:N$477,2,TRUE),"") -> Rozsah kratší pracovní/služební doby | F40: =_xlfn.IFNA(VLOOKUP(D40,MH!A$2:N$477,7,TRUE),"") -> nepropustná | G40: změna kontroly | H40: přidána vstupní podmínka (10239) = 1 až 9 na základě konzultace p. DM a TH
A41: 45740 | B41: 1.3 | C41: n/a | D41: 137 | E41: =_xlfn.IFNA(VLOOKUP(D41,MH!A$2:N$477,2,TRUE),"") -> Vyplnění důvodu uplatnění slevy | F41: =_xlfn.IFNA(VLOOKUP(D41,MH!A$2:N$477,7,TRUE),"") -> nepropustná | G41: změna kontroly | H41: přidána vstupní podmínka (10239) = 1 až 9 na základě konzultace p. DM a TH
A42: 45740 | B42: 1.3 | C42: n/a | D42: 138 | E42: =_xlfn.IFNA(VLOOKUP(D42,MH!A$2:N$477,2,TRUE),"") -> Kratší rozsah pracovní/služební doby musí být vyplněn | F42: =_xlfn.IFNA(VLOOKUP(D42,MH!A$2:N$477,7,TRUE),"") -> nepropustná | G42: změna kontroly | H42: formalita, úprava seznamu atributů
A43: 45740 | B43: 1.3 | C43: n/a | D43: 138 | E43: =_xlfn.IFNA(VLOOKUP(D43,MH!A$2:N$477,2,TRUE),"") -> Kratší rozsah pracovní/služební doby musí být vyplněn | F43: =_xlfn.IFNA(VLOOKUP(D43,MH!A$2:N$477,7,TRUE),"") -> nepropustná | G43: změna kontroly | H43: přidána vstupní podmínka (10239) = 1 až 9 na základě konzultace p. DM a TH
A44: 45740 | B44: 1.3 | C44: n/a | D44: 202 | E44: Průběh pojištění v daném měsíci | F44: DIS | G44: změna kontroly | H44: přidán větší detail kontroly, přidána vstupní podmínka na základě konzultace p. DM a TH
A45: 45740 | B45: 1.3 | C45: n/a | D45: 212 | E45: Rozsah kratší pracovní/služební doby je max 30 | F45: DIS | G45: odstranění kontroly | H45: odstraněna kontrola 212, byla redundantní s 45
A46: 45742 | B46: 1.3 | C46: n/a | D46: 234 | E46: Struktura storno hlášení | F46: DIS | G46: odstranění kontroly | H46: kontrola nahrazena id 240
A47: 45742 | B47: 1.3 | C47: n/a | D47: 240 | E47: =_xlfn.IFNA(VLOOKUP(D47,MH!A$2:N$477,2,TRUE),"") -> Kontrola metaatributů pro řádné a opravného podání | F47: =_xlfn.IFNA(VLOOKUP(D47,MH!A$2:N$477,7,TRUE),"") -> n/a | G47: přidání kontroly | H47: detail pro storno celého podání
A48: 45742 | B48: 1.3 | C48: n/a | D48: 241 | E48: =_xlfn.IFNA(VLOOKUP(D48,MH!A$2:N$477,2,TRUE),"") -> Kontrola konzistence metatributů GUID pro celé podání | F48: cJMHZ | G48: přidání kontroly | H48: detail pro storno celého podání - paritní kontrola
A49: 45743 | B49: 1.3 | C49: n/a | D49: 165 | E49: =_xlfn.IFNA(VLOOKUP(D49,MH!A$2:N$477,2,TRUE),"") -> Kontrola vyplnění vyloučených dob dle § 18 odst. 7 | F49: =_xlfn.IFNA(VLOOKUP(D49,MH!A$2:N$477,7,TRUE),"") -> nepropustná | G49: změna kontroly | H49: změna popisu, hlášky, změna podmínky
A50: 45747 | B50: 1.3 | C50: n/a | D50: 242 | E50: =_xlfn.IFNA(VLOOKUP(D50,MH!A$2:N$477,2,TRUE),"") -> Kontrola adekvátních atributů pro výpočet zálohy na daň rezidentů s prohlášením poplatníka daně | F50: =_xlfn.IFNA(VLOOKUP(D50,MH!A$2:N$477,7,TRUE),"") -> nepropustná | G50: přidání kontroly | H50: iniciováno FS ZP14
A51: 45747 | B51: 1.3 | C51: n/a | D51: 243 | E51: =_xlfn.IFNA(VLOOKUP(D51,MH!A$2:N$477,2,TRUE),"") -> Kontrola adekvátních atributů pro výpočet zálohy na daň nerezidentů s prohlášením poplatníka daně | F51: =_xlfn.IFNA(VLOOKUP(D51,MH!A$2:N$477,7,TRUE),"") -> nepropustná | G51: přidání kontroly | H51: iniciováno FS ZP14
A52: 45747 | B52: 1.3 | C52: n/a | D52: 244 | E52: =_xlfn.IFNA(VLOOKUP(D52,MH!A$2:N$477,2,TRUE),"") -> Kontrola neuplatnění daňových slev a zvýhodnění rezidentů bez prohlášení poplatníka | F52: =_xlfn.IFNA(VLOOKUP(D52,MH!A$2:N$477,7,TRUE),"") -> nepropustná | G52: přidání kontroly | H52: iniciováno FS ZP14
A53: 45747 | B53: 1.3 | C53: n/a | D53: 245 | E53: =_xlfn.IFNA(VLOOKUP(D53,MH!A$2:N$477,2,TRUE),"") -> Kontrola adekvátních atributů pro výpočet srážkové daně bez prohlášení poplatníka - srážková daň | F53: =_xlfn.IFNA(VLOOKUP(D53,MH!A$2:N$477,7,TRUE),"") -> nepropustná | G53: přidání kontroly | H53: iniciováno FS ZP14
A54: 45747 | B54: 1.3 | C54: n/a | D54: 246 | E54: =_xlfn.IFNA(VLOOKUP(D54,MH!A$2:N$477,2,TRUE),"") -> Kontrola adekvátních atributů pro výpočet srážkové daně bez prohlášení poplatníka - srážková daň | F54: =_xlfn.IFNA(VLOOKUP(D54,MH!A$2:N$477,7,TRUE),"") -> nepropustná | G54: přidání kontroly | H54: iniciováno FS ZP14
A55: 45747 | B55: 1.3 | C55: n/a | D55: 247 | E55: =_xlfn.IFNA(VLOOKUP(D55,MH!A$2:N$477,2,TRUE),"") -> Kontrola adekvátních atributů pro výpočet srážkové daně bez prohlášení poplatníka - srážková daň | F55: =_xlfn.IFNA(VLOOKUP(D55,MH!A$2:N$477,7,TRUE),"") -> nepropustná | G55: přidání kontroly | H55: iniciováno FS ZP14
A56: 45748 | B56: 1.3 | C56: n/a | D56: 58 | E56: =_xlfn.IFNA(VLOOKUP(D56,MH!A$2:N$477,2,TRUE),"") -> Počet kalendářních dnů trvání pojištění v daném kalendářním měsíci | F56: =_xlfn.IFNA(VLOOKUP(D56,MH!A$2:N$477,7,TRUE),"") -> nepropustná | G56: změna kontroly | H56: přejmenování atr. 10356
A57: 45748 | B57: 1.3 | C57: n/a | D57: 86 | E57: Chybný podíl zahraničního kapitálu | F57: DIS | G57: odstranění kontroly | H57: 10404 odstraněno
A58: 45748 | B58: 1.3 | C58: n/a | D58: 108 | E58: Kontrola na Zúčtovaný příjem - z toho příjem za bezplatné používání motorového vozidla | F58: DIS | G58: odstranění kontroly | H58: 10415 odstraněno z atributů (na základě redukce DS), tedy smazání kontroly
A59: 45748 | B59: 1.3 | C59: n/a | D59: 134 | E59: =_xlfn.IFNA(VLOOKUP(D59,MH!A$2:N$477,2,TRUE),"") -> Počet kalendářních dnů trvání pojištění v daném kalendářním měsíci - interval | F59: =_xlfn.IFNA(VLOOKUP(D59,MH!A$2:N$477,7,TRUE),"") -> nepropustná | G59: změna kontroly | H59: přejmenování atr. 10356
A60: 45748 | B60: 1.3 | C60: n/a | D60: 149 | E60: Země původu podle velikosti | F60: DIS | G60: odstranění kontroly | H60: 10405,10406 odstraněno z atributů
A61: 45748 | B61: 1.3 | C61: n/a | D61: 194 | E61: =_xlfn.IFNA(VLOOKUP(D61,MH!A$2:N$477,2,TRUE),"") -> Kontrola na atributy uváděné jen prosincovém podání | F61: =_xlfn.IFNA(VLOOKUP(D61,MH!A$2:N$477,7,TRUE),"") -> nepropustná | G61: změna kontroly | H61: 10405 odstraněno z atributů
A62: 45748 | B62: 1.3 | C62: n/a | D62: 194 | E62: =_xlfn.IFNA(VLOOKUP(D62,MH!A$2:N$477,2,TRUE),"") -> Kontrola na atributy uváděné jen prosincovém podání | F62: =_xlfn.IFNA(VLOOKUP(D62,MH!A$2:N$477,7,TRUE),"") -> nepropustná | G62: změna kontroly | H62: 10406 odstraněno z atributů
A63: 45748 | B63: 1.3 | C63: n/a | D63: 194 | E63: =_xlfn.IFNA(VLOOKUP(D63,MH!A$2:N$477,2,TRUE),"") -> Kontrola na atributy uváděné jen prosincovém podání | F63: =_xlfn.IFNA(VLOOKUP(D63,MH!A$2:N$477,7,TRUE),"") -> nepropustná | G63: změna kontroly | H63: 10215, 10216, 10217, 10218, 10219 odstraněno z atributů (na základě redukce DS)
A64: 45748 | B64: 1.3 | C64: n/a | D64: 200 | E64: Kontrola vyplnění atributů ke kolektivním smlouvám | F64: DIS | G64: odstranění kontroly | H64: 10218, 10217 odstraněno z atributů (na základě redukce DS)
A65: 45748 | B65: 1.3 | C65: n/a | D65: 239 | E65: Kontrola vyplnění atributů ke kolektivním smlouvám, při neexistenci smlouvy | F65: =_xlfn.IFNA(VLOOKUP(D65,MH!A$2:N$477,7,TRUE),"") -> n/a | G65: odstranění kontroly | H65: 10215, 10216, 10217, 10218, 10219 odstraněno z atributů (na základě redukce DS)
A66: 45748 | B66: 1.3 | C66: n/a | D66: 247 | E66: =_xlfn.IFNA(VLOOKUP(D66,MH!A$2:N$477,2,TRUE),"") -> Kontrola adekvátních atributů pro výpočet srážkové daně bez prohlášení poplatníka - srážková daň | F66: =_xlfn.IFNA(VLOOKUP(D66,MH!A$2:N$477,7,TRUE),"") -> nepropustná | G66: přidání kontroly | H66: iniciováno FS ZP14
A67: 45748 | B67: 1.3 | C67: n/a | D67: 248 | E67: =_xlfn.IFNA(VLOOKUP(D67,MH!A$2:N$477,2,TRUE),"") -> Kontrola vyplnění dat souhrnné vrstvy za zaměstnance jen pro primární pracovněprávní vztah zaměstnance | F67: DIS | G67: přidání kontroly | H67: iniciováno FS ZP14
A68: 45748 | B68: 1.3 | C68: n/a | D68: 249 | E68: =_xlfn.IFNA(VLOOKUP(D68,MH!A$2:N$477,2,TRUE),"") -> Kontrola vyplnění dat souhrnné vrstvy za zaměstnance jen pro primární pracovněprávní vztah zaměstnance | F68: =_xlfn.IFNA(VLOOKUP(D68,MH!A$2:N$477,7,TRUE),"") -> nepropustná | G68: přidání kontroly | H68: iniciováno FS ZP14
A69: 45750 | B69: 1.3 | C69: n/a | D69: 147 | E69: Finanční úřad | F69: =_xlfn.IFNA(VLOOKUP(D69,MH!A$2:N$477,7,TRUE),"") -> nepropustná | G69: změna kontroly | H69: formalita, úprava seznamu atributů
A70: 45754 | B70: 1.3 | C70: n/a | D70: 128 | E70: =_xlfn.IFNA(VLOOKUP(D70,MH!A$2:N$477,2,TRUE),"") -> Při uplatnění daňového zvýhodnění na děti je vyplněno alespoň 1 dítě | F70: =_xlfn.IFNA(VLOOKUP(D70,MH!A$2:N$477,7,TRUE),"") -> nepropustná | G70: změna kontroly | H70: oprava datového atributu, oprava podmínky
A71: 45760 | B71: 1.3 | C71: n/a | D71: 65 | E71: =_xlfn.IFNA(VLOOKUP(D71,MH!A$2:N$477,2,TRUE),"") -> Globální kontrola XSD schématu | F71: =_xlfn.IFNA(VLOOKUP(D71,MH!A$2:N$477,7,TRUE),"") -> nepropustná | G71: změna kontroly | H71: formalita, úprava typ formuláře, na základě revize FS, vyjádření AK, email komunikace 11.4.2025
A72: 45760 | B72: 1.3 | C72: n/a | D72: 82 | E72: =_xlfn.IFNA(VLOOKUP(D72,MH!A$2:N$477,2,TRUE),"") -> Vyplnění položky Výplatní termín při nastání specifické právní skutečnosti | F72: =_xlfn.IFNA(VLOOKUP(D72,MH!A$2:N$477,7,TRUE),"") -> nepropustná | G72: změna kontroly | H72: změna názvu kontroly a atributu v těle kontroly, nyní nepropustná kontrola, na základě revize FS, vyjádření AK, email komunikace 11.4.2025
A73: 45760 | B73: 1.3 | C73: n/a | D73: 106 | E73: Kontrola na Zúčtovaný příjem - z toho peněžní příjmy | F73: DIS | G73: odstranění kontroly | H73: komunikace pí. Sýk. - na základě revize FS, vyjádření AK, email komunikace 11.4.2025
A74: 45760 | B74: 1.3 | C74: n/a | D74: 107 | E74: Kontrola na Zúčtovaný příjem - z toho nepeněžní příjmy / naturální mzda | F74: DIS | G74: odstranění kontroly | H74: komunikace pí. Sýk. - na základě revize FS, vyjádření AK, email komunikace 11.4.2025
A75: 45760 | B75: 1.3 | C75: n/a | D75: 109 | E75: =_xlfn.IFNA(VLOOKUP(D75,MH!A$2:N$477,2,TRUE),"") -> Kontrola na Zúčtovaný příjem - z toho odměny členů orgánů právnických osob, kteří jsou daňovými nerezidenty ČR | F75: =_xlfn.IFNA(VLOOKUP(D75,MH!A$2:N$477,7,TRUE),"") -> nepropustná | G75: změna kontroly | H75: změna chyb. hlášky, na základě revize FS, vyjádření AK, email komunikace 11.4.2025
A76: 45760 | B76: 1.3 | C76: n/a | D76: 110 | E76: =_xlfn.IFNA(VLOOKUP(D76,MH!A$2:N$477,2,TRUE),"") -> Pořadí pro určení výše daňového zvýhodnění tvoří řadu | F76: =_xlfn.IFNA(VLOOKUP(D76,MH!A$2:N$477,7,TRUE),"") -> nepropustná | G76: přidání kontroly | H76: přidání kontroly 110, na základě revize FS, vyjádření AK, email komunikace 11.4.2025
A77: 45760 | B77: 1.3 | C77: n/a | D77: 112 | E77: =_xlfn.IFNA(VLOOKUP(D77,MH!A$2:N$477,2,TRUE),"") -> Při uplatnění daňového zvýhodnění na děti je vyplněno alespoň 1 dítě (roční zúčtování) | F77: =_xlfn.IFNA(VLOOKUP(D77,MH!A$2:N$477,7,TRUE),"") -> nepropustná | G77: změna kontroly | H77: nekontrolujeme 10450 Průkaz ZTP/P v jednotlivých měsících, na základě revize FS, vyjádření AK, email komunikace 11.4.2025
A78: 45760 | B78: 1.3 | C78: n/a | D78: 123 | E78: =_xlfn.IFNA(VLOOKUP(D78,MH!A$2:N$477,2,TRUE),"") -> Kontrola vyplnění data nastání specifické právní skutečnosti | F78: =_xlfn.IFNA(VLOOKUP(D78,MH!A$2:N$477,7,TRUE),"") -> nepropustná | G78: změna kontroly | H78: změna názvu, chyb. hl., detailního popisu, na základě revize FS, vyjádření AK, email komunikace 11.4.2025
A79: 45760 | B79: 1.3 | C79: n/a | D79: 128 | E79: =_xlfn.IFNA(VLOOKUP(D79,MH!A$2:N$477,2,TRUE),"") -> Při uplatnění daňového zvýhodnění na děti je vyplněno alespoň 1 dítě | F79: =_xlfn.IFNA(VLOOKUP(D79,MH!A$2:N$477,7,TRUE),"") -> nepropustná | G79: změna kontroly | H79: vyřazení 10439 z kontroly
A80: 45760 | B80: 1.3 | C80: n/a | D80: 147 | E80: Finanční úřad | F80: =_xlfn.IFNA(VLOOKUP(D80,MH!A$2:N$477,7,TRUE),"") -> nepropustná | G80: změna kontroly | H80: změna systému kontroly, změna propustnosti
A81: 45760 | B81: 1.3 | C81: n/a | D81: 148 | E81: =_xlfn.IFNA(VLOOKUP(D81,MH!A$2:N$477,2,TRUE),"") -> Specifická právní skutečnost | F81: =_xlfn.IFNA(VLOOKUP(D81,MH!A$2:N$477,7,TRUE),"") -> nepropustná | G81: změna kontroly | H81: změna systému kontroly, změna propustnosti
A82: 45760 | B82: 1.3 | C82: n/a | D82: 160 | E82: Prohlášení poplatníka - alespoň jedna sleva | F82: DIS | G82: odstranění kontroly | H82: duplikovaná kontrola 242-249
A83: 45760 | B83: 1.3 | C83: n/a | D83: 195 | E83: Kontrola zúčtovaného příjmu | F83: DIS | G83: změna kontroly | H83: komunikace pí. Sýk. - na základě revize FS, vyjádření AK, email komunikace 11.4.2025
A84: 45760 | B84: 1.3 | C84: n/a | D84: 229 | E84: =_xlfn.IFNA(VLOOKUP(D84,MH!A$2:N$477,2,TRUE),"") -> Kontrola kolize pořadí dítěte v měsíci (měsíční zúčtovaní) | F84: =_xlfn.IFNA(VLOOKUP(D84,MH!A$2:N$477,7,TRUE),"") -> nepropustná | G84: změna kontroly | H84: změna chyb. hlášky
A85: 45760 | B85: 1.3 | C85: n/a | D85: 230 | E85: =_xlfn.IFNA(VLOOKUP(D85,MH!A$2:N$477,2,TRUE),"") -> Kontrola kolize pořadí dítěte v měsíci (roční zúčtovaní) | F85: =_xlfn.IFNA(VLOOKUP(D85,MH!A$2:N$477,7,TRUE),"") -> nepropustná | G85: změna kontroly | H85: změna chyb. hlášky
A86: 45760 | B86: 1.3 | C86: n/a | D86: 242 | E86: =_xlfn.IFNA(VLOOKUP(D86,MH!A$2:N$477,2,TRUE),"") -> Kontrola adekvátních atributů pro výpočet zálohy na daň rezidentů s prohlášením poplatníka daně | F86: =_xlfn.IFNA(VLOOKUP(D86,MH!A$2:N$477,7,TRUE),"") -> nepropustná | G86: změna kontroly | H86: na základě revize FS, vyjádření AK, email komunikace 11.4.2025
A87: 45760 | B87: 1.3 | C87: n/a | D87: 245 | E87: =_xlfn.IFNA(VLOOKUP(D87,MH!A$2:N$477,2,TRUE),"") -> Kontrola adekvátních atributů pro výpočet srážkové daně bez prohlášení poplatníka - srážková daň | F87: =_xlfn.IFNA(VLOOKUP(D87,MH!A$2:N$477,7,TRUE),"") -> nepropustná | G87: změna kontroly | H87: změna chyb. hlášky, na základě revize FS, vyjádření AK, email komunikace 11.4.2025
A88: 45760 | B88: 1.3 | C88: n/a | D88: 251 | E88: =_xlfn.IFNA(VLOOKUP(D88,MH!A$2:N$477,2,TRUE),"") -> Kontrola vícečetnosti stejných IDPPV v součástí individualizovaných částí. | F88: =_xlfn.IFNA(VLOOKUP(D88,MH!A$2:N$477,7,TRUE),"") -> nepropustná | G88: přidání kontroly | H88: iniciováno JMHZ, strukturální kontrola
A89: 45760 | B89: 1.3 | C89: n/a | D89: 253 | E89: =_xlfn.IFNA(VLOOKUP(D89,MH!A$2:N$477,2,TRUE),"") -> Kontrola unikátnosti ID PPV v rámci dílčího podání | F89: =_xlfn.IFNA(VLOOKUP(D89,MH!A$2:N$477,7,TRUE),"") -> nepropustná | G89: přidání kontroly | H89: iniciováno JMHZ, strukturální kontrola
A90: 45761 | B90: 1.3 | C90: n/a | D90: 250 | E90: =_xlfn.IFNA(VLOOKUP(D90,MH!A$2:N$477,2,TRUE),"") -> Kontrola vyplnění dat souhrnné vrstvy za zaměstnance jen pro primární pracovněprávní vztah zaměstnance | F90: =_xlfn.IFNA(VLOOKUP(D90,MH!A$2:N$477,7,TRUE),"") -> nepropustná | G90: přidání kontroly | H90: iniciováno JMHZ, strukturální kontrola
A91: 45763 | B91: 1.3 | C91: n/a | D91: 209 | E91: =_xlfn.IFNA(VLOOKUP(D91,MH!A$2:N$477,2,TRUE),"") -> Úhrn slev na pojistném zaměstnanců | F91: =_xlfn.IFNA(VLOOKUP(D91,MH!A$2:N$477,7,TRUE),"") -> nepropustná | G91: změna kontroly | H91: formalita, oprava atributů
A92: 45763 | B92: 1.3 | C92: n/a | D92: 242 | E92: =_xlfn.IFNA(VLOOKUP(D92,MH!A$2:N$477,2,TRUE),"") -> Kontrola adekvátních atributů pro výpočet zálohy na daň rezidentů s prohlášením poplatníka daně | F92: =_xlfn.IFNA(VLOOKUP(D92,MH!A$2:N$477,7,TRUE),"") -> nepropustná | G92: změna kontroly | H92: změna chyb. hlášky, na základě revize FS, vyjádření AK, email komunikace 11.4.2025
A93: 45763 | B93: 1.3 | C93: n/a | D93: 244 | E93: =_xlfn.IFNA(VLOOKUP(D93,MH!A$2:N$477,2,TRUE),"") -> Kontrola neuplatnění daňových slev a zvýhodnění rezidentů bez prohlášení poplatníka | F93: =_xlfn.IFNA(VLOOKUP(D93,MH!A$2:N$477,7,TRUE),"") -> nepropustná | G93: změna kontroly | H93: změna chyb. hlášky, na základě revize FS, vyjádření AK, email komunikace 11.4.2025
A94: 45763 | B94: 1.3 | C94: n/a | D94: 246 | E94: =_xlfn.IFNA(VLOOKUP(D94,MH!A$2:N$477,2,TRUE),"") -> Kontrola adekvátních atributů pro výpočet srážkové daně bez prohlášení poplatníka - srážková daň | F94: =_xlfn.IFNA(VLOOKUP(D94,MH!A$2:N$477,7,TRUE),"") -> nepropustná | G94: změna kontroly | H94: změna chyb. hlášky, na základě revize FS, vyjádření AK, email komunikace 11.4.2025
A95: 45763 | B95: 1.3 | C95: n/a | D95: 248 | E95: =_xlfn.IFNA(VLOOKUP(D95,MH!A$2:N$477,2,TRUE),"") -> Kontrola vyplnění dat souhrnné vrstvy za zaměstnance jen pro primární pracovněprávní vztah zaměstnance | F95: DIS | G95: změna kontroly | H95: změna chyb. hlášky, na základě revize FS, vyjádření AK, email komunikace 11.4.2025
A96: 45764 | B96: 1.3 | C96: n/a | D96: 147 | E96: Finanční úřad | F96: DIS | G96: odstranění kontroly | H96: změna typu hlášení, na základě revize FS, vyjádření AK, email komunikace 11.4.2025
A97: 45764 | B97: 1.3 | C97: n/a | D97: 148 | E97: =_xlfn.IFNA(VLOOKUP(D97,MH!A$2:N$477,2,TRUE),"") -> Specifická právní skutečnost | F97: =_xlfn.IFNA(VLOOKUP(D97,MH!A$2:N$477,7,TRUE),"") -> nepropustná | G97: změna kontroly | H97: změna na původní hodnoty, revize JHMZ / JD
A98: 45771 | B98: 1.4 final | C98: n/a | D98: 163 | E98: Kontrola Úhrn vyměřovacích základů zaměstnanců, za které zaměstnavatele uplatňuje slevu na pojistném zaměstnavatele | F98: cJMHZ | G98: odstranění kontroly | H98: duplicita s 207
A99: 45772 | B99: 1.4 final | C99: n/a | D99: 210 | E99: Úhrn vyměřovacích základů zaměstnanců, kteří mají nárok na slevu na pojistném zaměstnance | F99: cJMHZ | G99: odstranění kontroly | H99: duplicita s 213
A100: 45776 | B100: 1.4 final | C100: n/a | D100: 224 | E100: Chybějící dílčí podání | F100: cJMHZ | G100: odstranění kontroly | H100: 29.4.2025 - Soukup Hrušková / Myslivcová / Kalinič us
...

Sheet Kategorie kontrol
A1: PODÁNÍ
A2: Typ kontroly | B2: Zákon o JMHZ | C2: Pořadí | D2: Kategorie kontroly | E2: Komponenta realizující kontrolu | F2: Příklady kategorie kontrol | G2: Zdroj kontrol | H2: Předpoklad
A3: technická | B3: § 9 zákona o JMHZ - Technická vada podání | C3: 1 | D3: Zpráva byla předána přes správné rozhraní | E3: IKR | F3: Registrace ZEC není podána rozhraním pro MĚS HLA | G3: Zákon o JMHZ § 8 | H3: Přijetí podání (v případě nesplnění je odmítnuto celé podání - neúčinné podání)
C4: 2 | D4: Kontrola platnosti elektronického podpisu | E4: DIS | F4: Kontrola šifrovacího certifikátu a podpisového certifikátu | G4: Technický popis podání
C5: 3 | D5: Kontrola autentizace + autorizace | E5: DIS, MIP | F5: Kontrola na mandatní registr | G5: Technický popis podání
C6: 4 | D6: Kontrola XML proti XSD (kontrola čitelnosti) - zjednodušené XSD | E6: DIS | F6: Kontrola XML proti XSD - jestli obsahuje všechny tagy a je čitelné XML | G6: XSD
C7: 5 | D7: Strukturální kontroly | E7: DIS, cJMHZ | F7: 1. DP obsahuje povinné části
C8: 6 | D8: Kontrola období podání (metadata) | E8: DIS | F8: Podání může být podáno nejdříve 1. následujícího měsíce, za který je podáváno | G8: Technický popis podání
C9: 7 | D9: Velikost zprávy | E9: DIS | F9: limit 1500 formulářů na dílčí podání | G9: Definice omezení dle IT ČSSZ
C10: 8 | D10: Duplicita zprávy | E10: DIS | F10: Totožné dílčí podání (se stejným obsahem)
C11: 9 | D11: Kontroly (technické) na cJMHZ | E11: cJMHZ | F11: Duplicita GUID, podání obsahuje všechny validní části, vyplněné totožné datum podání
C12: 10 | D12: Posouzení ne/účinnosti podání | E12: cJMHZ | F12: Zamítnutí celého podání (všech dílčích podání) na základě neúčinnosti alespoň 1 dílčího podání
D13: metodický pokyn - technická vada v dílčím podání, cJMHZ pošle protokol o neúčinnosti celého podání (stejný GUID u 1 VS, za 1 období), zavedení message do Kafky o neúčinnosti 1 dílčího podání (platí i pro 1 DP)
A14: formální | B14: § 10 zákona o JMHZ - Formální vada podání | C14: 1 | D14: Kontroly dílčích formulářů dle XSD na povinnosti, formát dat, omezení datového typu, kontrola na použití dle číselníku. | E14: DIS | F14: RČ jen 9 nebo 10 znaků, nejčastěji je používán limit 255 znaků, RČ a IK MPSV - kontrola na modulo 11, datum ve formátu DD/MM/RRRR, kontrola na číselníkové hodnoty - například pohlaví počítáno z RČ proti číselníku pohlaví | G14: datový slovník, excel interakce, implementačně XSD | H14: Parsování na jednotlivé formuláře (v případě nesplnění je odmítnut formulář nebo PVPOJ; je umožněno částečné přijetí); ČSSZ vyhodnocuje jako nepropustnou chybu (pro všechny uživatele), pro FS vyhodnoceno jako propustná chyba - pokud se chyba týká jen údajů, které FS nekonzumuje.
C15: 2 | D15: Kontrola na ne/ztotožněnou osobu. | E15: DIS | F15: Kontrola OIČ na kmenové evidence a konflikty na ztotožnění | G15: definice aplikačních kontrol - excel
C16: 3 | D16: Kontrola na duplicitu formulářů v rámci jednoho podání. | E16: DIS | F16: Duplicitní podání stejného ZEC a ID PPV | G16: definice aplikačních kontrol - excel
C17: 4 | D17: Všechny ostatní aplikační kontroly nad daty formulářů realizované v DIS. | E17: DIS | F17: Např. uhrnVymerovacichZakladu <=uhrnVymerovacichZakladuBezni +uhrnVymerovacichZakladuZachranari. | G17: definice aplikačních kontrol - excel
C18: 5 | D18: Kontroly daného podání proti datům v bázi cJMHZ realizované v cJMHZ. | E18: cJMHZ | F18: Kontrola podání vůči KE ZAM - počet součástí za období | G18: definice aplikačních kontrol - excel
A27: Legenda: | B27: ZEL | C27: zaměstnavatel
B28: ZEC | C28: zaměstnanec
B29: MĚS HLA | C29: jednotné měsíční hlášení

Sheet Popis propustnosti
B2: vstupy dat | C2: webový prohlížeč | D2: APEP, ISDS
C3: e-Portál | D3: DIS | E3: cJHMZ
B4: NEPROPUSTNÁ | C4: ano | D4: ano | E4: ano
B5: PROPUSTNÁ | C5: ano | D5: ne | E5: ano
B7: Pojem | C7: Vysvětlení | E7: Následek | F7: Další postup | G7: Konzumace
B8: Kanál pro vykonávání kontroly | C8: ePortál, DIS, cJMHZ
B9: Typ kontroly | C9: Nepropustná, propustná
B10: Částečné přijetí | C10: Podání je přijato v částech, které jsou bezvadné.
B11: Nepropustná kontrola | C11: Nepropustná kontrola je kontrola na technické nebo formální vady (s výjimkou méně závažných), které způsobí následek v podobě neúčinnosti podání, jeho části nebo součásti. | E11: 1) v případě formální vady, dojde k zamítnutí části nebo součásti podání - částečné přijetí. 2) v případě technické vady nebo v případě vady všech částech podání, dojde k zamítnutí celého podání. | F11: Výzva k podání opravného ohlášení (§13 návrhu zákona o JMHZ). | G11: Tato nevalidní data nebudou standardně zpřístupněna uživatelům údajů. Pokud budou vady v jiných atributech než pro FS, budou po první automatizované výzvě zpřístupněna uživatelům údajů FS (pouze pro uživatele údajů FS).
B12: Propustná kontrola | C12: Propustná kontrola je kontrola na méně závažné vady podání, které nezpůsobí následek v podobě neúčinnosti podání. | E12: Nezpůsobuje neúčinnost části nebo součásti podání. | F12: Bez výzvy na zaměstnavatele. | G12: Tato nevalidní data budou poskytnuta uživatelům údajů bezodkladně po jejich přijetí (s informací, že se jedná o propustnou vadu).

Sheet temp3
A1: verze | G1: ANO | H1: Pozitivní
A2: 1.4.0 | G2: NE | H2: Negativní
A3: 1.4.0.1
A4: 1.4.1
A5: 1.4.1.1
A6: 1.4.1.2
A7: 1.4.1.2.1
A8: 1.4.1.3
A9: 1.4.1.4
A10: 1.4.1.5
A11: draft
A12: smazáno
